BEGIN:VCALENDAR
VERSION:2.0
PRODID:-//福岡のライブハウス BEAT STATION - ECPv6.10.3//NONSGML v1.0//EN
CALSCALE:GREGORIAN
METHOD:PUBLISH
X-WR-CALNAME:福岡のライブハウス BEAT STATION
X-ORIGINAL-URL:https://beats.stars.ne.jp
X-WR-CALDESC:福岡のライブハウス BEAT STATION のイベント
REFRESH-INTERVAL;VALUE=DURATION:PT1H
X-Robots-Tag:noindex
X-PUBLISHED-TTL:PT1H
BEGIN:VTIMEZONE
TZID:Asia/Tokyo
BEGIN:STANDARD
TZOFFSETFROM:+0900
TZOFFSETTO:+0900
TZNAME:JST
DTSTART:20210101T000000
END:STANDARD
END:VTIMEZONE
BEGIN:VEVENT
DTSTART;VALUE=DATE:20211202
DTEND;VALUE=DATE:20211203
DTSTAMP:20260420T071334
CREATED:20210918T025512Z
LAST-MODIFIED:20211128T020626Z
UID:4300-1638403200-1638489599@beats.stars.ne.jp
SUMMARY:SOLIDEMO LIVE TOUR
DESCRIPTION:SOLIDEMO \n  \n 
URL:https://beats.stars.ne.jp/schedule/solidemo-live-tour
LOCATION:BEAT STATION\, 福岡市中央区渡辺通4-11-4\, 〒810-0004
CATEGORIES:トップ画面に表示する
END:VEVENT
BEGIN:VEVENT
DTSTART;VALUE=DATE:20211128
DTEND;VALUE=DATE:20211129
DTSTAMP:20260420T071334
CREATED:20211003T073939Z
LAST-MODIFIED:20211003T073939Z
UID:4359-1638057600-1638143999@beats.stars.ne.jp
SUMMARY:忘れたくないワンマンツアー "Life goes on"
DESCRIPTION:reGretGirl \n  \nチケット一般発売 \n10/2 10:00 〜
URL:https://beats.stars.ne.jp/schedule/%e5%bf%98%e3%82%8c%e3%81%9f%e3%81%8f%e3%81%aa%e3%81%84%e3%83%af%e3%83%b3%e3%83%9e%e3%83%b3%e3%83%84%e3%82%a2%e3%83%bc-life-goes-on
LOCATION:BEAT STATION\, 福岡市中央区渡辺通4-11-4\, 〒810-0004
CATEGORIES:トップ画面に表示する
END:VEVENT
BEGIN:VEVENT
DTSTART;VALUE=DATE:20211127
DTEND;VALUE=DATE:20211128
DTSTAMP:20260420T071334
CREATED:20210815T093005Z
LAST-MODIFIED:20210819T065841Z
UID:4132-1637971200-1638057599@beats.stars.ne.jp
SUMMARY:Tour 2021 “Antiphase Of The Moon”
DESCRIPTION:D.A.N.\n \n \n\nD.A.N.公演へのチケットのお申込み及びご来場頂くに当たり、下記ご案内事項のご確認とご理解を宜しくお願い致します。 \n【チケットのお申込みに関して】 \n・未就学児童⼊場不可、⼩学⽣以上チケット必要となります。 \n・チケット購⼊時に同⾏者様含め、感染予防対策の為 個⼈情報の⼊⼒を⾏って頂きます。購⼊時では同⾏者様の情報を可能な限り分かる範囲でご記⼊お願い致します。 \n・万全の感染症対策を取り開催させて頂きますが、会場にて感染者が確認された場合には感染予防対策の為、購⼊時に頂いた個⼈情報を保健所・その他関連機関に情報を提供させて頂く場合がございます。ご提供頂いた情報は公演後1ヶ⽉保管させて頂き、保管期間終了後は破棄致します。この⽬的以外では⼀切使⽤致しません。 \n・各公演時期の状況や各開催エリアの⽅針により、当⽇にご来場されるお客様の個⼈情報を専⽤フォームを使⽤しご登録頂く場合がございます。その際は事前にD.A.N.オフィシャルサイト、各地コンサートプロモータサイト上にてご案内させて頂きます。あらかじめご了承下さい。 \n【ご来場者様に関して】 \n・当⽇は会場内含めマスクの着⽤をお願い致します。着⽤されていない⽅は⼊場をお断りいたします。 \n・お客様同⼠の安全な距離を確保するため、 通常よりも少ないキャパシティで開催いたします。今後会場キャパシティの緩和が施⾏された場合、チケットの追加販売を⾏う可能性があります。 \n・公演実施が不可能な場合はチケットの払い戻しを⾏いますが、公演が実施されている状況で、ご来場を辞退、もしくはご来場ができない状態であっても払い戻しは対応いたしかねます。 \n・感染拡⼤防⽌への協⼒の為、厚⽣労働省が提供する新型コロナウィルス接触確認⽤アプリCOCOA システムの登録を推奨致します。 \n【⼊場に関して】 \n・⼊場時、検温を実施いたします（37.5℃以上の⽅は別途再検温、再度37.5 度以上の場合はご⼊場をお断りする場合がございます。） \n・発熱・咳・全⾝痛などの症状がある場合、または過去2 週間以内に感染拡⼤している国・地域での滞在歴、渡航歴がある⽅は⾃主的に当公演への参加をご辞退お願いいたします。 \n・新型コロナウイルス感染症の陽性と判明した⽅との濃厚接触がある⽅、同居家族や⾝近な知⼈の感染が疑われる⽅、過去14⽇以内に政府から⼊国制限、⼊国後の観察期間を必要とされている国・地域等への渡航及び当該国・地域の在住者との濃厚接触がある⽅は⾃主的に当イベントへの参加をご辞退お願いいたします。 \n【公演に関して】 \n・場内における⼤声での発声、会話、お⼿洗いの際以外の不要な移動、過度な飲酒などお控えいただきます。 \n・会場内に設置されたアルコール消毒液で⼿指の消毒をお願いいたします。 \n・上記ルールを守れない場合、ご退出をお願いする場合がございます。 \n以上、皆様のご理解とご協⼒をお願い致します。 \n\n \n \nチケット一般発売\n2021年9月17日 20:00\n \n \n 
URL:https://beats.stars.ne.jp/schedule/tour-2021-antiphase-of-the-moon
LOCATION:BEAT STATION\, 福岡市中央区渡辺通4-11-4\, 〒810-0004
END:VEVENT
BEGIN:VEVENT
DTSTART;VALUE=DATE:20211126
DTEND;VALUE=DATE:20211127
DTSTAMP:20260420T071334
CREATED:20210830T114935Z
LAST-MODIFIED:20211110T035211Z
UID:4212-1637884800-1637971199@beats.stars.ne.jp
SUMMARY:HARVEST  2021
DESCRIPTION:八王子少年 \nmiyake\nビーグルクルー\nFUMA\n横川翔\nYURICORN\n星屑ロンリネス\nALLI\nTHERAD514 \nevent host\nKAZRU\n\nチケットはこちらから\nhttps://tiget.net/events/142979 \n配信チケットはこちらから\n¥2\,200\nhttps://twitcasting.tv/c:farlightmusic/shopcart/94859
URL:https://beats.stars.ne.jp/schedule/harvest-2021-2
LOCATION:BEAT STATION\, 福岡市中央区渡辺通4-11-4\, 〒810-0004
CATEGORIES:トップ画面に表示する
END:VEVENT
BEGIN:VEVENT
DTSTART;VALUE=DATE:20211123
DTEND;VALUE=DATE:20211124
DTSTAMP:20260420T071334
CREATED:20210921T045131Z
LAST-MODIFIED:20210921T045131Z
UID:4310-1637625600-1637711999@beats.stars.ne.jp
SUMMARY:クレナズム ワンマンツアー 2021 〜本州を通りもん〜
DESCRIPTION:クレナズム
URL:https://beats.stars.ne.jp/schedule/%e3%82%af%e3%83%ac%e3%83%8a%e3%82%ba%e3%83%a0-%e3%83%af%e3%83%b3%e3%83%9e%e3%83%b3%e3%83%84%e3%82%a2%e3%83%bc-2021-%e3%80%9c%e6%9c%ac%e5%b7%9e%e3%82%92%e9%80%9a%e3%82%8a%e3%82%82%e3%82%93%e3%80%9c
LOCATION:BEAT STATION\, 福岡市中央区渡辺通4-11-4\, 〒810-0004
CATEGORIES:トップ画面に表示する
END:VEVENT
BEGIN:VEVENT
DTSTART;VALUE=DATE:20211122
DTEND;VALUE=DATE:20211123
DTSTAMP:20260420T071334
CREATED:20210727T061359Z
LAST-MODIFIED:20211121T130823Z
UID:4071-1637539200-1637625599@beats.stars.ne.jp
SUMMARY:自由字架ツアー2021
DESCRIPTION:大森 靖子+sugarbeans+riko \n  \nチケット一般発売 8/28 10:00
URL:https://beats.stars.ne.jp/schedule/%e8%87%aa%e7%94%b1%e5%ad%97%e6%9e%b6%e3%83%84%e3%82%a2%e3%83%bc2021
LOCATION:BEAT STATION\, 福岡市中央区渡辺通4-11-4\, 〒810-0004
CATEGORIES:トップ画面に表示する
END:VEVENT
BEGIN:VEVENT
DTSTART;VALUE=DATE:20211121
DTEND;VALUE=DATE:20211122
DTSTAMP:20260420T071334
CREATED:20210815T091204Z
LAST-MODIFIED:20211024T071302Z
UID:4126-1637452800-1637539199@beats.stars.ne.jp
SUMMARY:秋のグーパンまつり 2021 & 1st Full Album Release LIVE TOUR「アンメジャラブル」
DESCRIPTION:ハンブレッダーズ \n\nオレンジスパイニクラブ 
URL:https://beats.stars.ne.jp/schedule/%e7%a7%8b%e3%81%ae%e3%82%b0%e3%83%bc%e3%83%91%e3%83%b3%e3%81%be%e3%81%a4%e3%82%8a%e3%80%802021
LOCATION:BEAT STATION\, 福岡市中央区渡辺通4-11-4\, 〒810-0004
CATEGORIES:トップ画面に表示する
END:VEVENT
BEGIN:VEVENT
DTSTART;VALUE=DATE:20211120
DTEND;VALUE=DATE:20211121
DTSTAMP:20260420T071334
CREATED:20210901T121539Z
LAST-MODIFIED:20210901T121539Z
UID:4244-1637366400-1637452799@beats.stars.ne.jp
SUMMARY:M@ru presents CROSSROCKS vol.46 ver.Anime song
DESCRIPTION: \nJAMaru project\n#include_ansatz\nPLiSHED RiCE\nh’s\nヲタライブ\n \n 
URL:https://beats.stars.ne.jp/schedule/mru-presents-crossrocks-vol-46-ver-anime-song
LOCATION:BEAT STATION\, 福岡市中央区渡辺通4-11-4\, 〒810-0004
CATEGORIES:トップ画面に表示する
END:VEVENT
BEGIN:VEVENT
DTSTART;VALUE=DATE:20211119
DTEND;VALUE=DATE:20211120
DTSTAMP:20260420T071334
CREATED:20210920T002826Z
LAST-MODIFIED:20211114T105134Z
UID:4306-1637280000-1637366399@beats.stars.ne.jp
SUMMARY:青春☆ワンダーランド in 福岡vol\,9 前夜祭
DESCRIPTION:青SHUN学園\nちーむM\nTeamくれれっ娘！\nパピロジェ\n福岡7区ガールズ\nくるーず〜CRUiSE!〜\nS☆UTHERN CROSS\nQunQun\n浅草RainboWブリッジ\nアイドルカレッジ \nチケットはライブポケットにて事前支払い予約\n https://t.livepocket.jp/e/1119_1 \n \n 
URL:https://beats.stars.ne.jp/schedule/%e9%9d%92%e6%98%a5%e2%98%86%e3%83%af%e3%83%b3%e3%83%80%e3%83%bc%e3%83%a9%e3%83%b3%e3%83%89-in-%e7%a6%8f%e5%b2%a1vol9-%e5%89%8d%e5%a4%9c%e7%a5%ad
LOCATION:BEAT STATION\, 福岡市中央区渡辺通4-11-4\, 〒810-0004
CATEGORIES:トップ画面に表示する
END:VEVENT
BEGIN:VEVENT
DTSTART;VALUE=DATE:20211116
DTEND;VALUE=DATE:20211117
DTSTAMP:20260420T071334
CREATED:20210815T090713Z
LAST-MODIFIED:20211113T030313Z
UID:4124-1637020800-1637107199@beats.stars.ne.jp
SUMMARY:キタニタツヤ One Man Tour “聖者の行進”
DESCRIPTION:キタニタツヤ\n \n \n 
URL:https://beats.stars.ne.jp/schedule/%e3%82%ad%e3%82%bf%e3%83%8b%e3%82%bf%e3%83%84%e3%83%a4-one-man-tour-%e8%81%96%e8%80%85%e3%81%ae%e8%a1%8c%e9%80%b2
LOCATION:BEAT STATION\, 福岡市中央区渡辺通4-11-4\, 〒810-0004
END:VEVENT
BEGIN:VEVENT
DTSTART;VALUE=DATE:20211114
DTEND;VALUE=DATE:20211115
DTSTAMP:20260420T071334
CREATED:20210815T090202Z
LAST-MODIFIED:20211105T050416Z
UID:4121-1636848000-1636934399@beats.stars.ne.jp
SUMMARY:Lucky Kilimanjaro presents. TOUR “21 Dancers”
DESCRIPTION:Lucky Kilimanjaro \n\n \n 
URL:https://beats.stars.ne.jp/schedule/lucky-kilimanjaro-presents-tour-21-dancers
LOCATION:BEAT STATION\, 福岡市中央区渡辺通4-11-4\, 〒810-0004
CATEGORIES:トップ画面に表示する
END:VEVENT
BEGIN:VEVENT
DTSTART;VALUE=DATE:20211111
DTEND;VALUE=DATE:20211112
DTSTAMP:20260420T071334
CREATED:20210924T065926Z
LAST-MODIFIED:20210924T065926Z
UID:4333-1636588800-1636675199@beats.stars.ne.jp
SUMMARY:「さくらしめじの秋ツアー〜シイノトモシビ〜」
DESCRIPTION:さくらしめじ \n  \n・イープラス　https://eplus.jp/sakurashimeji/ \n・チケットぴあ　https://w.pia.jp/t/sakurashimeji-tour/ \n・ローソンチケット　https://l-tike.com/sakurashimeji/ \n 
URL:https://beats.stars.ne.jp/schedule/%e3%80%8c%e3%81%95%e3%81%8f%e3%82%89%e3%81%97%e3%82%81%e3%81%98%e3%81%ae%e7%a7%8b%e3%83%84%e3%82%a2%e3%83%bc%e3%80%9c%e3%82%b7%e3%82%a4%e3%83%8e%e3%83%88%e3%83%a2%e3%82%b7%e3%83%93%e3%80%9c%e3%80%8d-2
LOCATION:BEAT STATION\, 福岡市中央区渡辺通4-11-4\, 〒810-0004
END:VEVENT
BEGIN:VEVENT
DTSTART;VALUE=DATE:20211110
DTEND;VALUE=DATE:20211111
DTSTAMP:20260420T071334
CREATED:20210924T065757Z
LAST-MODIFIED:20210924T065757Z
UID:4331-1636502400-1636588799@beats.stars.ne.jp
SUMMARY:「さくらしめじの秋ツアー〜シイノトモシビ〜」
DESCRIPTION:さくらしめじ \n  \n・イープラス　https://eplus.jp/sakurashimeji/ \n・チケットぴあ　https://w.pia.jp/t/sakurashimeji-tour/ \n・ローソンチケット　https://l-tike.com/sakurashimeji/ \n 
URL:https://beats.stars.ne.jp/schedule/%e3%80%8c%e3%81%95%e3%81%8f%e3%82%89%e3%81%97%e3%82%81%e3%81%98%e3%81%ae%e7%a7%8b%e3%83%84%e3%82%a2%e3%83%bc%e3%80%9c%e3%82%b7%e3%82%a4%e3%83%8e%e3%83%88%e3%83%a2%e3%82%b7%e3%83%93%e3%80%9c%e3%80%8d
LOCATION:BEAT STATION\, 福岡市中央区渡辺通4-11-4\, 〒810-0004
END:VEVENT
BEGIN:VEVENT
DTSTART;VALUE=DATE:20211109
DTEND;VALUE=DATE:20211110
DTSTAMP:20260420T071334
CREATED:20210703T092421Z
LAST-MODIFIED:20210824T015727Z
UID:3991-1636416000-1636502399@beats.stars.ne.jp
SUMMARY:CHAGE&ASKA 完全コピーバンドconcert 2021 THE “ STAGE” day2
DESCRIPTION:CHAGE&ASKA 完全コピーバンド
URL:https://beats.stars.ne.jp/schedule/chageaska-%e5%ae%8c%e5%85%a8%e3%82%b3%e3%83%94%e3%83%bc%e3%83%90%e3%83%b3%e3%83%89concert-2021-day2
LOCATION:BEAT STATION\, 福岡市中央区渡辺通4-11-4\, 〒810-0004
CATEGORIES:トップ画面に表示する
END:VEVENT
BEGIN:VEVENT
DTSTART;VALUE=DATE:20211108
DTEND;VALUE=DATE:20211109
DTSTAMP:20260420T071334
CREATED:20210703T092319Z
LAST-MODIFIED:20210824T015708Z
UID:3988-1636329600-1636415999@beats.stars.ne.jp
SUMMARY:CHAGE&ASKA 完全コピーバンドconcert 2021 THE “ STAGE” day1
DESCRIPTION:CHAGE&ASKA 完全コピーバンド
URL:https://beats.stars.ne.jp/schedule/chageaska-%e5%ae%8c%e5%85%a8%e3%82%b3%e3%83%94%e3%83%bc%e3%83%90%e3%83%b3%e3%83%89concert-2021-day1
LOCATION:BEAT STATION\, 福岡市中央区渡辺通4-11-4\, 〒810-0004
CATEGORIES:トップ画面に表示する
END:VEVENT
BEGIN:VEVENT
DTSTART;VALUE=DATE:20211107
DTEND;VALUE=DATE:20211108
DTSTAMP:20260420T071334
CREATED:20210815T091629Z
LAST-MODIFIED:20210815T091629Z
UID:4128-1636243200-1636329599@beats.stars.ne.jp
SUMMARY:Tour 2021 “From the C”
DESCRIPTION:SPiCYSOL\n \n \n 
URL:https://beats.stars.ne.jp/schedule/tour-2021-from-the-c
LOCATION:BEAT STATION\, 福岡市中央区渡辺通4-11-4\, 〒810-0004
END:VEVENT
BEGIN:VEVENT
DTSTART;VALUE=DATE:20211105
DTEND;VALUE=DATE:20211106
DTSTAMP:20260420T071334
CREATED:20211001T082717Z
LAST-MODIFIED:20211001T082717Z
UID:4351-1636070400-1636156799@beats.stars.ne.jp
SUMMARY:2021 Akira-Evolution  「Ghetto Machine Tour」
DESCRIPTION:Buddha Rock 再演！ \n第4期 LOUDNESSにフォーカスしたROCKツアー！ \ng 高崎晃\nvo RAY\nb 山本征史 　\nds 礒田良雄 \n10月2日10:00より発売。 \n  \n※VIP特典\n⚪︎前列VIPエリア観戦。\n⚪︎メンバー直筆サイン色紙。\n⚪︎AE特製マスク。\n⚪︎高崎晃サイン入りブロマイド\n⚪︎Killer ギターピック \n　\n公演当日会場におきまして各自治体の規則を元にコロナ対策万全での開催となります。皆様方にはご不自由おかけするところもあるかと思いますがご協力のほど宜しくお願い致します。
URL:https://beats.stars.ne.jp/schedule/2021-akira-evolution-%e3%80%8cghetto-machine-tour%e3%80%8d
LOCATION:BEAT STATION\, 福岡市中央区渡辺通4-11-4\, 〒810-0004
END:VEVENT
BEGIN:VEVENT
DTSTART;VALUE=DATE:20211104
DTEND;VALUE=DATE:20211105
DTSTAMP:20260420T071334
CREATED:20210815T092307Z
LAST-MODIFIED:20211104T052810Z
UID:4130-1635984000-1636070399@beats.stars.ne.jp
SUMMARY:「血を嫌い肉を好むTOUR」
DESCRIPTION:ドミコ\n \n \n \n \n \n \n 
URL:https://beats.stars.ne.jp/schedule/%e3%80%8c%e8%82%89%e3%82%92%e5%ab%8c%e3%81%84%e8%82%89%e3%82%92%e5%a5%bd%e3%82%80tour%e3%80%8d
LOCATION:BEAT STATION\, 福岡市中央区渡辺通4-11-4\, 〒810-0004
CATEGORIES:トップ画面に表示する
END:VEVENT
BEGIN:VEVENT
DTSTART;VALUE=DATE:20211103
DTEND;VALUE=DATE:20211104
DTSTAMP:20260420T071334
CREATED:20210806T032912Z
LAST-MODIFIED:20211001T061528Z
UID:4086-1635897600-1635983999@beats.stars.ne.jp
SUMMARY:佐藤千亜妃 ”KOE” Release Tour 2021 「かたちないもの」
DESCRIPTION:佐藤千亜妃 \nチケット一般発売 10月2日(土)10:00〜 \n  \n本公演は新型コロナウイルス感染防止ガイドラインに基づき開催いたします \n音楽コンサートに於ける新型コロナウイルス感染拡大防止ガイドラインに基づき、収容人数に制限を設け、公演を開催いたします。\n また、下記のガイドラインにご協力いただくことにご同意いただいた方を対象に、チケットのお申し込みを受付させていただきますことをご了承ください。 \n\n チケットご購入前に必ずお読みください \n■チケットの払い戻しは出来ません（公演延期・中止・無観客公演となった場合を除く）\n 下記に該当される方はご入場いただけないとともに、払い戻しにはご対応いたしかねます。\n ・37.5℃以上の発熱のある方\n ・のどの痛み、頭痛、関節痛、息苦しさ、息の吸いづらさ、咳、下痢、結膜炎症状、味覚障害などの症状をお持ちの方\n ・新型コロナウイルス感染症陽性とされた方との濃厚接触がある方や、同居のご家族や身近な知人に感染が疑われる方がいらっしゃる方\n ・公演日より14日前まで政府から入国制限、入国後の観察期間を必要とされている国・地域への渡航のある方、ならびに該当国の在住者との濃厚接触がある方\n ・感染防止のための措置や指示に従えない方、感染防止を意識した行動にご協力いただけない方、安全確保の妨げになると判断した方はご入場をお断りいたします\n ・また、公演途中にこのような行為が発覚した場合は途中退場いただきます \n■会場内ではマスクの着用をお願いします\n 会場内は常にマスクの着用をお願いいたします。また、入場の待機中など会場敷地内でもマスクの着用は必須とさせていただきます。ご協力いただけない場合、ご入場をお断りいたします。 \n■ご入場時に検温を実施いたします\n ご入場時、全ての方に検温を実施させていただきます。37.5℃以上の発熱がある方、検温を拒否された方はご入場をお断りいたします。検温の際、飲酒をされている場合は正しく計測できない可能性がございますので、飲酒はせずにご来場いただきますようお願い申し上げます。 \n■声を出しての鑑賞はご遠慮いただきます\n 公演中、声を発することや指笛等を禁止させていただきます。拍手や手拍子、手をあげるなどは問題ございません。また、公演中以外でも会場内での会話や発声はお控えください。 \n■「来場者情報」登録が必須となります\n ご来場いただく全ての方の情報取得のため、「来場者情報」登録が必須となります。登録方法等は公演1週間前を目処に各地公演主催者よりご案内させていただきます。 \n■収容人数は各自治体のガイドラインに従い定めさせていただきます\n 各公演の収容人数は、会場、自治体、主催者協議のもと、収容人数に制限を設けさせていただきます。ご鑑賞の際、ご自身の「指定座席」ならびに「立ち位置」の範囲内にてお楽しみください。 \n■その他\n ・厚生労働省推奨「新型コロナウイルス接触確認アプリ COCOA」ならびに各自治体推奨アプリのインストールのご協力をお願いいたします。\n ・ご入場の際、お席の配列・番号ごとに「集合時間」を設定させていただく場合がございますのでご協力をお願いいたします。\n ・メンバーへのプレゼント、差し入れ、お手紙、花束やスタンド花は辞退させていただきます。また、会場でのメンバーの入り、出待ちなどもご遠慮ください。\n ・ご来場いただく方の個人情報は一定期間、主催者にて厳重に管理し、万が一、感染者が発生した場合の感染経路追跡のための利用、必要に応じた保健所等の公的機関への提出以外、他の目的では利用いたしません。
URL:https://beats.stars.ne.jp/schedule/%e4%bd%90%e8%97%a4%e5%8d%83%e4%ba%9c%e5%a6%83-koe-release-tour-2021-%e3%80%8c%e3%81%8b%e3%81%9f%e3%81%a1%e3%81%aa%e3%81%84%e3%82%82%e3%81%ae%e3%80%8d
LOCATION:BEAT STATION\, 福岡市中央区渡辺通4-11-4\, 〒810-0004
CATEGORIES:トップ画面に表示する
END:VEVENT
BEGIN:VEVENT
DTSTART;VALUE=DATE:20211102
DTEND;VALUE=DATE:20211103
DTSTAMP:20260420T071334
CREATED:20210917T100048Z
LAST-MODIFIED:20210917T100048Z
UID:4297-1635811200-1635897599@beats.stars.ne.jp
SUMMARY:ADAM at 「Daylight Release Tour 2021-2022」
DESCRIPTION:ADAM at\n\n \n 
URL:https://beats.stars.ne.jp/schedule/adam-at-%e3%80%8cdaylight-release-tour-2021-2022%e3%80%8d
LOCATION:BEAT STATION\, 福岡市中央区渡辺通4-11-4\, 〒810-0004
END:VEVENT
BEGIN:VEVENT
DTSTART;VALUE=DATE:20211031
DTEND;VALUE=DATE:20211101
DTSTAMP:20260420T071334
CREATED:20211009T083141Z
LAST-MODIFIED:20211030T042036Z
UID:4400-1635638400-1635724799@beats.stars.ne.jp
SUMMARY:「アナフェス福岡mini vol.4 〜ハロウィンSP!!〜」
DESCRIPTION:#フラサービックル\nCODE-L\n ElfinLily\n パピロジェ\n パピマシェ\n AQUAPLANET \n\n 前売チケット：https://t.livepocket.jp/e/fukuoka1031
URL:https://beats.stars.ne.jp/schedule/%e3%80%8c%e3%82%a2%e3%83%8a%e3%83%95%e3%82%a7%e3%82%b9%e7%a6%8f%e5%b2%a1mini-vol-4-%e3%80%9c%e3%83%8f%e3%83%ad%e3%82%a6%e3%82%a3%e3%83%b3sp%e3%80%9c%e3%80%8d
LOCATION:BEAT STATION\, 福岡市中央区渡辺通4-11-4\, 〒810-0004
CATEGORIES:トップ画面に表示する
END:VEVENT
BEGIN:VEVENT
DTSTART;VALUE=DATE:20211031
DTEND;VALUE=DATE:20211101
DTSTAMP:20260420T071334
CREATED:20211009T083000Z
LAST-MODIFIED:20211009T083000Z
UID:4398-1635638400-1635724799@beats.stars.ne.jp
SUMMARY:#フラサービックル 初!!単独公演「目指せ動員100人!!初ワンマンチャレンジ!!」
DESCRIPTION:#フラサービックル \n前売チケット：https://t.livepocket.jp/e/furabi1031
URL:https://beats.stars.ne.jp/schedule/%e3%83%95%e3%83%a9%e3%82%b5%e3%83%bc%e3%83%93%e3%83%83%e3%82%af%e3%83%ab-%e5%88%9d%e5%8d%98%e7%8b%ac%e5%85%ac%e6%bc%94%e3%80%8c%e7%9b%ae%e6%8c%87%e3%81%9b%e5%8b%95%e5%93%a1100%e4%ba%ba%e5%88%9d
LOCATION:BEAT STATION\, 福岡市中央区渡辺通4-11-4\, 〒810-0004
END:VEVENT
BEGIN:VEVENT
DTSTART;VALUE=DATE:20211031
DTEND;VALUE=DATE:20211101
DTSTAMP:20260420T071334
CREATED:20210924T065229Z
LAST-MODIFIED:20211030T041924Z
UID:4327-1635638400-1635724799@beats.stars.ne.jp
SUMMARY:「アナフェス福岡mini vol.3 〜ハロウィンSP!!〜」
DESCRIPTION:#フラサービックル\n COLORLESS\n CODE-L\n ElfinLily\nAQUAPLANET  \n\n 前売チケット：https://t.livepocket.jp/e/fukuoka1031
URL:https://beats.stars.ne.jp/schedule/rent-thanks-40
LOCATION:BEAT STATION\, 福岡市中央区渡辺通4-11-4\, 〒810-0004
CATEGORIES:トップ画面に表示する
END:VEVENT
BEGIN:VEVENT
DTSTART;VALUE=DATE:20211029
DTEND;VALUE=DATE:20211030
DTSTAMP:20260420T071334
CREATED:20210807T000332Z
LAST-MODIFIED:20210807T000332Z
UID:4089-1635465600-1635551999@beats.stars.ne.jp
SUMMARY:「heart heat beat tour 2021」
DESCRIPTION:BIGMAMA 
URL:https://beats.stars.ne.jp/schedule/%e3%80%8cheart-heat-beat-tour-2021%e3%80%8d
LOCATION:BEAT STATION\, 福岡市中央区渡辺通4-11-4\, 〒810-0004
CATEGORIES:トップ画面に表示する
END:VEVENT
BEGIN:VEVENT
DTSTART;VALUE=DATE:20211027
DTEND;VALUE=DATE:20211028
DTSTAMP:20260420T071334
CREATED:20210907T003424Z
LAST-MODIFIED:20211015T040252Z
UID:4273-1635292800-1635379199@beats.stars.ne.jp
SUMMARY:KUZIRA presents. 【Superspin Tour Season3】
DESCRIPTION:KUZIRA \n  \n 
URL:https://beats.stars.ne.jp/schedule/kuzira-presents-%e3%80%90superspin-tour-season3%e3%80%91
LOCATION:BEAT STATION\, 福岡市中央区渡辺通4-11-4\, 〒810-0004
CATEGORIES:トップ画面に表示する
END:VEVENT
BEGIN:VEVENT
DTSTART;VALUE=DATE:20211026
DTEND;VALUE=DATE:20211027
DTSTAMP:20260420T071334
CREATED:20210831T095806Z
LAST-MODIFIED:20210915T054723Z
UID:4233-1635206400-1635292799@beats.stars.ne.jp
SUMMARY:“Universal Language” Release Tour 
DESCRIPTION:jazztronik\n \n \n \nチケット一般発売\n9月18日(土)10:00〜発売開始
URL:https://beats.stars.ne.jp/schedule/universal-language-release-tour
LOCATION:BEAT STATION\, 福岡市中央区渡辺通4-11-4\, 〒810-0004
CATEGORIES:トップ画面に表示する
END:VEVENT
BEGIN:VEVENT
DTSTART;VALUE=DATE:20211024
DTEND;VALUE=DATE:20211025
DTSTAMP:20260420T071334
CREATED:20211019T010938Z
LAST-MODIFIED:20211019T011028Z
UID:4417-1635033600-1635119999@beats.stars.ne.jp
SUMMARY:ElfinLily益子來帝バースデーライブ@福岡
DESCRIPTION:ElfinLily\n husky\n とわる\n 空想モーメントL＋ \nチケットの購入はこちらから\n https://tiget.net/events/150123
URL:https://beats.stars.ne.jp/schedule/elfinlily%e7%9b%8a%e5%ad%90%e4%be%86%e5%b8%9d%e3%83%90%e3%83%bc%e3%82%b9%e3%83%87%e3%83%bc%e3%83%a9%e3%82%a4%e3%83%96%e7%a6%8f%e5%b2%a1
LOCATION:BEAT STATION\, 福岡市中央区渡辺通4-11-4\, 〒810-0004
CATEGORIES:トップ画面に表示する
END:VEVENT
BEGIN:VEVENT
DTSTART;VALUE=DATE:20211024
DTEND;VALUE=DATE:20211025
DTSTAMP:20260420T071334
CREATED:20210306T082157Z
LAST-MODIFIED:20210925T033525Z
UID:3569-1635033600-1635119999@beats.stars.ne.jp
SUMMARY:BURNOUT SYNDROMES TOUR 2021 公演延期
DESCRIPTION:BURNOUT SYNDROMES \nBURNOUT SYNDROMES　『全国ワンマンツアー2021』　再延期日程と払戻し詳細のご案内 \n緊急事態宣言の拡大・延長、全国的に収まらない感染拡大状況の中で、再延期を発表させていただいた「全国ワンマンツアー2021」全公演につきまして、振替日程が決定しましたのでご案内をさせていただきます。 \n現在お持ちのチケットは、そのまま振替公演にご利用頂けます。公演日までお手持ちのチケットを大切に保管くださいますようお願いいたします。残念ながら振替公演にご来場頂けないお客様には、チケットの払い戻しを承ります。つきましては、下記<<払戻方法>>をご確認いただき、受付期間内でのお手続きをお願い致します。 \nご購入先によって払い戻し方法・期間が異なりますので、下記詳細をご確認の上、必ず払い戻し期限までにお手続きをお願いいたします。また、お手元のチケットは払い戻しの際にも必要になりますので、大切に保管くださいますようお願いいたします。 \n本公演を楽しみにお待ちいただいていておりました皆様には、大変ご迷惑をおかけすることを心よりお詫び申し上げますとともに、ご理解賜りますようお願い申し上げます。 \n  \n  \n【振替日程】 \n●福岡公演：FUKUOKA BEAT STATION \n＜元の日程＞２０２１年2月6日（土）→＜延期日程＞２０２１年１０月２４日（日） \n⇒　＜再延期日程＞２０２２年２月４日（金）　開場18:00 開演19:00 \n  \n＊開場/開演に変更が御座います。 \n＊現在お持ちのチケットは、そのまま振替公演にご利用頂けます。公演日までお手持ちのチケットを大切に保管くださいますようお願いいたします。 \n  \n≪重要：コロナウイルス感染症における感染予防・拡大防止対策≫ \n尚、本公演は「音楽コンサートにおける新型コロナウイルス感染予防対策ガイドライン」に基づき、感染予防・拡大防止対策を講じながら万全を期して実施いたします。 \n  \n※会場内ではマスク着用をお願い致します。 \n※ご入場前に手指消毒、検温を実施します。 \n※こまめな手指消毒・咳エチケットの徹底・手洗い励行をお願いします \n※入場前の検温にて発熱(37.5°C以上)、体調不良が認められる方のご入場はお断りさせて頂く場合がございます。 \n※マスクをご着用いただけない方、その他主催者の定めるルールにご協力頂けない場合は、ご入場をお断りさせていただく場合がございます。ご入場後であったとしても、退場いただく場合がございます。その場合、チケット料金の返金は一切出来ません。 \n※チケット購入時もしくは来館時にお名前、ご連絡先を登録していただき、必要に応じて公共機関へ提供させていただく場合がございます。 \n※本公演においてメンバーへのプレゼントはご遠慮させていただきます。 \n※会場での物販は感染対策を講じながら行う予定です \n※公演終了後に退場時混雑緩和のため、退場規制のご案内をさせていただく可能性がございます。 \n※公演時の開催ガイドラインに沿い、当日はスタンディングが席有形式になるなど、座種が変更となる場合がございますので、予めご了承ください。 \n※大阪・東京公演で2F指定席を複数枚ご購入の場合、お隣の席をご用意できない場合がございます。 \n  \n今後の感染状況によって内容変更の可能性もございます。 \nみなさまのご理解、ご協力を賜りますようよろしくお願いいたします。 \n  \n  \n<<払戻方法>> \nご購入いただきました公演・プレイガイドによって手順が異なりますので、ご案内に沿ってお手続きをお願い致します。 \n※払い戻し期間を過ぎますとご対応が出来ません。必ず期間内にお手続きをお願い致します \n※半券が切り離されたチケットは払い戻しできません。 \n  \n  \n■FC先行/オフィシャル先行/アルバムリリース記念先行にてご購入されたお客様（LINEチケット） \n払戻し期間：2021年9月25日(土)10:00～2021年10月10日(日)23:59 \n​ \n​「LINEチケットinfo」アカウントより、ご購入者様へ直接メッセージを送信させていただきます。払い戻しご希望のお客様は、そのメッセージに従い、払い戻し手続きを進めて下さい。ご指定いただく口座に入金させていただきます。 \n⇒https://help2.line.me/ticketapp/web/categoryId/20005226/sp?lang=ja \n​ \n​​お問合せ：「LINEチケット」公式アカウント内「トークで質問」よりお問合せ下さい。 \n  \n■イープラスにてご購入されたお客様 \n払戻し期間： 2021年9月25日(土)10:00～2021年10月10日(日)23:59 \n  \n払戻方法は、チケットの受取方法や支払方法などにより異なります。下記URLよりどの払戻方法になるのか確認をお願いいたします。 \nhttps://eplus.jp/sf/refund2 \n払戻方法に関するご案内・お問合せ：https://eplus.jp/refund2-toiawase/ \n  \n  \n■チケットぴあにてご購入されたお客様 \n払戻し期間： 2021年9月25日(土)10:00～2021年10月10日(日)23:59 \n\n 払戻方法は、チケットの受取方法や支払方法などにより異なります。 \n下記URLよりどの払戻方法になるのか確認の上、お手続きをお願いいたします。\n https://t.pia.jp/guide/refund.jsp\n お問い合わせ：チケットぴあ https://t.pia.jp/help/
URL:https://beats.stars.ne.jp/schedule/burnout-syndromes-tour-2021
LOCATION:BEAT STATION\, 福岡市中央区渡辺通4-11-4\, 〒810-0004
CATEGORIES:トップ画面に表示する
END:VEVENT
BEGIN:VEVENT
DTSTART;VALUE=DATE:20211023
DTEND;VALUE=DATE:20211024
DTSTAMP:20260420T071334
CREATED:20210908T092329Z
LAST-MODIFIED:20210908T092329Z
UID:4277-1634947200-1635033599@beats.stars.ne.jp
SUMMARY:CROSS ROCKS vol.45
DESCRIPTION:○と✕ \nSilent Sararen\nPROTEST DE 疲労 \nマルストロメリア
URL:https://beats.stars.ne.jp/schedule/cross-rocks-vol-45
LOCATION:BEAT STATION\, 福岡市中央区渡辺通4-11-4\, 〒810-0004
END:VEVENT
BEGIN:VEVENT
DTSTART;VALUE=DATE:20211022
DTEND;VALUE=DATE:20211023
DTSTAMP:20260420T071334
CREATED:20210721T033446Z
LAST-MODIFIED:20210721T033446Z
UID:4047-1634860800-1634947199@beats.stars.ne.jp
SUMMARY:FRIENDS & CELEBRATION  TOUR 2021
DESCRIPTION:NAMBA69\n \n \n  \nチケット一般発売\n9/18 10:00〜 \n \n 
URL:https://beats.stars.ne.jp/schedule/friends-celebration-tour-2021
LOCATION:BEAT STATION\, 福岡市中央区渡辺通4-11-4\, 〒810-0004
CATEGORIES:トップ画面に表示する
END:VEVENT
END:VCALENDAR