BEGIN:VCALENDAR
VERSION:2.0
PRODID:-//福岡のライブハウス BEAT STATION - ECPv6.10.3//NONSGML v1.0//EN
CALSCALE:GREGORIAN
METHOD:PUBLISH
X-WR-CALNAME:福岡のライブハウス BEAT STATION
X-ORIGINAL-URL:https://beats.stars.ne.jp
X-WR-CALDESC:福岡のライブハウス BEAT STATION のイベント
REFRESH-INTERVAL;VALUE=DURATION:PT1H
X-Robots-Tag:noindex
X-PUBLISHED-TTL:PT1H
BEGIN:VTIMEZONE
TZID:Asia/Tokyo
BEGIN:STANDARD
TZOFFSETFROM:+0900
TZOFFSETTO:+0900
TZNAME:JST
DTSTART:20210101T000000
END:STANDARD
END:VTIMEZONE
BEGIN:VEVENT
DTSTART;VALUE=DATE:20220116
DTEND;VALUE=DATE:20220117
DTSTAMP:20260420T061745
CREATED:20210902T011316Z
LAST-MODIFIED:20211001T103408Z
UID:4246-1642291200-1642377599@beats.stars.ne.jp
SUMMARY:二丁目の魁カミングアウト 全国ツアー 『GAY STAR IN THE JAPAN  TWO MAN』
DESCRIPTION:二丁目の魁カミングアウト  \nGUEST:ばってん少女隊
URL:https://beats.stars.ne.jp/schedule/%e4%ba%8c%e4%b8%81%e7%9b%ae%e3%81%ae%e9%ad%81%e3%82%ab%e3%83%9f%e3%83%b3%e3%82%b0%e3%82%a2%e3%82%a6%e3%83%88-%e5%85%a8%e5%9b%bd%e3%83%84%e3%82%a2%e3%83%bc-gay-star-in-the-japan-%e6%98%bc%e3%81%ae
LOCATION:BEAT STATION\, 福岡市中央区渡辺通4-11-4\, 〒810-0004
CATEGORIES:トップ画面に表示する
END:VEVENT
BEGIN:VEVENT
DTSTART;VALUE=DATE:20220115
DTEND;VALUE=DATE:20220116
DTSTAMP:20260420T061745
CREATED:20211009T060508Z
LAST-MODIFIED:20211009T060508Z
UID:4385-1642204800-1642291199@beats.stars.ne.jp
SUMMARY:- ONE-MAN LIVE TOUR 2022”6 case”-
DESCRIPTION:ユアネス\n \n \n \nチケット一般発売は 後日発表
URL:https://beats.stars.ne.jp/schedule/one-man-live-tour-20226-case
LOCATION:BEAT STATION\, 福岡市中央区渡辺通4-11-4\, 〒810-0004
END:VEVENT
BEGIN:VEVENT
DTSTART;VALUE=DATE:20220114
DTEND;VALUE=DATE:20220115
DTSTAMP:20260420T061745
CREATED:20211204T101547Z
LAST-MODIFIED:20211204T101547Z
UID:4553-1642118400-1642204799@beats.stars.ne.jp
SUMMARY:SUNLITE×Crimson Crat Clan 2MANLIVE
DESCRIPTION:SUNLITE\nCrimson Crat Clan\nゴールデンパイン \n  \nチケットはこちらから\nbakkyshop.jp
URL:https://beats.stars.ne.jp/schedule/sunlitexcrimson-crat-clan-2manlive
LOCATION:BEAT STATION\, 福岡市中央区渡辺通4-11-4\, 〒810-0004
CATEGORIES:トップ画面に表示する
END:VEVENT
BEGIN:VEVENT
DTSTART;VALUE=DATE:20220110
DTEND;VALUE=DATE:20220111
DTSTAMP:20260420T061745
CREATED:20211024T044025Z
LAST-MODIFIED:20211024T044025Z
UID:4449-1641772800-1641859199@beats.stars.ne.jp
SUMMARY:Early Dive tour 2022
DESCRIPTION:Deep See Diving Club  \n\n チケット一般発売 11/6 10:00〜
URL:https://beats.stars.ne.jp/schedule/early-dive-tour-2022
LOCATION:BEAT STATION\, 福岡市中央区渡辺通4-11-4\, 〒810-0004
CATEGORIES:トップ画面に表示する
END:VEVENT
BEGIN:VEVENT
DTSTART;VALUE=DATE:20220109
DTEND;VALUE=DATE:20220110
DTSTAMP:20260420T061745
CREATED:20211126T073921Z
LAST-MODIFIED:20211126T073921Z
UID:4535-1641686400-1641772799@beats.stars.ne.jp
SUMMARY:PAPIROSIER 3rd Oneman Live 〜Avance〜(Band ver.)
DESCRIPTION:パピロジェ \nパピマシェ(middle act)  \n ※発券は12:45より開始致します。
URL:https://beats.stars.ne.jp/schedule/papirosier-3rd-oneman-live-%e3%80%9cavance%e3%80%9cband-ver
LOCATION:BEAT STATION\, 福岡市中央区渡辺通4-11-4\, 〒810-0004
CATEGORIES:トップ画面に表示する
END:VEVENT
BEGIN:VEVENT
DTSTART;VALUE=DATE:20220108
DTEND;VALUE=DATE:20220109
DTSTAMP:20260420T061745
CREATED:20211024T045038Z
LAST-MODIFIED:20211227T032335Z
UID:4452-1641600000-1641686399@beats.stars.ne.jp
SUMMARY:『WALKING × WALKING TOUR 2021-2022』
DESCRIPTION:tricot \n  \nチケット一般発売 \n 12/6 10:00〜
URL:https://beats.stars.ne.jp/schedule/rent-thanks-46
LOCATION:BEAT STATION\, 福岡市中央区渡辺通4-11-4\, 〒810-0004
CATEGORIES:トップ画面に表示する
END:VEVENT
BEGIN:VEVENT
DTSTART;VALUE=DATE:20220103
DTEND;VALUE=DATE:20220108
DTSTAMP:20260420T061745
CREATED:20211210T011201Z
LAST-MODIFIED:20211210T011201Z
UID:4568-1641168000-1641599999@beats.stars.ne.jp
SUMMARY:正月休み
DESCRIPTION:ご用の際はメールでお願いいたします。\n7日より通常営業となります。
URL:https://beats.stars.ne.jp/schedule/%e6%ad%a3%e6%9c%88%e4%bc%91%e3%81%bf
LOCATION:BEAT STATION\, 福岡市中央区渡辺通4-11-4\, 〒810-0004
END:VEVENT
BEGIN:VEVENT
DTSTART;VALUE=DATE:20220102
DTEND;VALUE=DATE:20220103
DTSTAMP:20260420T061745
CREATED:20211231T041904Z
LAST-MODIFIED:20211231T041904Z
UID:4637-1641081600-1641167999@beats.stars.ne.jp
SUMMARY:ElfinLily ワンマンライブ
DESCRIPTION:ElfinLily \n  \nチケットはこちらから\ntiget.net/events/161042
URL:https://beats.stars.ne.jp/schedule/elfinlily-%e3%83%af%e3%83%b3%e3%83%9e%e3%83%b3%e3%83%a9%e3%82%a4%e3%83%96
LOCATION:BEAT STATION\, 福岡市中央区渡辺通4-11-4\, 〒810-0004
CATEGORIES:トップ画面に表示する
END:VEVENT
BEGIN:VEVENT
DTSTART;VALUE=DATE:20220102
DTEND;VALUE=DATE:20220103
DTSTAMP:20260420T061745
CREATED:20211228T141134Z
LAST-MODIFIED:20211228T141134Z
UID:4630-1641081600-1641167999@beats.stars.ne.jp
SUMMARY:【謹賀新年アイドルFEVER ~2022もよろしくねSP~】 
DESCRIPTION:AQUAPLANET\nKAMISAMA-双-\nCODE-L\nRATEL OF LOVE\nCOLORLESS\nElfinLily\n \n \n※12月29日（水）20時00分～販売開始 \n予約/https://tiget.net/events/162426 
URL:https://beats.stars.ne.jp/schedule/%e3%80%90%e8%ac%b9%e8%b3%80%e6%96%b0%e5%b9%b4%e3%82%a2%e3%82%a4%e3%83%89%e3%83%abfever-2022%e3%82%82%e3%82%88%e3%82%8d%e3%81%97%e3%81%8f%e3%81%adsp%e3%80%91
LOCATION:BEAT STATION\, 福岡市中央区渡辺通4-11-4\, 〒810-0004
CATEGORIES:トップ画面に表示する
END:VEVENT
BEGIN:VEVENT
DTSTART;VALUE=DATE:20220101
DTEND;VALUE=DATE:20220102
DTSTAMP:20260420T061745
CREATED:20211111T083537Z
LAST-MODIFIED:20211111T083537Z
UID:4499-1640995200-1641081599@beats.stars.ne.jp
SUMMARY:AQUA PLANET ワンマンライブ 〜沖縄旅行行きたいです〜
DESCRIPTION:AQUAPLANET
URL:https://beats.stars.ne.jp/schedule/aqua-planet-%e3%83%af%e3%83%b3%e3%83%9e%e3%83%b3%e3%83%a9%e3%82%a4%e3%83%96-%e3%80%9c%e6%b2%96%e7%b8%84%e6%97%85%e8%a1%8c%e8%a1%8c%e3%81%8d%e3%81%9f%e3%81%84%e3%81%a7%e3%81%99%e3%80%9c
LOCATION:BEAT STATION\, 福岡市中央区渡辺通4-11-4\, 〒810-0004
CATEGORIES:トップ画面に表示する
END:VEVENT
BEGIN:VEVENT
DTSTART;VALUE=DATE:20220101
DTEND;VALUE=DATE:20220102
DTSTAMP:20260420T061745
CREATED:20211102T034223Z
LAST-MODIFIED:20211102T034223Z
UID:4482-1640995200-1641081599@beats.stars.ne.jp
SUMMARY:KAMISAMA-双- -ONE MAN LIVE- 変
DESCRIPTION:KAMISAMA-双-\n \n \n予約/https://tiget.net/events/154061  \n※11月2日(火)22時00分販売開始 \n注))超虎チケットのみ前払いとなります\n ※お振り込み期日:11月末予定
URL:https://beats.stars.ne.jp/schedule/kamisama-%e5%8f%8c-one-man-live-%e5%a4%89
LOCATION:BEAT STATION\, 福岡市中央区渡辺通4-11-4\, 〒810-0004
CATEGORIES:トップ画面に表示する
END:VEVENT
BEGIN:VEVENT
DTSTART;VALUE=DATE:20211231
DTEND;VALUE=DATE:20220101
DTSTAMP:20260420T061745
CREATED:20211102T032847Z
LAST-MODIFIED:20211228T103121Z
UID:4479-1640908800-1640995199@beats.stars.ne.jp
SUMMARY:ノーメイク主催『2021年大晦日だよ！大総括～2022年へ向けて～』 
DESCRIPTION:青SHUN学園\nQunQun\n星空☆彡Days\nルナリウム\nちーむM\nS☆UTHERN CROSS \n \n チケットご予約はこちら \nhttp://t.livepocket.jp/e/98f3v (11.2(火)21:00～販売)
URL:https://beats.stars.ne.jp/schedule/%e3%83%8e%e3%83%bc%e3%83%a1%e3%82%a4%e3%82%af%e4%b8%bb%e5%82%ac%e3%80%8e2021%e5%b9%b4%e5%a4%a7%e6%99%a6%e6%97%a5%e3%81%a0%e3%82%88%ef%bc%81%e5%a4%a7%e7%b7%8f%e6%8b%ac%ef%bd%9e2022%e5%b9%b4%e3%81%b8
LOCATION:BEAT STATION\, 福岡市中央区渡辺通4-11-4\, 〒810-0004
CATEGORIES:トップ画面に表示する
END:VEVENT
BEGIN:VEVENT
DTSTART;VALUE=DATE:20211227
DTEND;VALUE=DATE:20211228
DTSTAMP:20260420T061745
CREATED:20211217T040828Z
LAST-MODIFIED:20211217T040839Z
UID:4592-1640563200-1640649599@beats.stars.ne.jp
SUMMARY:RENT THANKS
DESCRIPTION:
URL:https://beats.stars.ne.jp/schedule/rent-thanks-50
LOCATION:BEAT STATION\, 福岡市中央区渡辺通4-11-4\, 〒810-0004
END:VEVENT
BEGIN:VEVENT
DTSTART;VALUE=DATE:20211226
DTEND;VALUE=DATE:20211227
DTSTAMP:20260420T061745
CREATED:20211022T112342Z
LAST-MODIFIED:20211226T055756Z
UID:4434-1640476800-1640563199@beats.stars.ne.jp
SUMMARY:FREAK解散ライブ公演 　FREAK Last Live Tour “Hopefully”
DESCRIPTION:FREAK \n配信チケットはこちらから\nhttps://twitcasting.tv/freakofficial1/shopcart/121516
URL:https://beats.stars.ne.jp/schedule/freak%e8%a7%a3%e6%95%a3%e3%83%a9%e3%82%a4%e3%83%96%e5%85%ac%e6%bc%94-freak-last-live-tour-hopefully
LOCATION:BEAT STATION\, 福岡市中央区渡辺通4-11-4\, 〒810-0004
CATEGORIES:トップ画面に表示する
END:VEVENT
BEGIN:VEVENT
DTSTART;VALUE=DATE:20211225
DTEND;VALUE=DATE:20211226
DTSTAMP:20260420T061745
CREATED:20211217T030313Z
LAST-MODIFIED:20211217T030313Z
UID:4585-1640390400-1640476799@beats.stars.ne.jp
SUMMARY:【聖なる夜の贈り物】
DESCRIPTION:ElfinLily\nAQUAPLANET \nKAMISAMA-双- \n霧色朱音 \nルナリウム \nCODE-L \nNEO☆学院 \n \n \n※12月15日(水)21時00分〜販売開始 \n予約/https://tiget.net/events/160551 
URL:https://beats.stars.ne.jp/schedule/%e3%80%90%e8%81%96%e3%81%aa%e3%82%8b%e5%a4%9c%e3%81%ae%e8%b4%88%e3%82%8a%e7%89%a9%e3%80%91
LOCATION:BEAT STATION\, 福岡市中央区渡辺通4-11-4\, 〒810-0004
CATEGORIES:トップ画面に表示する
END:VEVENT
BEGIN:VEVENT
DTSTART;VALUE=DATE:20211225
DTEND;VALUE=DATE:20211226
DTSTAMP:20260420T061745
CREATED:20211209T051855Z
LAST-MODIFIED:20211209T051855Z
UID:4565-1640390400-1640476799@beats.stars.ne.jp
SUMMARY:Elfinlily 益子紗彩＆AQUA PLANET 愛宮えま 合同生誕祭
DESCRIPTION:Elfinlily\nAQUA PLANET
URL:https://beats.stars.ne.jp/schedule/elfinlily-%e7%9b%8a%e5%ad%90%e7%b4%97%e5%bd%a9%ef%bc%86aqua-planet-%e6%84%9b%e5%ae%ae%e3%81%88%e3%81%be-%e5%90%88%e5%90%8c%e7%94%9f%e8%aa%95%e7%a5%ad
LOCATION:BEAT STATION\, 福岡市中央区渡辺通4-11-4\, 〒810-0004
CATEGORIES:トップ画面に表示する
END:VEVENT
BEGIN:VEVENT
DTSTART;VALUE=DATE:20211223
DTEND;VALUE=DATE:20211224
DTSTAMP:20260420T061745
CREATED:20211217T040649Z
LAST-MODIFIED:20211217T040649Z
UID:4590-1640217600-1640303999@beats.stars.ne.jp
SUMMARY:RENT THANKS
DESCRIPTION:
URL:https://beats.stars.ne.jp/schedule/rent-thanks-49
END:VEVENT
BEGIN:VEVENT
DTSTART;VALUE=DATE:20211222
DTEND;VALUE=DATE:20211223
DTSTAMP:20260420T061745
CREATED:20211217T040605Z
LAST-MODIFIED:20211217T040605Z
UID:4588-1640131200-1640217599@beats.stars.ne.jp
SUMMARY:RENT THANKS
DESCRIPTION:
URL:https://beats.stars.ne.jp/schedule/rent-thanks-47
LOCATION:BEAT STATION\, 福岡市中央区渡辺通4-11-4\, 〒810-0004
END:VEVENT
BEGIN:VEVENT
DTSTART;VALUE=DATE:20211221
DTEND;VALUE=DATE:20211222
DTSTAMP:20260420T061745
CREATED:20211003T080418Z
LAST-MODIFIED:20211003T080418Z
UID:4373-1640044800-1640131199@beats.stars.ne.jp
SUMMARY:UNIDOL 2021-22 Winter 九州予選
DESCRIPTION:
URL:https://beats.stars.ne.jp/schedule/unidol-2021-22-winter-%e4%b9%9d%e5%b7%9e%e4%ba%88%e9%81%b8
LOCATION:BEAT STATION\, 福岡市中央区渡辺通4-11-4\, 〒810-0004
END:VEVENT
BEGIN:VEVENT
DTSTART;VALUE=DATE:20211219
DTEND;VALUE=DATE:20211220
DTSTAMP:20260420T061745
CREATED:20211214T063515Z
LAST-MODIFIED:20211214T063515Z
UID:4579-1639872000-1639958399@beats.stars.ne.jp
SUMMARY:FUKUOKA。〜ラストライブなのだ♪〜
DESCRIPTION: LinQ \n \n\n \nチケットはこちらから\n\nhttps://tiget.net\n\n\n\n\n 
URL:https://beats.stars.ne.jp/schedule/fukuoka%e3%80%82%e3%80%9c%e3%83%a9%e3%82%b9%e3%83%88%e3%83%a9%e3%82%a4%e3%83%96%e3%81%aa%e3%81%ae%e3%81%a0%e2%99%aa%e3%80%9c
LOCATION:BEAT STATION\, 福岡市中央区渡辺通4-11-4\, 〒810-0004
CATEGORIES:トップ画面に表示する
END:VEVENT
BEGIN:VEVENT
DTSTART;VALUE=DATE:20211217
DTEND;VALUE=DATE:20211218
DTSTAMP:20260420T061745
CREATED:20211003T080205Z
LAST-MODIFIED:20211031T002958Z
UID:4371-1639699200-1639785599@beats.stars.ne.jp
SUMMARY:マルシィone man live 2021“for You”
DESCRIPTION:マルシィ\n 
URL:https://beats.stars.ne.jp/schedule/rent-thanks-45
LOCATION:BEAT STATION\, 福岡市中央区渡辺通4-11-4\, 〒810-0004
END:VEVENT
BEGIN:VEVENT
DTSTART;VALUE=DATE:20211213
DTEND;VALUE=DATE:20211214
DTSTAMP:20260420T061745
CREATED:20211211T112717Z
LAST-MODIFIED:20211211T112717Z
UID:4573-1639353600-1639439999@beats.stars.ne.jp
SUMMARY:華山 明 お別れ会
DESCRIPTION:故 華山 明のお別れ会を開催いたします。 \nプロジェクターに華山の懐かしい映像や、写真を投影いたしまして、\n思い出話に花を咲かせていただければと思います。 \nゆるりとした内容ですので、ご自由な平服でお越しください。 \nホール内に献菓台を設けます。\nご献菓いただける方は、お菓子をご持参ください。 \n 
URL:https://beats.stars.ne.jp/schedule/%e8%8f%af%e5%b1%b1-%e6%98%8e-%e3%81%8a%e5%88%a5%e3%82%8c%e4%bc%9a
LOCATION:BEAT STATION\, 福岡市中央区渡辺通4-11-4\, 〒810-0004
END:VEVENT
BEGIN:VEVENT
DTSTART;VALUE=DATE:20211212
DTEND;VALUE=DATE:20211213
DTSTAMP:20260420T061745
CREATED:20211207T081408Z
LAST-MODIFIED:20211207T081621Z
UID:4559-1639267200-1639353599@beats.stars.ne.jp
SUMMARY:JamsCollection LIVE TOUR 2021『ジャムドライブ!!-福岡-』
DESCRIPTION:JamsCollection
URL:https://beats.stars.ne.jp/schedule/jamscollection-live-tour-2021%e3%80%8e%e3%82%b8%e3%83%a3%e3%83%a0%e3%83%89%e3%83%a9%e3%82%a4%e3%83%96-%e7%a6%8f%e5%b2%a1-%e3%80%8f
LOCATION:BEAT STATION\, 福岡市中央区渡辺通4-11-4\, 〒810-0004
END:VEVENT
BEGIN:VEVENT
DTSTART;VALUE=DATE:20211212
DTEND;VALUE=DATE:20211213
DTSTAMP:20260420T061745
CREATED:20211023T064946Z
LAST-MODIFIED:20211023T064946Z
UID:4439-1639267200-1639353599@beats.stars.ne.jp
SUMMARY:FES☆TIVE全国ツアー2021秋冬【日本全国奇天烈物語】〜福岡公演〜
DESCRIPTION:FES☆TIVE \n  \nチケットはこちら \nFC先行(先着)：11月1日 20:00〜11月7日23:59まで \nhttps://festive.rizepro.net/contents/463800 \n\n一般発売(先着)：11月15日 10:00〜 \nhttps://eplus.jp/festive/
URL:https://beats.stars.ne.jp/schedule/fes%e2%98%86tive%e5%85%a8%e5%9b%bd%e3%83%84%e3%82%a2%e3%83%bc2021%e7%a7%8b%e5%86%ac%e3%80%90%e6%97%a5%e6%9c%ac%e5%85%a8%e5%9b%bd%e5%a5%87%e5%a4%a9%e7%83%88%e7%89%a9%e8%aa%9e%e3%80%91%e3%80%9c%e7%a6%8f
LOCATION:BEAT STATION\, 福岡市中央区渡辺通4-11-4\, 〒810-0004
END:VEVENT
BEGIN:VEVENT
DTSTART;VALUE=DATE:20211211
DTEND;VALUE=DATE:20211212
DTSTAMP:20260420T061745
CREATED:20211005T111542Z
LAST-MODIFIED:20211103T054900Z
UID:4378-1639180800-1639267199@beats.stars.ne.jp
SUMMARY:CROSS ROCKS vol.47
DESCRIPTION:○JAPAN\nミチオヤマザキ\nマドモアゼルな俺たち\nAimar〜アイマール〜\nKAMISAMA-双-
URL:https://beats.stars.ne.jp/schedule/cross-rocks-vol-47
LOCATION:BEAT STATION\, 福岡市中央区渡辺通4-11-4\, 〒810-0004
CATEGORIES:トップ画面に表示する
END:VEVENT
BEGIN:VEVENT
DTSTART;VALUE=DATE:20211210
DTEND;VALUE=DATE:20211211
DTSTAMP:20260420T061745
CREATED:20211022T012309Z
LAST-MODIFIED:20211022T012309Z
UID:4431-1639094400-1639180799@beats.stars.ne.jp
SUMMARY:kiki vivi lily Winter Tour 2021-2022
DESCRIPTION:kiki vivi lily \n  \nオフィシャル先行 11/3まで\nhttps://eplus.jp/kikivivilily/
URL:https://beats.stars.ne.jp/schedule/kiki-vivi-lily-winter-tour-2021-2022
LOCATION:BEAT STATION\, 福岡市中央区渡辺通4-11-4\, 〒810-0004
CATEGORIES:トップ画面に表示する
END:VEVENT
BEGIN:VEVENT
DTSTART;VALUE=DATE:20211209
DTEND;VALUE=DATE:20211210
DTSTAMP:20260420T061745
CREATED:20211003T075840Z
LAST-MODIFIED:20211023T065634Z
UID:4365-1639008000-1639094399@beats.stars.ne.jp
SUMMARY:「WINK TOGETHER MOTTO JAPAN TOUR」
DESCRIPTION: CHAI 
URL:https://beats.stars.ne.jp/schedule/rent-thanks-42
LOCATION:BEAT STATION\, 福岡市中央区渡辺通4-11-4\, 〒810-0004
END:VEVENT
BEGIN:VEVENT
DTSTART;VALUE=DATE:20211205
DTEND;VALUE=DATE:20211206
DTSTAMP:20260420T061745
CREATED:20211003T075330Z
LAST-MODIFIED:20211003T075330Z
UID:4362-1638662400-1638748799@beats.stars.ne.jp
SUMMARY:Paledusk pre.OUR DAYBREAK vo.10＜振替公演＞
DESCRIPTION:Paledusk \n2021/1/24(日)、2021/6/6(日)の振替公演となります　
URL:https://beats.stars.ne.jp/schedule/paledusk-pre-our-daybreak-vo-10%ef%bc%9c%e6%8c%af%e6%9b%bf%e5%85%ac%e6%bc%94%ef%bc%9e
LOCATION:BEAT STATION\, 福岡市中央区渡辺通4-11-4\, 〒810-0004
CATEGORIES:トップ画面に表示する
END:VEVENT
BEGIN:VEVENT
DTSTART;VALUE=DATE:20211204
DTEND;VALUE=DATE:20211205
DTSTAMP:20260420T061745
CREATED:20210720T051514Z
LAST-MODIFIED:20210720T051514Z
UID:4045-1638576000-1638662399@beats.stars.ne.jp
SUMMARY:『Yu Serizawa 2nd Live Tour 2021 好きな人がいるだけで。』夜公演
DESCRIPTION:芹澤優 
URL:https://beats.stars.ne.jp/schedule/%e3%80%8eyu-serizawa-2nd-live-tour-2021-%e5%a5%bd%e3%81%8d%e3%81%aa%e4%ba%ba%e3%81%8c%e3%81%84%e3%82%8b%e3%81%a0%e3%81%91%e3%81%a7%e3%80%82%e3%80%8f%e5%a4%9c%e5%85%ac%e6%bc%94
LOCATION:BEAT STATION\, 福岡市中央区渡辺通4-11-4\, 〒810-0004
CATEGORIES:トップ画面に表示する
END:VEVENT
BEGIN:VEVENT
DTSTART;VALUE=DATE:20211204
DTEND;VALUE=DATE:20211205
DTSTAMP:20260420T061745
CREATED:20210720T051333Z
LAST-MODIFIED:20210720T051333Z
UID:4042-1638576000-1638662399@beats.stars.ne.jp
SUMMARY:『Yu Serizawa 2nd Live Tour 2021 好きな人がいるだけで。』昼公演
DESCRIPTION:芹澤優
URL:https://beats.stars.ne.jp/schedule/%e3%80%8eyu-serizawa-2nd-live-tour-2021-%e5%a5%bd%e3%81%8d%e3%81%aa%e4%ba%ba%e3%81%8c%e3%81%84%e3%82%8b%e3%81%a0%e3%81%91%e3%81%a7%e3%80%82%e3%80%8f%e6%98%bc%e5%85%ac%e6%bc%94
LOCATION:BEAT STATION\, 福岡市中央区渡辺通4-11-4\, 〒810-0004
CATEGORIES:トップ画面に表示する
END:VEVENT
END:VCALENDAR