BEGIN:VCALENDAR
VERSION:2.0
PRODID:-//福岡のライブハウス BEAT STATION - ECPv6.10.3//NONSGML v1.0//EN
CALSCALE:GREGORIAN
METHOD:PUBLISH
X-WR-CALNAME:福岡のライブハウス BEAT STATION
X-ORIGINAL-URL:https://beats.stars.ne.jp
X-WR-CALDESC:福岡のライブハウス BEAT STATION のイベント
REFRESH-INTERVAL;VALUE=DURATION:PT1H
X-Robots-Tag:noindex
X-PUBLISHED-TTL:PT1H
BEGIN:VTIMEZONE
TZID:Asia/Tokyo
BEGIN:STANDARD
TZOFFSETFROM:+0900
TZOFFSETTO:+0900
TZNAME:JST
DTSTART:20220101T000000
END:STANDARD
END:VTIMEZONE
BEGIN:VEVENT
DTSTART;VALUE=DATE:20220503
DTEND;VALUE=DATE:20220504
DTSTAMP:20260420T093554
CREATED:20220224T061818Z
LAST-MODIFIED:20220224T061818Z
UID:4844-1651536000-1651622399@beats.stars.ne.jp
SUMMARY:クレナズム春のバリよかツーマンツアー2022
DESCRIPTION:クレナズム \nw/クボタカイ \n\n■オフィシャル最終先行受付（先着） \n受付期間：02/23(水) 21:00 ～ 03/02(水) 23:59 \n受付URL：https://eplus.jp/cn2022/\n\n\n\n\n\n\n\n 
URL:https://beats.stars.ne.jp/schedule/%e3%82%af%e3%83%ac%e3%83%8a%e3%82%ba%e3%83%a0%e6%98%a5%e3%81%ae%e3%83%90%e3%83%aa%e3%82%88%e3%81%8b%e3%83%84%e3%83%bc%e3%83%9e%e3%83%b3%e3%83%84%e3%82%a2%e3%83%bc2022-2
LOCATION:BEAT STATION\, 福岡市中央区渡辺通4-11-4\, 〒810-0004
END:VEVENT
BEGIN:VEVENT
DTSTART;VALUE=DATE:20220502
DTEND;VALUE=DATE:20220503
DTSTAMP:20260420T093554
CREATED:20220213T004215Z
LAST-MODIFIED:20220319T052959Z
UID:4811-1651449600-1651535999@beats.stars.ne.jp
SUMMARY:TRIANGLE'22 〜Return to the Roots〜
DESCRIPTION:SHIMA\nHERO COMPLEX\nKUZIRA\nFROM ME.\nGOOD4NOTHING\nSIX LOUNGE \n\nオフィシャル2次先行受付は3/27(日)23:59まで。\nこちらから
URL:https://beats.stars.ne.jp/schedule/triangle22-%e3%80%9creturn-to-the-roots%e3%80%9c
LOCATION:BEAT STATION\, 福岡市中央区渡辺通4-11-4\, 〒810-0004
CATEGORIES:トップ画面に表示する
END:VEVENT
BEGIN:VEVENT
DTSTART;VALUE=DATE:20220501
DTEND;VALUE=DATE:20220502
DTSTAMP:20260420T093554
CREATED:20220205T082030Z
LAST-MODIFIED:20220205T082230Z
UID:4775-1651363200-1651449599@beats.stars.ne.jp
SUMMARY:DOG inThe PWO TOUR 2022 『パラレルワールドオーケストラ』
DESCRIPTION:DOG inThe パラレルワールドオーケストラ \n  \nチケット一般発売\n4月13日(水)10:00〜
URL:https://beats.stars.ne.jp/schedule/dog-inthe-pwo-tour-2022-%e3%80%8e%e3%83%91%e3%83%a9%e3%83%ac%e3%83%ab%e3%83%af%e3%83%bc%e3%83%ab%e3%83%89%e3%82%aa%e3%83%bc%e3%82%b1%e3%82%b9%e3%83%88%e3%83%a9%e3%80%8f
LOCATION:BEAT STATION\, 福岡市中央区渡辺通4-11-4\, 〒810-0004
CATEGORIES:トップ画面に表示する
END:VEVENT
BEGIN:VEVENT
DTSTART;VALUE=DATE:20220430
DTEND;VALUE=DATE:20220501
DTSTAMP:20260420T093554
CREATED:20220218T112831Z
LAST-MODIFIED:20220320T031328Z
UID:4827-1651276800-1651363199@beats.stars.ne.jp
SUMMARY:山嵐"Painkiller”TOUR
DESCRIPTION:山嵐\nSHANK \n \n 
URL:https://beats.stars.ne.jp/schedule/%e5%b1%b1%e5%b5%90painkillertour
LOCATION:BEAT STATION\, 福岡市中央区渡辺通4-11-4\, 〒810-0004
CATEGORIES:トップ画面に表示する
END:VEVENT
BEGIN:VEVENT
DTSTART;VALUE=DATE:20220424
DTEND;VALUE=DATE:20220425
DTSTAMP:20260420T093554
CREATED:20220417T080252Z
LAST-MODIFIED:20220417T080252Z
UID:4944-1650758400-1650844799@beats.stars.ne.jp
SUMMARY:HARVEST LOUNGE
DESCRIPTION:aika\nnonka\nNatyu.\nはがゆき\n山田美奈子\nMonster Cat’s\nサマスノ\nふまここ. \n来場予約(4月8日20時受付開始)\nhttps://tiget.net/events/177304 \n  \n主催 : PUNCH-LINE \n　　　FAR LIGHT\n企画 : HARVEST実行委員会 \n 
URL:https://beats.stars.ne.jp/schedule/harvest-lounge
LOCATION:BEAT STATION\, 福岡市中央区渡辺通4-11-4\, 〒810-0004
CATEGORIES:トップ画面に表示する
END:VEVENT
BEGIN:VEVENT
DTSTART;VALUE=DATE:20220423
DTEND;VALUE=DATE:20220424
DTSTAMP:20260420T093554
CREATED:20220416T031109Z
LAST-MODIFIED:20220422T115819Z
UID:4927-1650672000-1650758399@beats.stars.ne.jp
SUMMARY:『IQ☆FESTIVAL vol.1』夜公演
DESCRIPTION:LinQ\nFES☆TIVE\nHelloYouth\n結音WEST \n\nチケットはこちら \n問い合わせ ticket@loveinq.com
URL:https://beats.stars.ne.jp/schedule/%e3%80%8eiq%e2%98%86festival-vol-1%e3%80%8f%e5%a4%9c%e5%85%ac%e6%bc%94
LOCATION:BEAT STATION\, 福岡市中央区渡辺通4-11-4\, 〒810-0004
CATEGORIES:トップ画面に表示する
END:VEVENT
BEGIN:VEVENT
DTSTART;VALUE=DATE:20220423
DTEND;VALUE=DATE:20220424
DTSTAMP:20260420T093554
CREATED:20220416T030942Z
LAST-MODIFIED:20220422T115801Z
UID:4925-1650672000-1650758399@beats.stars.ne.jp
SUMMARY:『IQ☆FESTIVAL vol.1』 昼公演
DESCRIPTION:LinQ\nFES☆TIVE\nMAGICAL SPEC\nBudLaB\n \nチケットはこちら\n\n  \n問い合わせ ticket@loveinq.com
URL:https://beats.stars.ne.jp/schedule/%e3%80%8eiq%e2%98%86festival-vol-1%e3%80%8f-%e6%98%bc%e5%85%ac%e6%bc%94
LOCATION:BEAT STATION\, 福岡市中央区渡辺通4-11-4\, 〒810-0004
CATEGORIES:トップ画面に表示する
END:VEVENT
BEGIN:VEVENT
DTSTART;VALUE=DATE:20220422
DTEND;VALUE=DATE:20220423
DTSTAMP:20260420T093554
CREATED:20220205T083612Z
LAST-MODIFIED:20220205T083612Z
UID:4787-1650585600-1650671999@beats.stars.ne.jp
SUMMARY:石崎ひゅーい Tour 2022『ダイヤモンド』
DESCRIPTION:石崎ひゅーい\n\n \nチケット一般発売 \n2/26 (土) 10:00〜
URL:https://beats.stars.ne.jp/schedule/%e7%9f%b3%e5%b4%8e%e3%81%b2%e3%82%85%e3%83%bc%e3%81%84-tour-2022%e3%80%8e%e3%83%80%e3%82%a4%e3%83%a4%e3%83%a2%e3%83%b3%e3%83%89%e3%80%8f
LOCATION:BEAT STATION\, 福岡市中央区渡辺通4-11-4\, 〒810-0004
CATEGORIES:トップ画面に表示する
END:VEVENT
BEGIN:VEVENT
DTSTART;VALUE=DATE:20220417
DTEND;VALUE=DATE:20220418
DTSTAMP:20260420T093554
CREATED:20211024T051439Z
LAST-MODIFIED:20220417T024804Z
UID:4462-1650153600-1650239999@beats.stars.ne.jp
SUMMARY:インディーズ・ジャーニー
DESCRIPTION:bokula.\nねぐせ。\nヤングスキニー \n  \n 
URL:https://beats.stars.ne.jp/schedule/%e3%82%a4%e3%83%b3%e3%83%87%e3%82%a3%e3%83%bc%e3%82%ba%e3%83%bb%e3%82%b8%e3%83%a3%e3%83%bc%e3%83%8b%e3%83%bc
LOCATION:BEAT STATION\, 福岡市中央区渡辺通4-11-4\, 〒810-0004
END:VEVENT
BEGIN:VEVENT
DTSTART;VALUE=DATE:20220416
DTEND;VALUE=DATE:20220417
DTSTAMP:20260420T093554
CREATED:20220208T114310Z
LAST-MODIFIED:20220208T114310Z
UID:4794-1650067200-1650153599@beats.stars.ne.jp
SUMMARY:CROSS ROCKS vol.49 特別編 -special edition-
DESCRIPTION:道雄ノ為ノ此ノ命 \nMY NEW GEAR\n再殺部帯\nガチャおけ \n官能デバイス
URL:https://beats.stars.ne.jp/schedule/cross-rocks-vol-49-%e7%89%b9%e5%88%a5%e7%b7%a8-special-edition
LOCATION:BEAT STATION\, 福岡市中央区渡辺通4-11-4\, 〒810-0004
END:VEVENT
BEGIN:VEVENT
DTSTART;VALUE=DATE:20220409
DTEND;VALUE=DATE:20220410
DTSTAMP:20260420T093554
CREATED:20220218T113715Z
LAST-MODIFIED:20220218T113715Z
UID:4832-1649462400-1649548799@beats.stars.ne.jp
SUMMARY:Devil ANTHEM. SPRING TOUR 2022
DESCRIPTION:Devil ANTHEM. \n  \nチケット一般発売\n2/23(水)10:00〜  \nSチケット¥10\,000\nAチケット¥5\,000\nBチケット¥2\,500
URL:https://beats.stars.ne.jp/schedule/devil-anthem-spring-tour-2022
LOCATION:BEAT STATION\, 福岡市中央区渡辺通4-11-4\, 〒810-0004
END:VEVENT
BEGIN:VEVENT
DTSTART;VALUE=DATE:20220403
DTEND;VALUE=DATE:20220404
DTSTAMP:20260420T093554
CREATED:20220302T095226Z
LAST-MODIFIED:20220302T095312Z
UID:4852-1648944000-1649030399@beats.stars.ne.jp
SUMMARY:Star☆Prince 6TH ONE MAN LIVE
DESCRIPTION:Star☆Prince \nO/A ＜Crescent \n\n 
URL:https://beats.stars.ne.jp/schedule/star%e2%98%86prince-6th-%e3%83%af%e3%83%b3%e3%83%9e%e3%83%b3%e3%83%a9%e3%82%a4%e3%83%96
LOCATION:BEAT STATION\, 福岡市中央区渡辺通4-11-4\, 〒810-0004
CATEGORIES:トップ画面に表示する
END:VEVENT
BEGIN:VEVENT
DTSTART;VALUE=DATE:20220402
DTEND;VALUE=DATE:20220403
DTSTAMP:20260420T093554
CREATED:20220205T010909Z
LAST-MODIFIED:20220205T010909Z
UID:4771-1648857600-1648943999@beats.stars.ne.jp
SUMMARY:RefRise ONE-MAN LIVE 2022
DESCRIPTION:RefRise \n[FORM]\nhttps://forms.gle/Bfw6dQpPzvaoTmLr6
URL:https://beats.stars.ne.jp/schedule/refrise-one-man-live-2022
LOCATION:BEAT STATION\, 福岡市中央区渡辺通4-11-4\, 〒810-0004
CATEGORIES:トップ画面に表示する
END:VEVENT
BEGIN:VEVENT
DTSTART;VALUE=DATE:20220401
DTEND;VALUE=DATE:20220402
DTSTAMP:20260420T093554
CREATED:20220218T031943Z
LAST-MODIFIED:20220218T032128Z
UID:4821-1648771200-1648857599@beats.stars.ne.jp
SUMMARY:DENIMS JAPAN TOUR 2021-2022 ONE-MAN SHOW 振替公演
DESCRIPTION:DENIMS \n払い戻し期間：2/18 (金) 10:00 〜 3/7(月) 23:59\n一般再発売日：2/19(土)10:00〜\n \n※本公演は2022年1⽉30⽇(⽇)の振替公演です。\n※会場に変更はありません。\n※開場/開演時間に変更がございますのでご注意ください。\n※お⼿持ちのチケット（整理番号）は振替公演にそのまま有効となりますので、⼤切に保管をお願い致します。 \nDENIMSより皆様へ
URL:https://beats.stars.ne.jp/schedule/denims-japan-tour-2021-2022-one-man-show-%e6%8c%af%e6%9b%bf%e5%85%ac%e6%bc%94
LOCATION:BEAT STATION\, 福岡市中央区渡辺通4-11-4\, 〒810-0004
CATEGORIES:トップ画面に表示する
END:VEVENT
BEGIN:VEVENT
DTSTART;VALUE=DATE:20220331
DTEND;VALUE=DATE:20220401
DTSTAMP:20260420T093554
CREATED:20220201T132256Z
LAST-MODIFIED:20220201T132256Z
UID:4737-1648684800-1648771199@beats.stars.ne.jp
SUMMARY:たいへーpresents 福音革命
DESCRIPTION:ニイナ\nanewhite\nルサンチマン\nPenny Lane\nヤングスキニー \n  \nチケット先行抽選 \n2月4日12:00～2月10日18:00 \nhttp://eplus.jp/sf/detail/3572  \n一般発売開始 2月20日18:00
URL:https://beats.stars.ne.jp/schedule/%e3%81%9f%e3%81%84%e3%81%b8%e3%83%bcpresents-%e7%a6%8f%e9%9f%b3%e9%9d%a9%e5%91%bd
LOCATION:BEAT STATION\, 福岡市中央区渡辺通4-11-4\, 〒810-0004
CATEGORIES:トップ画面に表示する
END:VEVENT
BEGIN:VEVENT
DTSTART;VALUE=DATE:20220325
DTEND;VALUE=DATE:20220326
DTSTAMP:20260420T093554
CREATED:20220201T131738Z
LAST-MODIFIED:20220301T024542Z
UID:4735-1648166400-1648252799@beats.stars.ne.jp
SUMMARY:『あなたの日常に春風を』 公演中止
DESCRIPTION:ニイナ\nバイリンジボーイ \nO/A ジ・エンプティ
URL:https://beats.stars.ne.jp/schedule/%e3%80%8e%e3%81%82%e3%81%aa%e3%81%9f%e3%81%ae%e6%97%a5%e5%b8%b8%e3%81%ab%e6%98%a5%e9%a2%a8%e3%82%92%e3%80%8f
LOCATION:BEAT STATION\, 福岡市中央区渡辺通4-11-4\, 〒810-0004
CATEGORIES:トップ画面に表示する
END:VEVENT
BEGIN:VEVENT
DTSTART;VALUE=DATE:20220321
DTEND;VALUE=DATE:20220322
DTSTAMP:20260420T093554
CREATED:20220311T045558Z
LAST-MODIFIED:20220311T045558Z
UID:4880-1647820800-1647907199@beats.stars.ne.jp
SUMMARY:「BIG SWAMP LIVE ～もうすぐ春ですね。みんな集まってみませんか！？～」
DESCRIPTION:トキヲイキル\nHelloYouth\nMAGICAL SPEC
URL:https://beats.stars.ne.jp/schedule/%e3%80%8cbig-swamp-live-%ef%bd%9e%e3%82%82%e3%81%86%e3%81%99%e3%81%90%e6%98%a5%e3%81%a7%e3%81%99%e3%81%ad%e3%80%82%e3%81%bf%e3%82%93%e3%81%aa%e9%9b%86%e3%81%be%e3%81%a3%e3%81%a6%e3%81%bf%e3%81%be
LOCATION:BEAT STATION\, 福岡市中央区渡辺通4-11-4\, 〒810-0004
CATEGORIES:トップ画面に表示する
END:VEVENT
BEGIN:VEVENT
DTSTART;VALUE=DATE:20220321
DTEND;VALUE=DATE:20220322
DTSTAMP:20260420T093554
CREATED:20220205T010508Z
LAST-MODIFIED:20220205T010508Z
UID:4768-1647820800-1647907199@beats.stars.ne.jp
SUMMARY:結音 YUION 1st anniversary LIVE 「結音 YUION 四季SHIKI 2022〜春公演〜」
DESCRIPTION:結音 YUION   \n  \nチケット発売日 \n1/17 20:00 \nhttps://tiget.net/events/163247
URL:https://beats.stars.ne.jp/schedule/%e7%b5%90%e9%9f%b3-yuion-1st-anniversary-live-%e3%80%8c%e7%b5%90%e9%9f%b3-yuion-%e5%9b%9b%e5%ad%a3shiki-2022%e3%80%9c%e6%98%a5%e5%85%ac%e6%bc%94%e3%80%9c%e3%80%8d
CATEGORIES:トップ画面に表示する
END:VEVENT
BEGIN:VEVENT
DTSTART;VALUE=DATE:20220320
DTEND;VALUE=DATE:20220321
DTSTAMP:20260420T093554
CREATED:20211208T064346Z
LAST-MODIFIED:20211208T064346Z
UID:4562-1647734400-1647820799@beats.stars.ne.jp
SUMMARY:古今東西、時をかける野郎ども　タイムリープ ’22〜悩み無用〜
DESCRIPTION:怒髪天 \n  \nチケット一般発売  ※2枚制限\n2/5(土) 10:00
URL:https://beats.stars.ne.jp/schedule/%e5%8f%a4%e4%bb%8a%e6%9d%b1%e8%a5%bf%e3%80%81%e6%99%82%e3%82%92%e3%81%8b%e3%81%91%e3%82%8b%e9%87%8e%e9%83%8e%e3%81%a9%e3%82%82%e3%80%80%e3%82%bf%e3%82%a4%e3%83%a0%e3%83%aa%e3%83%bc%e3%83%97-2
LOCATION:BEAT STATION\, 福岡市中央区渡辺通4-11-4\, 〒810-0004
CATEGORIES:トップ画面に表示する
END:VEVENT
BEGIN:VEVENT
DTSTART;VALUE=DATE:20220319
DTEND;VALUE=DATE:20220320
DTSTAMP:20260420T093554
CREATED:20211214T131703Z
LAST-MODIFIED:20220202T121529Z
UID:4582-1647648000-1647734399@beats.stars.ne.jp
SUMMARY:STEADY TOUR 2022
DESCRIPTION:SHANK \nw/SIX LOUNGE \n  \n 
URL:https://beats.stars.ne.jp/schedule/steady-tour-2022
LOCATION:BEAT STATION\, 福岡市中央区渡辺通4-11-4\, 〒810-0004
CATEGORIES:トップ画面に表示する
END:VEVENT
BEGIN:VEVENT
DTSTART;VALUE=DATE:20220313
DTEND;VALUE=DATE:20220314
DTSTAMP:20260420T093554
CREATED:20220203T055438Z
LAST-MODIFIED:20220203T055438Z
UID:4747-1647129600-1647215999@beats.stars.ne.jp
SUMMARY:TRESOL 10TH ANNIVERSARY LIVE SPECIAL
DESCRIPTION:underslowjams\nKnocos\nimai(group_inou)\n週末CITY PLAY BOYZ\n \nチケットはこちら\nhttps://t.livepocket.jp/e/tresol10th
URL:https://beats.stars.ne.jp/schedule/tresol-10th-anniversary-live-special
LOCATION:BEAT STATION\, 福岡市中央区渡辺通4-11-4\, 〒810-0004
CATEGORIES:トップ画面に表示する
END:VEVENT
BEGIN:VEVENT
DTSTART;VALUE=DATE:20220312
DTEND;VALUE=DATE:20220313
DTSTAMP:20260420T093554
CREATED:20220204T062201Z
LAST-MODIFIED:20220204T062201Z
UID:4755-1647043200-1647129599@beats.stars.ne.jp
SUMMARY:『HITORI-ESCAPE TOUR 2022』
DESCRIPTION:ヒトリエ
URL:https://beats.stars.ne.jp/schedule/%e3%80%8ehitori-escape-tour-2022%e3%80%8f-2
LOCATION:BEAT STATION\, 福岡市中央区渡辺通4-11-4\, 〒810-0004
END:VEVENT
BEGIN:VEVENT
DTSTART;VALUE=DATE:20220311
DTEND;VALUE=DATE:20220312
DTSTAMP:20260420T093554
CREATED:20220204T062011Z
LAST-MODIFIED:20220204T062011Z
UID:4753-1646956800-1647043199@beats.stars.ne.jp
SUMMARY:『HITORI-ESCAPE TOUR 2022』
DESCRIPTION:ヒトリエ
URL:https://beats.stars.ne.jp/schedule/%e3%80%8ehitori-escape-tour-2022%e3%80%8f
LOCATION:BEAT STATION\, 福岡市中央区渡辺通4-11-4\, 〒810-0004
END:VEVENT
BEGIN:VEVENT
DTSTART;VALUE=DATE:20220309
DTEND;VALUE=DATE:20220310
DTSTAMP:20260420T093554
CREATED:20220205T005937Z
LAST-MODIFIED:20220303T014415Z
UID:4764-1646784000-1646870399@beats.stars.ne.jp
SUMMARY:『BATTLE AND UNITY TOUR 2022』
DESCRIPTION:Wienners\n \nw/夜の本気ダンス\n \n \n\n  \nチケット一般発売\n2/19 10:00〜
URL:https://beats.stars.ne.jp/schedule/%e3%80%8ebattle-and-unity-tour-2022%e3%80%8f
LOCATION:BEAT STATION\, 福岡市中央区渡辺通4-11-4\, 〒810-0004
CATEGORIES:トップ画面に表示する
END:VEVENT
BEGIN:VEVENT
DTSTART;VALUE=DATE:20220306
DTEND;VALUE=DATE:20220307
DTSTAMP:20260420T093554
CREATED:20220205T005204Z
LAST-MODIFIED:20220205T005204Z
UID:4762-1646524800-1646611199@beats.stars.ne.jp
SUMMARY:RENT THANKS
DESCRIPTION:
URL:https://beats.stars.ne.jp/schedule/rent-thanks-51
LOCATION:BEAT STATION\, 福岡市中央区渡辺通4-11-4\, 〒810-0004
END:VEVENT
BEGIN:VEVENT
DTSTART;VALUE=DATE:20220305
DTEND;VALUE=DATE:20220306
DTSTAMP:20260420T093554
CREATED:20220205T005126Z
LAST-MODIFIED:20220205T005126Z
UID:4760-1646438400-1646524799@beats.stars.ne.jp
SUMMARY:RENT THANKS
DESCRIPTION:
URL:https://beats.stars.ne.jp/schedule/rent-thanks-43
LOCATION:BEAT STATION\, 福岡市中央区渡辺通4-11-4\, 〒810-0004
END:VEVENT
BEGIN:VEVENT
DTSTART;VALUE=DATE:20220304
DTEND;VALUE=DATE:20220305
DTSTAMP:20260420T093554
CREATED:20211226T061952Z
LAST-MODIFIED:20211226T061952Z
UID:4615-1646352000-1646438399@beats.stars.ne.jp
SUMMARY:HOTOKE&とっくん Presents 三竦みBATTLE ROYALE -MONO TONE FEST-
DESCRIPTION:HOTOKE \n  \n…and more
URL:https://beats.stars.ne.jp/schedule/hotoke%e3%81%a8%e3%81%a3%e3%81%8f%e3%82%93-presents-%e4%b8%89%e7%ab%a6%e3%81%bfbattle-royale-mono-tone-fest
LOCATION:BEAT STATION\, 福岡市中央区渡辺通4-11-4\, 〒810-0004
END:VEVENT
BEGIN:VEVENT
DTSTART;VALUE=DATE:20220301
DTEND;VALUE=DATE:20220302
DTSTAMP:20260420T093554
CREATED:20220212T061432Z
LAST-MODIFIED:20220212T061432Z
UID:4803-1646092800-1646179199@beats.stars.ne.jp
SUMMARY:『JUMP ROPE MADNESS TOUR』
DESCRIPTION:ズーカラデル\n \n 
URL:https://beats.stars.ne.jp/schedule/%e3%80%8ejump-rope-madness-tour%e3%80%8f
LOCATION:BEAT STATION\, 福岡市中央区渡辺通4-11-4\, 〒810-0004
CATEGORIES:トップ画面に表示する
END:VEVENT
BEGIN:VEVENT
DTSTART;VALUE=DATE:20220227
DTEND;VALUE=DATE:20220228
DTSTAMP:20260420T093554
CREATED:20220115T065519Z
LAST-MODIFIED:20220216T052859Z
UID:4671-1645920000-1646006399@beats.stars.ne.jp
SUMMARY:after a long absence
DESCRIPTION:higher GROUND\nMiLiARDO(東京) \n※KISS SCENE、ジカタビザワールドこちらの2バンドが\n出演キャンセルとなりました。 \nまたこれに伴い開場・開演時間の変更となります。\nお間違いないようお気をつけください。 \n 
URL:https://beats.stars.ne.jp/schedule/after-a-long-absence
LOCATION:BEAT STATION\, 福岡市中央区渡辺通4-11-4\, 〒810-0004
CATEGORIES:トップ画面に表示する
END:VEVENT
BEGIN:VEVENT
DTSTART;VALUE=DATE:20220226
DTEND;VALUE=DATE:20220227
DTSTAMP:20260420T093554
CREATED:20220131T072505Z
LAST-MODIFIED:20220131T072505Z
UID:4729-1645833600-1645919999@beats.stars.ne.jp
SUMMARY:六弦郷
DESCRIPTION:knob\nTRIBAL RED\nW→FORCE
URL:https://beats.stars.ne.jp/schedule/%e5%85%ad%e5%bc%a6%e9%83%b7
LOCATION:BEAT STATION\, 福岡市中央区渡辺通4-11-4\, 〒810-0004
CATEGORIES:トップ画面に表示する
END:VEVENT
END:VCALENDAR