BEGIN:VCALENDAR
VERSION:2.0
PRODID:-//福岡のライブハウス BEAT STATION - ECPv6.10.3//NONSGML v1.0//EN
CALSCALE:GREGORIAN
METHOD:PUBLISH
X-WR-CALNAME:福岡のライブハウス BEAT STATION
X-ORIGINAL-URL:https://beats.stars.ne.jp
X-WR-CALDESC:福岡のライブハウス BEAT STATION のイベント
REFRESH-INTERVAL;VALUE=DURATION:PT1H
X-Robots-Tag:noindex
X-PUBLISHED-TTL:PT1H
BEGIN:VTIMEZONE
TZID:Asia/Tokyo
BEGIN:STANDARD
TZOFFSETFROM:+0900
TZOFFSETTO:+0900
TZNAME:JST
DTSTART:20210101T000000
END:STANDARD
END:VTIMEZONE
BEGIN:VEVENT
DTSTART;VALUE=DATE:20210911
DTEND;VALUE=DATE:20210912
DTSTAMP:20260420T130216
CREATED:20210902T025805Z
LAST-MODIFIED:20210902T025805Z
UID:4260-1631318400-1631404799@beats.stars.ne.jp
SUMMARY:HOME PARADE
DESCRIPTION:我儘ラキア  \n※NightOwl は出演キャンセルとなりました。\n払い戻しはこちらをご確認ください。 \n■HOME PARADE 払戻期間になると、アプリ内の該当公演チケット画面に[払戻申請]ボタンが表示されます。 必ずチケットのダウンロードを行ってから申請をしてください。 払戻期間を過ぎてからの払戻は対応しかねます。 \nhttps://eplus.jp/sf/refund2/f-type \n\n[払い戻し対応期間] 9/2(木)10:00〜9/6(月)23:59 \n 
URL:https://beats.stars.ne.jp/schedule/home-parade-2
LOCATION:BEAT STATION\, 福岡市中央区渡辺通4-11-4\, 〒810-0004
CATEGORIES:トップ画面に表示する
END:VEVENT
BEGIN:VEVENT
DTSTART;VALUE=DATE:20210911
DTEND;VALUE=DATE:20210912
DTSTAMP:20260420T130216
CREATED:20210815T083138Z
LAST-MODIFIED:20210902T025229Z
UID:4107-1631318400-1631404799@beats.stars.ne.jp
SUMMARY:NightOwl”Answer”Release Outstore Tour 公演中止
DESCRIPTION:NightOwl   \n払い戻しはこちらをご確認ください\n■リリースツアー \n＜クレジットカードの方＞ ご自身でのお手続きは不要です。\nhttps://eplus.jp/sf/refund1/c-type \n＜クレジットカード以外の方＞ 『ウェルネット送金サービス』を利用して代金をご返金いたします。 イープラスよりメールでご案内しますので今しばらくお待ちください。\nhttps://eplus.jp/sf/refund1/w-type
URL:https://beats.stars.ne.jp/schedule/nightowlanswerrelease-outstore-tour
LOCATION:BEAT STATION\, 福岡市中央区渡辺通4-11-4\, 〒810-0004
END:VEVENT
BEGIN:VEVENT
DTSTART;VALUE=DATE:20210910
DTEND;VALUE=DATE:20210911
DTSTAMP:20260420T130216
CREATED:20210815T082300Z
LAST-MODIFIED:20210815T082300Z
UID:4104-1631232000-1631318399@beats.stars.ne.jp
SUMMARY:手島章斗 1st ONEMAN TOUR2021 「Love Our Life」
DESCRIPTION:手島章斗 \n  \nチケットはこちらから\nhttps://t.livepocket.jp/event/promoter?p_code=lI6Q57HR2I7yTxUQ&eid=98166
URL:https://beats.stars.ne.jp/schedule/%e6%89%8b%e5%b3%b6%e7%ab%a0%e6%96%97-1st-oneman-tour2021-%e3%80%8clove-our-life%e3%80%8d-2
CATEGORIES:トップ画面に表示する
END:VEVENT
BEGIN:VEVENT
DTSTART;VALUE=DATE:20210909
DTEND;VALUE=DATE:20210910
DTSTAMP:20260420T130216
CREATED:20210710T100925Z
LAST-MODIFIED:20210831T081834Z
UID:4011-1631145600-1631231999@beats.stars.ne.jp
SUMMARY:星に願ってもしょうがないツアー 公演中止
DESCRIPTION:ズーカラデル\n  \n  \nズーカラデル「星に願ってもしょうがないツアー」開催中止のお知らせ \nこの度、ズーカラデルのツアー関係者の一名が新型コロナウイルス濃厚接触者に該当する可能性があった為、\n本日PCR検査を受診したところ、陽性反応が出ました。 \n当該ツアー関係者は、先月末に一度 新型コロナウイルスに罹患しており隔離・療養期間は8月6日に終了し、\nその後コロナに感染している症状は一切出ておりません。\nまた、療養終了後１ヶ月程度は死滅したウイルスが体内に残っており反応として陽性反応が出てしまうことはあるとのことでした。\nその為、医療機関の判断としては、人に移す心配もなく、社会活動に復帰してもかまわないと診断されましたが、\n万が一の場合を考慮し、また、現在の新型コロナウイルス感染拡大状況も鑑み今回ツアーの開催を中止させていただくこととなりました。 \n公演についてのチケットの払い戻し等の詳細については追って、オフィシャルホームページへの掲載、\nチケットをご購入いただいてたプレイガイドより登録されているメールアドレスにご連絡をさせて頂きます。 \n開催を楽しみにしていて下さった皆様へは直前のご連絡となってしまい大変申し訳ございませんが、\n何卒ご理解の程、宜しくお願い致します。 \n株式会社グラスホッパー \n  \n 
URL:https://beats.stars.ne.jp/schedule/%e6%98%9f%e3%81%ab%e9%a1%98%e3%81%a3%e3%81%a6%e3%82%82%e3%81%97%e3%82%87%e3%81%86%e3%81%8c%e3%81%aa%e3%81%84%e3%83%84%e3%82%a2%e3%83%bc
LOCATION:BEAT STATION\, 福岡市中央区渡辺通4-11-4\, 〒810-0004
CATEGORIES:トップ画面に表示する
END:VEVENT
BEGIN:VEVENT
DTSTART;VALUE=DATE:20210907
DTEND;VALUE=DATE:20210908
DTSTAMP:20260420T130216
CREATED:20210615T045151Z
LAST-MODIFIED:20210707T053536Z
UID:3932-1630972800-1631059199@beats.stars.ne.jp
SUMMARY:8th ANNIVERSARY TOUR 「世界の終わりと夜明け前」
DESCRIPTION:アルルカン \n\n 一般発売\n 8月16日(月)10:00～\n https://eplus.jp/arlequin/\n ※枚数制限：お一人様2枚まで
URL:https://beats.stars.ne.jp/schedule/8th-anniversary-tour-%e3%80%8c%e4%b8%96%e7%95%8c%e3%81%ae%e7%b5%82%e3%82%8f%e3%82%8a%e3%81%a8%e5%a4%9c%e6%98%8e%e3%81%91%e5%89%8d%e3%80%8d
LOCATION:BEAT STATION\, 福岡市中央区渡辺通4-11-4\, 〒810-0004
CATEGORIES:トップ画面に表示する
END:VEVENT
BEGIN:VEVENT
DTSTART;VALUE=DATE:20210906
DTEND;VALUE=DATE:20210907
DTSTAMP:20260420T130216
CREATED:20210520T101331Z
LAST-MODIFIED:20210821T092143Z
UID:3848-1630886400-1630972799@beats.stars.ne.jp
SUMMARY:FACE IT!! 振替公演 (時間変更あり)
DESCRIPTION:THE FOREVER YOUNG\n TETORA \n くっつくパピー \n※5/28の振替公演となります。 \n時間変更に伴い、ご希望のお客様にはチケットの払い戻しを実施いたします。\n 払い戻し期間：8/22(日)10:00〜9/4(土)23:59\n  \n 払戻方法は、チケットの受取方法や支払方法などにより異なります。\n 下記URLよりどの払戻方法になるのかご確認ください。\n 公演延期/変更 払戻方法確認チャート　https://eplus.jp/refund2/\n お問合せ　https://eplus.jp/qa/\n  \n ※設定期間終了後は払い戻しを受付できませんのでご注意ください。
URL:https://beats.stars.ne.jp/schedule/face-it-%e6%8c%af%e6%9b%bf%e5%85%ac%e6%bc%94
LOCATION:BEAT STATION\, 福岡市中央区渡辺通4-11-4\, 〒810-0004
CATEGORIES:トップ画面に表示する
END:VEVENT
BEGIN:VEVENT
DTSTART;VALUE=DATE:20210905
DTEND;VALUE=DATE:20210906
DTSTAMP:20260420T130216
CREATED:20210831T093440Z
LAST-MODIFIED:20210902T023228Z
UID:4223-1630800000-1630886399@beats.stars.ne.jp
SUMMARY:空想モーメントL+3周年記念フェス「ユートピア+」 2部
DESCRIPTION:空想モーメントL＋ \n MiST\n KAMISAMA-双- \n ElfinLily\n Code-L\n AQUA PLANET \n O/A 柚晴このみ \n 予約/https://tiget.net/events/145501\n ※31日（火）20時00分〜販売開始 
URL:https://beats.stars.ne.jp/schedule/%e7%a9%ba%e6%83%b3%e3%83%a2%e3%83%bc%e3%83%a1%e3%83%b3%e3%83%88l3%e5%91%a8%e5%b9%b4%e8%a8%98%e5%bf%b5%e3%83%95%e3%82%a7%e3%82%b9%e3%80%8c%e3%83%a6%e3%83%bc%e3%83%88%e3%83%94%e3%82%a2%e3%80%8d-2
LOCATION:BEAT STATION\, 福岡市中央区渡辺通4-11-4\, 〒810-0004
CATEGORIES:トップ画面に表示する
END:VEVENT
BEGIN:VEVENT
DTSTART;VALUE=DATE:20210905
DTEND;VALUE=DATE:20210906
DTSTAMP:20260420T130216
CREATED:20210831T093229Z
LAST-MODIFIED:20210902T023253Z
UID:4219-1630800000-1630886399@beats.stars.ne.jp
SUMMARY:空想モーメントL+3周年記念フェス「ユートピア+」　1部
DESCRIPTION:Code-L\nAQUA PLANET\nElfinLily\nアイシェリング\nKAMISAMA-双-\n空想モーメントL＋ \n \n予約/https://tiget.net/events/145500\n※31日（火）20時00分〜販売開始 \n 
URL:https://beats.stars.ne.jp/schedule/%e7%a9%ba%e6%83%b3%e3%83%a2%e3%83%bc%e3%83%a1%e3%83%b3%e3%83%88l3%e5%91%a8%e5%b9%b4%e8%a8%98%e5%bf%b5%e3%83%95%e3%82%a7%e3%82%b9%e3%80%8c%e3%83%a6%e3%83%bc%e3%83%88%e3%83%94%e3%82%a2%e3%80%8d
LOCATION:BEAT STATION\, 福岡市中央区渡辺通4-11-4\, 〒810-0004
CATEGORIES:トップ画面に表示する
END:VEVENT
BEGIN:VEVENT
DTSTART;VALUE=DATE:20210829
DTEND;VALUE=DATE:20210830
DTSTAMP:20260420T130216
CREATED:20210822T111927Z
LAST-MODIFIED:20210826T083519Z
UID:4188-1630195200-1630281599@beats.stars.ne.jp
SUMMARY:「よかもんフェス2021 まだまだ夏」《2部》公演延期
DESCRIPTION:MAGICAL SPEC\n #フラサービックル\n REBIRTH↗\n パピロジェ\n acro-A\n 結音 WEST \n[よかもんフェス2021 まだまだ夏 開催延期のお知らせ] \n 8/29（日）BEAT STATIONで予定しておりました\n 『よかもんフェス2021 まだまだ夏』ですが、\n 新型コロナウイルスの感染が拡大している状況を鑑み\n 開催を延期させていただくこととなりました。\n ご参加をご検討いただいていた皆様には\n ご迷惑をおかけすることと\n 急なご案内となりまして大変申し訳ございません。\n 何とぞご理解のほどよろしくお願い申し上げます。 \n またご購入いただきましたチケットの払い戻し方法につきましては、\n チケットサイトより弊社から払戻しの対応をさせていただきます。 \n よかもんフェス実行委員会 \n\n 本件の関するお問い合わせ：グリーンミュージック\n メールアドレス　info@green-music.jp　 \nチケットはこちら\n https://tiget.net/events/143161
URL:https://beats.stars.ne.jp/schedule/%e3%80%8c%e3%82%88%e3%81%8b%e3%82%82%e3%82%93%e3%83%95%e3%82%a7%e3%82%b92021-%e3%81%be%e3%81%a0%e3%81%be%e3%81%a0%e5%a4%8f%e3%80%8d%e3%80%8a2%e9%83%a8%e3%80%8b
LOCATION:BEAT STATION\, 福岡市中央区渡辺通4-11-4\, 〒810-0004
CATEGORIES:トップ画面に表示する
END:VEVENT
BEGIN:VEVENT
DTSTART;VALUE=DATE:20210829
DTEND;VALUE=DATE:20210830
DTSTAMP:20260420T130216
CREATED:20210822T111420Z
LAST-MODIFIED:20210826T083446Z
UID:4185-1630195200-1630281599@beats.stars.ne.jp
SUMMARY:「よかもんフェス2021 まだまだ夏」《1部》公演延期
DESCRIPTION:MAGICAL SPEC\n #フラサービックル\n REBIRTH↗\n 結音 WEST\n acro-A \n[よかもんフェス2021 まだまだ夏 開催延期のお知らせ] \n8/29（日）BEAT STATIONで予定しておりました\n『よかもんフェス2021 まだまだ夏』ですが、\n新型コロナウイルスの感染が拡大している状況を鑑み\n開催を延期させていただくこととなりました。\nご参加をご検討いただいていた皆様には\nご迷惑をおかけすることと\n急なご案内となりまして大変申し訳ございません。\n何とぞご理解のほどよろしくお願い申し上げます。 \nまたご購入いただきましたチケットの払い戻し方法につきましては、\nチケットサイトより弊社から払戻しの対応をさせていただきます。 \nよかもんフェス実行委員会 \n\n本件の関するお問い合わせ：グリーンミュージック\nメールアドレス　info@green-music.jp　 \nチケットはこちらから\n https://tiget.net/events/143161
URL:https://beats.stars.ne.jp/schedule/%e3%80%8c%e3%82%88%e3%81%8b%e3%82%82%e3%82%93%e3%83%95%e3%82%a7%e3%82%b92021-%e3%81%be%e3%81%a0%e3%81%be%e3%81%a0%e5%a4%8f%e3%80%8d%e3%80%8a1%e9%83%a8%e3%80%8b
LOCATION:BEAT STATION\, 福岡市中央区渡辺通4-11-4\, 〒810-0004
CATEGORIES:トップ画面に表示する
END:VEVENT
BEGIN:VEVENT
DTSTART;VALUE=DATE:20210829
DTEND;VALUE=DATE:20210830
DTSTAMP:20260420T130216
CREATED:20210714T082455Z
LAST-MODIFIED:20210821T062512Z
UID:4025-1630195200-1630281599@beats.stars.ne.jp
SUMMARY:AMANO NATSU BIRTHDAY LIVE in FUKUOKA  公演延期
DESCRIPTION:天野なつ with 深瀬智聖＆井上真里奈 \n\n キャンセル希望\n\nこちらのメールにご連絡してください。\nキャンセル希望とご明記ください。　TiGETよりキャンセル手続きの詳細メールが届きますので、大変お手数ですが、ご対応の程よろしくお願いいたします。
URL:https://beats.stars.ne.jp/schedule/amano-natsu-birthday-live-in-fukuoka
LOCATION:BEAT STATION\, 福岡市中央区渡辺通4-11-4\, 〒810-0004
END:VEVENT
BEGIN:VEVENT
DTSTART;VALUE=DATE:20210828
DTEND;VALUE=DATE:20210829
DTSTAMP:20260420T130216
CREATED:20210823T160911Z
LAST-MODIFIED:20210823T160911Z
UID:4195-1630108800-1630195199@beats.stars.ne.jp
SUMMARY:夏の終わりのIDOL VACANCES
DESCRIPTION:AQUAPLANET\nMiST\nCOLORLESS\nKAMISAMA-双-\n#フラサービックル\nREBIRTH↗︎ \n\nチケットはこちらから\nhttps://tiget.net/events/143470
URL:https://beats.stars.ne.jp/schedule/%e5%a4%8f%e3%81%ae%e7%b5%82%e3%82%8f%e3%82%8a%e3%81%aeidol-vacances
LOCATION:BEAT STATION\, 福岡市中央区渡辺通4-11-4\, 〒810-0004
CATEGORIES:トップ画面に表示する
END:VEVENT
BEGIN:VEVENT
DTSTART;VALUE=DATE:20210828
DTEND;VALUE=DATE:20210829
DTSTAMP:20260420T130216
CREATED:20210817T062706Z
LAST-MODIFIED:20210825T113400Z
UID:4152-1630108800-1630195199@beats.stars.ne.jp
SUMMARY:AQUAPLANETツアーファイナル〜やっぱり福岡だよなぁ〜
DESCRIPTION:AQUAPLANET\n MiST\n COLORLESS\n グットクルー\n #フラサービックル \n  \nチケットはこちらから\n https://tiget.net/events/143471
URL:https://beats.stars.ne.jp/schedule/aquaplanet%e3%83%84%e3%82%a2%e3%83%bc%e3%83%95%e3%82%a1%e3%82%a4%e3%83%8a%e3%83%ab%e3%80%9c%e3%82%84%e3%81%a3%e3%81%b1%e3%82%8a%e7%a6%8f%e5%b2%a1%e3%81%a0%e3%82%88%e3%81%aa%e3%81%81%e3%80%9c
LOCATION:BEAT STATION\, 福岡市中央区渡辺通4-11-4\, 〒810-0004
CATEGORIES:トップ画面に表示する
END:VEVENT
BEGIN:VEVENT
DTSTART;VALUE=DATE:20210827
DTEND;VALUE=DATE:20210828
DTSTAMP:20260420T130216
CREATED:20210712T060902Z
LAST-MODIFIED:20210712T060959Z
UID:4017-1630022400-1630108799@beats.stars.ne.jp
SUMMARY:DieWolf Birthday 2021
DESCRIPTION:Leetspeak monsters \n\n チケット発売日\n 7月18日(日)よりe＋にてチケット発売開始 \n 企画/制作 GLK MUSIC
URL:https://beats.stars.ne.jp/schedule/diewolf-birthday-2021
LOCATION:BEAT STATION\, 福岡市中央区渡辺通4-11-4\, 〒810-0004
END:VEVENT
BEGIN:VEVENT
DTSTART;VALUE=DATE:20210822
DTEND;VALUE=DATE:20210823
DTSTAMP:20260420T130216
CREATED:20210626T005847Z
LAST-MODIFIED:20210822T021626Z
UID:3965-1629590400-1629676799@beats.stars.ne.jp
SUMMARY:秘密結社ニルヴァージュ∀ TOUR 2021 「 月は出ているか?」
DESCRIPTION:秘密結社ニルヴァージュ∀ \n Star⭐︎Prince\n ＜Crescent\n NEVERLAND\n BLACKSHEEP SYNDROME \n チケット一般発売 7/4(日)　10:00
URL:https://beats.stars.ne.jp/schedule/%e7%a7%98%e5%af%86%e7%b5%90%e7%a4%be%e3%83%8b%e3%83%ab%e3%83%b4%e3%82%a1%e3%83%bc%e3%82%b8%e3%83%a5%e2%88%80-tour-2021-%e3%80%8c-%e6%9c%88%e3%81%af%e5%87%ba%e3%81%a6%e3%81%84%e3%82%8b
LOCATION:BEAT STATION\, 福岡市中央区渡辺通4-11-4\, 〒810-0004
CATEGORIES:トップ画面に表示する
END:VEVENT
BEGIN:VEVENT
DTSTART;VALUE=DATE:20210821
DTEND;VALUE=DATE:20210822
DTSTAMP:20260420T130216
CREATED:20210613T101757Z
LAST-MODIFIED:20210613T101757Z
UID:3925-1629504000-1629590399@beats.stars.ne.jp
SUMMARY:的野祥子ワンマン？ライブ 「的FES」
DESCRIPTION:的野祥子 \nサポートバンド \nGt/Bandmaster:桑原大輔 \nDr/垣替啓介 \nBa/末田幸雄 \nKey/安楽健亮
URL:https://beats.stars.ne.jp/schedule/%e7%9a%84%e9%87%8e%e7%a5%a5%e5%ad%90%e3%83%af%e3%83%b3%e3%83%9e%e3%83%b3%ef%bc%9f%e3%83%a9%e3%82%a4%e3%83%96-%e3%80%8c%e7%9a%84fes%e3%80%8d
LOCATION:BEAT STATION\, 福岡市中央区渡辺通4-11-4\, 〒810-0004
CATEGORIES:トップ画面に表示する
END:VEVENT
BEGIN:VEVENT
DTSTART;VALUE=DATE:20210820
DTEND;VALUE=DATE:20210821
DTSTAMP:20260420T130216
CREATED:20210730T080137Z
LAST-MODIFIED:20210820T010109Z
UID:4074-1629417600-1629503999@beats.stars.ne.jp
SUMMARY:1st Single リリースライブ
DESCRIPTION:みるく★ゆうた\nゴールデンパイン\nこのきち \n  \nチケットはこちら⬇︎\n https://bakkyshop.jp/items/view/bkdp-5968
URL:https://beats.stars.ne.jp/schedule/1st-single-%e3%83%aa%e3%83%aa%e3%83%bc%e3%82%b9%e3%83%a9%e3%82%a4%e3%83%96
LOCATION:BEAT STATION\, 福岡市中央区渡辺通4-11-4\, 〒810-0004
CATEGORIES:トップ画面に表示する
END:VEVENT
BEGIN:VEVENT
DTSTART;TZID=Asia/Tokyo:20210815T080000
DTEND;TZID=Asia/Tokyo:20210815T170000
DTSTAMP:20260420T130216
CREATED:20210815T083419Z
LAST-MODIFIED:20210815T083419Z
UID:4109-1629014400-1629046800@beats.stars.ne.jp
SUMMARY:HOME PARADE
DESCRIPTION:NightOwl\n我儘ラキア 
URL:https://beats.stars.ne.jp/schedule/home-parade
CATEGORIES:トップ画面に表示する
END:VEVENT
BEGIN:VEVENT
DTSTART;VALUE=DATE:20210815
DTEND;VALUE=DATE:20210816
DTSTAMP:20260420T130216
CREATED:20210613T101354Z
LAST-MODIFIED:20210709T080854Z
UID:3923-1628985600-1629071999@beats.stars.ne.jp
SUMMARY:【1周年記念ワンマン〜神双乱舞〜】
DESCRIPTION:KAMISAMA-双-\n \n9日21時〜 販売開始 \nhttps://tiget.net/events/138852 
URL:https://beats.stars.ne.jp/schedule/rent-thanks-35
LOCATION:BEAT STATION\, 福岡市中央区渡辺通4-11-4\, 〒810-0004
CATEGORIES:トップ画面に表示する
END:VEVENT
BEGIN:VEVENT
DTSTART;VALUE=DATE:20210814
DTEND;VALUE=DATE:20210815
DTSTAMP:20260420T130216
CREATED:20210812T070649Z
LAST-MODIFIED:20210812T070649Z
UID:4096-1628899200-1628985599@beats.stars.ne.jp
SUMMARY:【夏真っ盛り IDOL SPLASH】
DESCRIPTION:  \n山口愛悠伽\nJune♡bride\nCode-L \n柚晴このみ \n  \n※8月12日（木）18時〜チケット販売開始\n予約/https://tiget.net/events/143271 \n 
URL:https://beats.stars.ne.jp/schedule/%e3%80%90%e5%a4%8f%e7%9c%9f%e3%81%a3%e7%9b%9b%e3%82%8a-idol-splash%e3%80%91
LOCATION:BEAT STATION\, 福岡市中央区渡辺通4-11-4\, 〒810-0004
END:VEVENT
BEGIN:VEVENT
DTSTART;VALUE=DATE:20210814
DTEND;VALUE=DATE:20210815
DTSTAMP:20260420T130216
CREATED:20210613T101323Z
LAST-MODIFIED:20210813T121358Z
UID:3921-1628899200-1628985599@beats.stars.ne.jp
SUMMARY:【MiST初ワンマンライブ】
DESCRIPTION:MiST\n \n※霧色朱音のソロとなります\n \n予約/https://tiget.net/events/135525 
URL:https://beats.stars.ne.jp/schedule/rent-thanks-34
LOCATION:BEAT STATION\, 福岡市中央区渡辺通4-11-4\, 〒810-0004
CATEGORIES:トップ画面に表示する
END:VEVENT
BEGIN:VEVENT
DTSTART;VALUE=DATE:20210813
DTEND;VALUE=DATE:20210814
DTSTAMP:20260420T130216
CREATED:20210710T102146Z
LAST-MODIFIED:20210804T082642Z
UID:4014-1628812800-1628899199@beats.stars.ne.jp
SUMMARY:NOISEMAKER 【NOISEMANIA 2021】 開場・開演時間変更あり
DESCRIPTION:NOISEMAKER \n  \nチケット一般発売\n 7/24 10:00〜\n https://t.pia.jp/pia/event/event.do?eventBundleCd=b2174421 \n  \n【NOISEMAKER】NOISEMANIA 2021\n8/13(金)福岡公演・8/17(火)京都公演 開場開演時間変更・払い戻しのお知らせ\n \nいつもNOISEMAKERを応援いただきありがとうございます。\n \n8/13(金)福岡公演・8/17(火)京都公演につきまして、新型コロナウイルス感染症まん延防止等重点措置の発令に伴い、ライブハウスへの20時までの営業時間短縮の要請を受け、お客様には大変申し訳ございませんが、開場・開演時間を変更しての開催とさせていただきます。\n \nご来場いただくお客様は、変更後のお時間をご確認の上、ご来場いただきますようお願いいたします。\n \n■公演詳細\n【公演日】2021年8月13日（金）\n【会場】福岡・BEAT STATION\n＜変更前＞open 18:30 / start 19:00\n＜変更後＞open 17:30 / start 18:00\n \n【公演日】2021年8月17日（火）\n【会場】京都・KYOTO MUSE\n＜変更前＞open 18:30 / start 19:00\n＜変更後＞open 17:30 / start 18:00\n \n開演時間変更に伴い、残念ながらご来場が出来ないお客様に関しまして、ご購入頂いたプレイガイドにて払い戻しを承ります。\n \n＜払い戻しについて＞\n下記事項をご確認の上、お手続きをお願いいたします。\nなお、払い戻し期限は必ずお守り下さい。期日を過ぎますと、払い戻しを致しかねますので予めご了承ください。\n \n＜払い戻し期間：2021年8月5日(木)10:00〜2021年8月9日(月休)23:59まで＞\n \n【オフィシャル先行 / プレリザーブ先行 / チケットぴあにてご購入のお客様】\n下記URLより払い戻し方法をご確認の上、お手続きください。\n・払戻方法：http://t.pia.jp/guide/refund.jsp\n \n■払い戻しに関するお問合せ：http://t.pia.jp/help/\n \n \n【公演に関するお問い合わせ】\n※新型コロナウイルス感染拡大防止対策の一環として、\nオペレーターによる受付を休止または受付時間を変更している場合がございます。\n \n＜福岡公演＞\nPROJECT FAMIRY 092-406-0855 / https://project-famiry.com/\n \n＜京都公演＞\nキョードーインフォメーション 0570-200-888 / https://kyodo-osaka.co.jp/
URL:https://beats.stars.ne.jp/schedule/noisemaker-%e3%80%90noisemania-2021%e3%80%91
LOCATION:BEAT STATION\, 福岡市中央区渡辺通4-11-4\, 〒810-0004
CATEGORIES:トップ画面に表示する
END:VEVENT
BEGIN:VEVENT
DTSTART;VALUE=DATE:20210809
DTEND;VALUE=DATE:20210810
DTSTAMP:20260420T130216
CREATED:20210416T053811Z
LAST-MODIFIED:20210628T054202Z
UID:3734-1628467200-1628553599@beats.stars.ne.jp
SUMMARY:「ZOC FOR PRAYER TOUR 2021 SUMMER」2部
DESCRIPTION:ZOC \n  \n  \nチケット一般発売\n7/3(土) 10:00〜
URL:https://beats.stars.ne.jp/schedule/%e3%80%8czoc-for-prayer-tour-2021-summer%e3%80%8d2%e9%83%a8-2
LOCATION:BEAT STATION\, 福岡市中央区渡辺通4-11-4\, 〒810-0004
CATEGORIES:トップ画面に表示する
END:VEVENT
BEGIN:VEVENT
DTSTART;VALUE=DATE:20210809
DTEND;VALUE=DATE:20210810
DTSTAMP:20260420T130216
CREATED:20210416T053502Z
LAST-MODIFIED:20210628T054128Z
UID:3732-1628467200-1628553599@beats.stars.ne.jp
SUMMARY:「ZOC FOR PRAYER TOUR 2021 SUMMER」1部
DESCRIPTION:ZOC \n  \n  \nチケット一般発売\n7/3(土) 10:00〜
URL:https://beats.stars.ne.jp/schedule/%e3%80%8czoc-for-prayer-tour-2021-summer%e3%80%8d1%e9%83%a8-2
LOCATION:BEAT STATION\, 福岡市中央区渡辺通4-11-4\, 〒810-0004
CATEGORIES:トップ画面に表示する
END:VEVENT
BEGIN:VEVENT
DTSTART;VALUE=DATE:20210808
DTEND;VALUE=DATE:20210809
DTSTAMP:20260420T130216
CREATED:20210416T053321Z
LAST-MODIFIED:20210628T053952Z
UID:3730-1628380800-1628467199@beats.stars.ne.jp
SUMMARY:「ZOC FOR PRAYER TOUR 2021 SUMMER」2部
DESCRIPTION:ZOC \n  \n  \nチケット一般発売\n7/3(土)　10:00〜
URL:https://beats.stars.ne.jp/schedule/%e3%80%8czoc-for-prayer-tour-2021-summer%e3%80%8d2%e9%83%a8
LOCATION:BEAT STATION\, 福岡市中央区渡辺通4-11-4\, 〒810-0004
CATEGORIES:トップ画面に表示する
END:VEVENT
BEGIN:VEVENT
DTSTART;VALUE=DATE:20210808
DTEND;VALUE=DATE:20210809
DTSTAMP:20260420T130216
CREATED:20210416T053118Z
LAST-MODIFIED:20210628T054037Z
UID:3727-1628380800-1628467199@beats.stars.ne.jp
SUMMARY:「ZOC FOR PRAYER TOUR 2021 SUMMER」1部
DESCRIPTION:ZOC \n  \n  \nチケット一般発売\n 7/3(土)　10:00〜
URL:https://beats.stars.ne.jp/schedule/%e3%80%8czoc-for-prayer-tour-2021-summer%e3%80%8d1%e9%83%a8
LOCATION:BEAT STATION\, 福岡市中央区渡辺通4-11-4\, 〒810-0004
CATEGORIES:トップ画面に表示する
END:VEVENT
BEGIN:VEVENT
DTSTART;VALUE=DATE:20210807
DTEND;VALUE=DATE:20210808
DTSTAMP:20260420T130216
CREATED:20210717T035009Z
LAST-MODIFIED:20210717T035009Z
UID:4034-1628294400-1628380799@beats.stars.ne.jp
SUMMARY:當山みれい “still” Acoustic Special Live 2021
DESCRIPTION:當山みれい \nチケット一般発売 7/29 18:00
URL:https://beats.stars.ne.jp/schedule/%e7%95%b6%e5%b1%b1%e3%81%bf%e3%82%8c%e3%81%84-still-acoustic-special-live-2021
LOCATION:BEAT STATION\, 福岡市中央区渡辺通4-11-4\, 〒810-0004
END:VEVENT
BEGIN:VEVENT
DTSTART;VALUE=DATE:20210807
DTEND;VALUE=DATE:20210808
DTSTAMP:20260420T130216
CREATED:20210613T101055Z
LAST-MODIFIED:20210717T035142Z
UID:3919-1628294400-1628380799@beats.stars.ne.jp
SUMMARY:當山みれい LIVE HOUSE TOUR 2020 振替公演
DESCRIPTION:當山みれい \n  \n 
URL:https://beats.stars.ne.jp/schedule/%e7%95%b6%e5%b1%b1%e3%81%bf%e3%82%8c%e3%81%84-live-house-tour-2020-%e6%8c%af%e6%9b%bf%e5%85%ac%e6%bc%94-2
LOCATION:BEAT STATION\, 福岡市中央区渡辺通4-11-4\, 〒810-0004
END:VEVENT
BEGIN:VEVENT
DTSTART;VALUE=DATE:20210806
DTEND;VALUE=DATE:20210807
DTSTAMP:20260420T130216
CREATED:20210613T100628Z
LAST-MODIFIED:20210619T072023Z
UID:3917-1628208000-1628294399@beats.stars.ne.jp
SUMMARY:BAN‘S ENCOUNTER 2020-2021 “僕が君に歌える日までTOUR”
DESCRIPTION:BAN’SENCOUNTER
URL:https://beats.stars.ne.jp/schedule/bans-encounter-2020-2021-%e5%83%95%e3%81%8c%e5%90%9b%e3%81%ab%e6%ad%8c%e3%81%88%e3%82%8b%e6%97%a5%e3%81%be%e3%81%a7tour
LOCATION:BEAT STATION\, 福岡市中央区渡辺通4-11-4\, 〒810-0004
CATEGORIES:トップ画面に表示する
END:VEVENT
BEGIN:VEVENT
DTSTART;VALUE=DATE:20210801
DTEND;VALUE=DATE:20210802
DTSTAMP:20260420T130216
CREATED:20210430T074722Z
LAST-MODIFIED:20210521T055708Z
UID:3782-1627776000-1627862399@beats.stars.ne.jp
SUMMARY:ONEMAN TOUR 2021「再興〜Rock Band Is Not Dead〜」
DESCRIPTION:BugLug \n  \n  \nチケット一般発売\n7/10(土) 10:00〜
URL:https://beats.stars.ne.jp/schedule/oneman-tour-2021%e3%80%8c%e5%86%8d%e8%88%88%e3%80%9crock-band-is-not-dead%e3%80%9c%e3%80%8d
LOCATION:BEAT STATION\, 福岡市中央区渡辺通4-11-4\, 〒810-0004
CATEGORIES:トップ画面に表示する
END:VEVENT
END:VCALENDAR