BEGIN:VCALENDAR
VERSION:2.0
PRODID:-//福岡のライブハウス BEAT STATION - ECPv6.10.3//NONSGML v1.0//EN
CALSCALE:GREGORIAN
METHOD:PUBLISH
X-WR-CALNAME:福岡のライブハウス BEAT STATION
X-ORIGINAL-URL:https://beats.stars.ne.jp
X-WR-CALDESC:福岡のライブハウス BEAT STATION のイベント
REFRESH-INTERVAL;VALUE=DURATION:PT1H
X-Robots-Tag:noindex
X-PUBLISHED-TTL:PT1H
BEGIN:VTIMEZONE
TZID:Asia/Tokyo
BEGIN:STANDARD
TZOFFSETFROM:+0900
TZOFFSETTO:+0900
TZNAME:JST
DTSTART:20210101T000000
END:STANDARD
END:VTIMEZONE
BEGIN:VEVENT
DTSTART;VALUE=DATE:20210525
DTEND;VALUE=DATE:20210526
DTSTAMP:20260420T205911
CREATED:20210312T100158Z
LAST-MODIFIED:20210522T021813Z
UID:3577-1621900800-1621987199@beats.stars.ne.jp
SUMMARY:Looking for “ANDY” Tour 2021
DESCRIPTION:Dizzy Sunfist \nGUEST:SHIMA \n  \nチケット一般発売 4/24 10:00〜 \n \n\n 現状のガイドラインに則り、感染防止対策を実施の上\n 開場・開演を変更し開催いたします。\n お客様におきましても、引き続き感染防止対策のうえ、ご来場ください。\n 高崎、広島、福岡公演については\n ご来場を検討されているお客様を対象に、払い戻しを受け付けます。
URL:https://beats.stars.ne.jp/schedule/looking-for-andy-tour-2021
LOCATION:BEAT STATION\, 福岡市中央区渡辺通4-11-4\, 〒810-0004
CATEGORIES:トップ画面に表示する
END:VEVENT
BEGIN:VEVENT
DTSTART;VALUE=DATE:20210523
DTEND;VALUE=DATE:20210524
DTSTAMP:20260420T205911
CREATED:20210422T034411Z
LAST-MODIFIED:20210422T034411Z
UID:3756-1621728000-1621814399@beats.stars.ne.jp
SUMMARY:アフターパーティー
DESCRIPTION:FREAK \n  \nチケットのお求めはこちら\nhttps://bridg-e.jp/projects/freak\n4/21（水）〜5/20（木）23：59まで
URL:https://beats.stars.ne.jp/schedule/%e3%82%a2%e3%83%95%e3%82%bf%e3%83%bc%e3%83%91%e3%83%bc%e3%83%86%e3%82%a3%e3%83%bc
LOCATION:BEAT STATION\, 福岡市中央区渡辺通4-11-4\, 〒810-0004
END:VEVENT
BEGIN:VEVENT
DTSTART;VALUE=DATE:20210523
DTEND;VALUE=DATE:20210524
DTSTAMP:20260420T205911
CREATED:20210422T034226Z
LAST-MODIFIED:20210422T034226Z
UID:3754-1621728000-1621814399@beats.stars.ne.jp
SUMMARY:大感謝ライブイベント
DESCRIPTION:FREAK \n  \nチケット等お求めはこちら\nhttps://bridg-e.jp/projects/freak\n4/21（水）〜5/20（木）23：59まで
URL:https://beats.stars.ne.jp/schedule/%e5%a4%a7%e6%84%9f%e8%ac%9d%e3%83%a9%e3%82%a4%e3%83%96%e3%82%a4%e3%83%99%e3%83%b3%e3%83%88
LOCATION:BEAT STATION\, 福岡市中央区渡辺通4-11-4\, 〒810-0004
END:VEVENT
BEGIN:VEVENT
DTSTART;VALUE=DATE:20210522
DTEND;VALUE=DATE:20210523
DTSTAMP:20260420T205911
CREATED:20210309T030117Z
LAST-MODIFIED:20210309T030117Z
UID:3571-1621641600-1621727999@beats.stars.ne.jp
SUMMARY:POST PULP TOUR 2021  振替公演
DESCRIPTION: Attractions  \n  \n※2021年1月23日分チケットは振替公演にそのまま有効です。本振替公演はチケット記載の整理番号順に1st公演・2nd公演それぞれご整列・並列入場していただきます \n※残念ながら振替公演にご来場が叶わないお客様におきましては、チケットの払い戻しを致します。下記をご確認の上、お手続きくださいますようお願い致します。 \n＜チケット再発売＞ \n振替公演のチケット再発売につきましては、後日ご案内致します \n  \n＜チケット払い戻し方法＞ \n払い戻し期間：2021年3月9日(火)10:00～2021年4月22日(木)23:59 \n※上記期間外の対応は出来かねますので、必ず期間内にお手続きをお願い致します \n・ご購入のプレイガイドによって払い戻し方法が異なりますので、下記をご確認ください \n・紙チケットは払い戻しの際に回収させていただきます \n・紙チケットの紛失や本券と半券が切り離されたものは払い戻し出来ませんのでご注意ください \n[ローソンチケット にてご購入のお客様] \n▼紙チケットの場合▼\nお近くのローソン、ミニストップ店舗のLoppiにてお手続きをお願い致します。 \nチケットをお引取り頂いたコンビニであれば、どの店舗でも払い戻し可能です。 \n配送引取を選択されたお客様は、最寄りのローソン店舗で払い戻しを致します。 \n詳細は下記URLページをご参照下さい。\nhttp://l-tike.com/oc/lt/haraimodoshi/ \n▼電子チケットの場合▼ \nローチケ申込サイト内「マイページ」より払い戻し手続きの上、CASHPOST（注1）をご利用いただき、払い戻しさせていただきます。 \n期限を過ぎますと払い戻し手続きが一切できなくなりますのでご注意ください。 \n注1）CASHPOSTとは金融庁管轄の資金移動業者であるイーコンテクスト社（登録番号：関東財務局長第00030号）が提供しているサービスです。 \n※一部、ローソンチケットマイページ上には払い戻し終了日が「4月25日（日）23:59」までと表記されておりますが、正しくは上記の通り「4月22日（木）23:59」までとなります \nただし、払い戻し終了直前はシステムが混み合う恐れもありますので、払い戻し手続きは必ず余裕を持って行ってください。 \n※電子チケットの「部分払い戻し」はできません。払い戻しする場合は購入枚数分全て払い戻しする必要がございます \n「部分払い戻し」とは、例）チケット2枚購入して、代表者のみ払戻をして、同行者は払い戻しをしない、という払い戻し方法を指します。 \n各お申込みページ：https://l-tike.com/ \n※ご返金手続きには、お客様の予約番号と電話番号が必要になります。予約番号はお申込みいただきました上記ページの「申込確認」からご確認いただけます \n■お手続き手順 \n[step1] \n　受付サイト内「マイページ」にログイン \n[step2] \n　「申込履歴一覧」を選択 \n[step3] \n　払戻したい予約の「公演名」を選択して申し込み詳細画面に移動 \n[step4] \n　申込詳細画面の下部の「払戻情報」にある【払戻手続きへ】を選択 \n[step5] \n　「払戻状況」のチケット料金などの情報を確認いただいた上、 \n　「払戻手続き案内メール宛先」にメールアドレスを入力いただき【次へ】をクリック \n[step6] \n　「申請内容確認」の情報を確認いただき、ご案内内容に同意いただいた上、【払戻申請】を選択 \n　こちらで、受付サイト内マイページ上での登録は完了 \n　※[step6]の完了後、3日以内に[step7]から［step11]のお手続きをする必要があります。 \n[step7] \n　[step6]にてご登録いただいたメールアドレスへ \n　「お受取内容」と「受取り手続き方法」を記載したメールが、ローチケより届きます。メールが届いたらすぐに内容をご確認して記載のURLへアクセスしてください。 \n　※ここから先は、CASH POSTサイトでの手続きとなります \n[step8] \n　[step7]で受け取ったメールに記載の「受付番号」を入力の上、「画像認証」の数字を入力いただき、【次へ】を選択 \n[step9] \n　「受取内容」を確認の上、「受取方法の選択」で【銀行振込 指定口座へ入金】か【ローソン 店頭での受取り】かを選択。 \n　※受取金額が9\,999円以上の場合には【ローソン 店頭での受取り】は選択できません。 \n【銀行振込 指定口座へ入金】を選択した場合 \n[step10] \n　「認証キー」として、お申し込み時の【予約番号】と【電話番号】を入力の上、個人情報の取り扱いについてご確認、同意いただき、【金融機関を選択】を選択 \n[step11] \n　以降は画面の指示に従い操作いただき、お手続き完了 \nお問合せ：ローソンチケット https://faq.l-tike.com/ \n[チケットぴあ にてご購入のお客様]\n払い戻し方法は、チケットの受取方法や支払方法などにより異なります。\n下記URLよりどの払い戻し方法になるのか確認をお願い致します。\n払い戻し方法詳細：http://t.pia.jp/guide/refund.jsp \nお問合せ：チケットぴあ http://t.pia.jp/help/ \n[イープラス にてご購入のお客様]\n払い戻し方法は、チケットの受取方法や支払方法などにより異なります。\n下記URLよりどの払い戻し方法になるのか確認をお願い致します。\n払い戻し方法詳細：https://eplus.jp/sf/refund2/ \nお問合せ：イープラス http://eplus.jp/refund2-toiawase/
URL:https://beats.stars.ne.jp/schedule/post-pulp-tour-2021-%e6%8c%af%e6%9b%bf%e5%85%ac%e6%bc%94
LOCATION:BEAT STATION\, 福岡市中央区渡辺通4-11-4\, 〒810-0004
CATEGORIES:トップ画面に表示する
END:VEVENT
BEGIN:VEVENT
DTSTART;VALUE=DATE:20210521
DTEND;VALUE=DATE:20210522
DTSTAMP:20260420T205911
CREATED:20210305T024352Z
LAST-MODIFIED:20210508T133910Z
UID:3556-1621555200-1621641599@beats.stars.ne.jp
SUMMARY:青春ワンダーランドワンダーランド in FUKUOKA!! vol.8 前夜祭　公演延期
DESCRIPTION:青SHUN学園\n QunQun\n 空想モーメントL＋\n パピロジェ\n くるーず〜CRUiSE〜\n 浅草RainboWブリッジ\n Teamくれれっ娘 \nCODE-L\n ちーむM(メイト) \n \n  \n 
URL:https://beats.stars.ne.jp/schedule/%e9%9d%92%e6%98%a5%e3%83%af%e3%83%b3%e3%83%80%e3%83%bc%e3%83%a9%e3%83%b3%e3%83%89%e3%83%af%e3%83%b3%e3%83%80%e3%83%bc%e3%83%a9%e3%83%b3%e3%83%89-in-fukuoka-vol-8-%e5%89%8d%e5%a4%9c%e7%a5%ad
CATEGORIES:トップ画面に表示する
END:VEVENT
BEGIN:VEVENT
DTSTART;VALUE=DATE:20210520
DTEND;VALUE=DATE:20210521
DTSTAMP:20260420T205911
CREATED:20210517T045420Z
LAST-MODIFIED:20210519T151052Z
UID:3836-1621468800-1621555199@beats.stars.ne.jp
SUMMARY:レディプロ武者修行!!@福岡編Final 公演中止
DESCRIPTION:AQUA PLANET\n KAMISAMA-双-\n ElfinLily\n O/A 柚晴このみ \n\n チケット予約\n http://tiget.net/events/131993\n\n\n \n\n\n \n\n\n\n\n \n\n\n 
URL:https://beats.stars.ne.jp/schedule/%e3%83%ac%e3%83%87%e3%82%a3%e3%83%97%e3%83%ad%e6%ad%a6%e8%80%85%e4%bf%ae%e8%a1%8c%e7%a6%8f%e5%b2%a1%e7%b7%a8final
LOCATION:BEAT STATION\, 福岡市中央区渡辺通4-11-4\, 〒810-0004
END:VEVENT
BEGIN:VEVENT
DTSTART;VALUE=DATE:20210519
DTEND;VALUE=DATE:20210520
DTSTAMP:20260420T205911
CREATED:20210517T045239Z
LAST-MODIFIED:20210519T035016Z
UID:3834-1621382400-1621468799@beats.stars.ne.jp
SUMMARY:レディプロ武者修行!!@福岡編Vol.3
DESCRIPTION:AQUA PLANET\n藍沢光 from MiST\nElfinLily\n O/A 柚晴このみ \n※出演予定しておりましたKAMISAMA-双-は出演キャンセルとなっております。\nご了承ください。 \nチケット予約\n http://tiget.net/events/131992
URL:https://beats.stars.ne.jp/schedule/%e3%83%ac%e3%83%87%e3%82%a3%e3%83%97%e3%83%ad%e6%ad%a6%e8%80%85%e4%bf%ae%e8%a1%8c%e7%a6%8f%e5%b2%a1%e7%b7%a8vol-3
LOCATION:BEAT STATION\, 福岡市中央区渡辺通4-11-4\, 〒810-0004
END:VEVENT
BEGIN:VEVENT
DTSTART;VALUE=DATE:20210516
DTEND;VALUE=DATE:20210517
DTSTAMP:20260420T205911
CREATED:20210314T045550Z
LAST-MODIFIED:20210425T075416Z
UID:3585-1621123200-1621209599@beats.stars.ne.jp
SUMMARY:ANTHEM 35th ANNIVERSARY TOUR
DESCRIPTION:ANTHEM
URL:https://beats.stars.ne.jp/schedule/anthem-35th-anniversary-tour
LOCATION:BEAT STATION\, 福岡市中央区渡辺通4-11-4\, 〒810-0004
END:VEVENT
BEGIN:VEVENT
DTSTART;VALUE=DATE:20210515
DTEND;VALUE=DATE:20210516
DTSTAMP:20260420T205911
CREATED:20210514T114948Z
LAST-MODIFIED:20210514T114948Z
UID:3827-1621036800-1621123199@beats.stars.ne.jp
SUMMARY:HelloYouth５大都市ツアー「青春ライブ宣言〜HelloYouthの課外授業〜」
DESCRIPTION:HelloYouth
URL:https://beats.stars.ne.jp/schedule/helloyouth%ef%bc%95%e5%a4%a7%e9%83%bd%e5%b8%82%e3%83%84%e3%82%a2%e3%83%bc%e3%80%8c%e9%9d%92%e6%98%a5%e3%83%a9%e3%82%a4%e3%83%96%e5%ae%a3%e8%a8%80%e3%80%9chelloyouth%e3%81%ae%e8%aa%b2%e5%a4%96%e6%8e%88
LOCATION:BEAT STATION\, 福岡市中央区渡辺通4-11-4\, 〒810-0004
CATEGORIES:トップ画面に表示する
END:VEVENT
BEGIN:VEVENT
DTSTART;VALUE=DATE:20210515
DTEND;VALUE=DATE:20210516
DTSTAMP:20260420T205911
CREATED:20210511T060403Z
LAST-MODIFIED:20210511T060403Z
UID:3822-1621036800-1621123199@beats.stars.ne.jp
SUMMARY:『人生最強伝説～ド派手な花火をあげましょ！～』
DESCRIPTION:LinQ \n (O.A IQプロジェクト研究生)\n\n \nチケット一般発売\n5月4日(火・祝)20:00〜5月21日(金)23:59\n【販売サイト】\nhttps://tiget.net/events/130155
URL:https://beats.stars.ne.jp/schedule/%e3%80%8e%e4%ba%ba%e7%94%9f%e6%9c%80%e5%bc%b7%e4%bc%9d%e8%aa%ac%ef%bd%9e%e3%83%89%e6%b4%be%e6%89%8b%e3%81%aa%e8%8a%b1%e7%81%ab%e3%82%92%e3%81%82%e3%81%92%e3%81%be%e3%81%97%e3%82%87%ef%bc%81%ef%bd%9e
LOCATION:BEAT STATION\, 福岡市中央区渡辺通4-11-4\, 〒810-0004
CATEGORIES:トップ画面に表示する
END:VEVENT
BEGIN:VEVENT
DTSTART;VALUE=DATE:20210514
DTEND;VALUE=DATE:20210515
DTSTAMP:20260420T205911
CREATED:20210403T073635Z
LAST-MODIFIED:20210502T052206Z
UID:3684-1620950400-1621036799@beats.stars.ne.jp
SUMMARY:遅ればせながら、端午の節句！ Though belated. Boys on Rocks!!
DESCRIPTION:開催延期＆自粛となっていたアコースティックライブの復活！遅ればせながら、端午の節句！\nThough belated. Boys on Rocks!! \n\nひな祭りアコースティックライブは非常事態宣言での自粛要請が２０時でしたので、泣く泣く中止にしましたが、今回は２１時までとのことですので、出演者およびご来店の観客の皆様には、多少バタバタさせることもあるかと思いますが、5月14日のアコーステックライブは間違いなく開催いたします。\nピアノ弾き語り、ギター弾き語り、エレクトリックワンマンユニット、アコースティックユニットバンドなどなど、いつもと違うアンプラグドライブ！\nどうぞ、換気なども十分行なっておりますので、ビートステーションまで演者の応援にお越しくださいませ。\n\n\nゆり\n宮本輝\n風雅人\njoebeth(熊本)\nさはら \n\n配信もしてます！\nチャンネル登録もよろしくお願いします！\nhttps://www.youtube.com/channel/UCFDCjsy8JHgO-MPJbpd0diw/videos
URL:https://beats.stars.ne.jp/schedule/%e9%81%85%e3%82%8c%e3%81%b0%e3%81%9b%e3%81%aa%e3%81%8c%e3%82%89%e3%80%81%e7%ab%af%e5%8d%88%e3%81%ae%e7%af%80%e5%8f%a5%ef%bc%81-though-belated-boys-on-rocks
LOCATION:BEAT STATION\, 福岡市中央区渡辺通4-11-4\, 〒810-0004
CATEGORIES:トップ画面に表示する
END:VEVENT
BEGIN:VEVENT
DTSTART;VALUE=DATE:20210509
DTEND;VALUE=DATE:20210510
DTSTAMP:20260420T205911
CREATED:20210305T044247Z
LAST-MODIFIED:20210501T090446Z
UID:3559-1620518400-1620604799@beats.stars.ne.jp
SUMMARY:TENDOUJI TOUR 2021 MONSTER 公演延期
DESCRIPTION:TENDOUJI \n  \n【新型コロナウイルス感染再拡大、緊急事態宣言に伴う\n「TENDOUJI TOUR 2021 MONSTER」福岡公演延期に関するお知らせ】 \nいつもTENDOUJIを応援して頂き誠にありがとうございます。 \nこの度、「TENDOUJI TOUR 2021 MONSTER」におきまして、\n新型コロナウイルス感染再拡大、緊急事態宣言に伴い、\n急速な感染再拡大の兆候から、各位協議を重ねた結果、\nご案内をしておりました福岡公演を以下日程へ振り替える事となりました。 \n当公演を楽しみにお待ちいただいたお客様には、ご迷惑をお掛け致しまして大変申し訳ございませんが、感染の拡大を収束するべく、何卒ご理解いただけますよう宜しくお願い申し上げます。 \n◆福岡・BEAT STATION 公演\n5月9日(日) \n↓↓↓\n6月19日(土)\n開場16:45／開演17:30\n問い合わせ：BEA 092-712-4221\nhttp://www.bea-net.com/ \n\n振替公演へご来場のお客様は、お手持ちの番号がそのまま有効となります。\n紛失されないよう大切に保管して頂き、振替公演当日必ずチケットをご持参ください。\n振替公演へご来場頂けないお客様へはチケット代金の払い戻し対応をさせていただきます。\n詳細は追ってご連絡させていただきます。\nお客様には感染の拡大を収束するべく、ご理解いただければ幸いです。\n何卒宜しくお願い致します。 \n\nTENDOUJI 次世代 セブンスソフトハウス BEA \n 
URL:https://beats.stars.ne.jp/schedule/tendouji-tour-2021-monster
LOCATION:BEAT STATION\, 福岡市中央区渡辺通4-11-4\, 〒810-0004
CATEGORIES:トップ画面に表示する
END:VEVENT
BEGIN:VEVENT
DTSTART;VALUE=DATE:20210505
DTEND;VALUE=DATE:20210506
DTSTAMP:20260420T205911
CREATED:20210503T072111Z
LAST-MODIFIED:20210503T072400Z
UID:3802-1620172800-1620259199@beats.stars.ne.jp
SUMMARY:ゴールデンアイドル Vol.5
DESCRIPTION:MiST\n1UP\nとわる\nCode-L\nAQUA PLANET\nS☆UTHERN CROSS\nルナリウム\n \no/a 柚晴このみ\n 
URL:https://beats.stars.ne.jp/schedule/%e3%82%b4%e3%83%bc%e3%83%ab%e3%83%87%e3%83%b3%e3%82%a2%e3%82%a4%e3%83%89%e3%83%ab-vol-5
LOCATION:BEAT STATION\, 福岡市中央区渡辺通4-11-4\, 〒810-0004
CATEGORIES:トップ画面に表示する
END:VEVENT
BEGIN:VEVENT
DTSTART;VALUE=DATE:20210505
DTEND;VALUE=DATE:20210506
DTSTAMP:20260420T205911
CREATED:20210430T034715Z
LAST-MODIFIED:20210504T080238Z
UID:3779-1620172800-1620259199@beats.stars.ne.jp
SUMMARY:ゴールデンアイドル Vol.Final
DESCRIPTION:Code-L\n 1UP\n S⭐︎UTHERN CROSS\n ElfinLily\n ルナリウム\n REBIRTH↗︎\n KAMISAMA-双-\nAQUA PLANET \n※パピロジェは出演キャンセルとなっております。\n ご了承下さい。
URL:https://beats.stars.ne.jp/schedule/%e3%82%b4%e3%83%bc%e3%83%ab%e3%83%87%e3%83%b3%e3%82%a2%e3%82%a4%e3%83%89%e3%83%ab-vol-final
LOCATION:BEAT STATION\, 福岡市中央区渡辺通4-11-4\, 〒810-0004
CATEGORIES:トップ画面に表示する
END:VEVENT
BEGIN:VEVENT
DTSTART;VALUE=DATE:20210504
DTEND;VALUE=DATE:20210505
DTSTAMP:20260420T205911
CREATED:20210430T034423Z
LAST-MODIFIED:20210430T034423Z
UID:3776-1620086400-1620172799@beats.stars.ne.jp
SUMMARY:ゴールデンアイドルVol.4
DESCRIPTION:PROTO PLOT\nルナリウム\n1UP\nCode-L\nMiST\nとわる\nElfinLily\nS⭐︎UTHERN CROSS\nKAMISAMA-双- \no/a 柚晴このみ
URL:https://beats.stars.ne.jp/schedule/%e3%82%b4%e3%83%bc%e3%83%ab%e3%83%87%e3%83%b3%e3%82%a2%e3%82%a4%e3%83%89%e3%83%abvol-4
LOCATION:BEAT STATION\, 福岡市中央区渡辺通4-11-4\, 〒810-0004
CATEGORIES:トップ画面に表示する
END:VEVENT
BEGIN:VEVENT
DTSTART;VALUE=DATE:20210504
DTEND;VALUE=DATE:20210505
DTSTAMP:20260420T205911
CREATED:20210410T105543Z
LAST-MODIFIED:20210410T105543Z
UID:3716-1620086400-1620172799@beats.stars.ne.jp
SUMMARY:AQUAPLANET 1st ワンマンライブ
DESCRIPTION:AQUA PLANET\n 
URL:https://beats.stars.ne.jp/schedule/aquaplanet-1st-%e3%83%af%e3%83%b3%e3%83%9e%e3%83%b3%e3%83%a9%e3%82%a4%e3%83%96
LOCATION:BEAT STATION\, 福岡市中央区渡辺通4-11-4\, 〒810-0004
CATEGORIES:トップ画面に表示する
END:VEVENT
BEGIN:VEVENT
DTSTART;VALUE=DATE:20210502
DTEND;VALUE=DATE:20210503
DTSTAMP:20260420T205911
CREATED:20210502T051725Z
LAST-MODIFIED:20210502T051725Z
UID:3793-1619913600-1619999999@beats.stars.ne.jp
SUMMARY:CROSS ROCKS vol.41 ～春に会いましょう memory of hide～
DESCRIPTION:本日配信です。5月2日！\n\n\n \n\n\n5月2日ユーチューブBSチャンネルにてイベント配信です。\n\n\n \n\n\nCROSS ROCKS vol.41\n\n\n～春に会いましょう memory of hide～\n\n\n \n\n\n \n\n\nキャスト\n\n \n\n \n\nNoir et blanc\nEXTA SEA\nPINK MACHINE\n〇 JAPAN \n  \n  \nhttps://www.youtube.com/channel/UCFDCjsy8JHgO-MPJbpd0diw
URL:https://beats.stars.ne.jp/schedule/cross-rocks-vol-41-%ef%bd%9e%e6%98%a5%e3%81%ab%e4%bc%9a%e3%81%84%e3%81%be%e3%81%97%e3%82%87%e3%81%86-memory-of-hide%ef%bd%9e-2
CATEGORIES:トップ画面に表示する
END:VEVENT
BEGIN:VEVENT
DTSTART;VALUE=DATE:20210502
DTEND;VALUE=DATE:20210503
DTSTAMP:20260420T205911
CREATED:20210321T050044Z
LAST-MODIFIED:20210502T051848Z
UID:3599-1619913600-1619999999@beats.stars.ne.jp
SUMMARY:CROSS ROCKS vol.41 ～春に会いましょう memory of hide～
DESCRIPTION: \n \n\nNoir et blanc\n\nEXTA SEA\n PINK MACHINE\n 〇 JAPAN \n配信もしております！\nチャンネル登録もよろしくお願いします！\nhttps://www.youtube.com/channel/UCFDCjsy8JHgO-MPJbpd0diw
URL:https://beats.stars.ne.jp/schedule/cross-rocks-vol-41-%ef%bd%9e%e6%98%a5%e3%81%ab%e4%bc%9a%e3%81%84%e3%81%be%e3%81%97%e3%82%87%e3%81%86-memory-of-hide%ef%bd%9e
LOCATION:BEAT STATION\, 福岡市中央区渡辺通4-11-4\, 〒810-0004
CATEGORIES:トップ画面に表示する
END:VEVENT
BEGIN:VEVENT
DTSTART;VALUE=DATE:20210501
DTEND;VALUE=DATE:20210502
DTSTAMP:20260420T205911
CREATED:20210330T084756Z
LAST-MODIFIED:20210330T084756Z
UID:3649-1619827200-1619913599@beats.stars.ne.jp
SUMMARY:ElfinLily 2周年ライブ IN 福岡IT'2 SHOW TIME
DESCRIPTION:ElfinLily \n  \nチケットは下記URLから⬇️\nVIP http://tiget.net/events/125662 \n Tシャツ付 http://tiget.net/events/125663 \n 通常 http://tiget.net/events/125664
URL:https://beats.stars.ne.jp/schedule/elfinlily-2%e5%91%a8%e5%b9%b4%e3%83%a9%e3%82%a4%e3%83%96-in-%e7%a6%8f%e5%b2%a1it2-show-time
LOCATION:BEAT STATION\, 福岡市中央区渡辺通4-11-4\, 〒810-0004
CATEGORIES:トップ画面に表示する
END:VEVENT
BEGIN:VEVENT
DTSTART;VALUE=DATE:20210425
DTEND;VALUE=DATE:20210426
DTSTAMP:20260420T205911
CREATED:20210118T063807Z
LAST-MODIFIED:20210408T073246Z
UID:3427-1619308800-1619395199@beats.stars.ne.jp
SUMMARY:FIVE NEW OLD "MUSIC WARDROBE" Tour
DESCRIPTION: FIVE NEW OLD \n  \nチケット等詳細は後日発表
URL:https://beats.stars.ne.jp/schedule/five-new-old-music-wardrobe-tour
LOCATION:BEAT STATION\, 福岡市中央区渡辺通4-11-4\, 〒810-0004
END:VEVENT
BEGIN:VEVENT
DTSTART;VALUE=DATE:20210423
DTEND;VALUE=DATE:20210424
DTSTAMP:20260420T205911
CREATED:20200624T022804Z
LAST-MODIFIED:20210324T062101Z
UID:2866-1619136000-1619222399@beats.stars.ne.jp
SUMMARY:”NOT BUSY 2020 - 2021”
DESCRIPTION:BiM \n2020年3月7日、7月10日の振替公演です。\n  \nBIM（ビム） \nBIM全国ワンマンツアー”NOT BUSY 2020” \nチケット全払い戻し、新たに発売のお知らせ \n新型コロナウイルスの感染拡大防止に伴い延期・振替としておりました”NOT BUSY 2020 – 2021”ツアーは、現段階の会場キャパシティでは既にチケットをご購入頂いている全ての皆様にご来場頂いての開催が望めないと判断致しました。  \n本ツアーのチケット販売数は会場キャパシティの 50%以下の設定となっております。2020年からの新型コロナウイルス感染拡大と、それに伴うライブ実施の困窮を極めた中で様々な経験を通じて、最大限の感染対策と定められたルールの中でお客様の前でライブを行うという意思のもと判断させて頂きましたキャパシティ設定となります。 \nそれに伴い、既にチケットをご購入いただいている皆様におかれましては、一度全てのチケットの払い戻しをさせていただき、新規発売の措置を取らせていただくこととなりました。 \nチケットをお持ちの方は必ず、下記の期間内に払い戻しの手続きをお願いいたします。  \n公演を楽しみにお待ち頂いておりました皆様には、多大なるご迷惑をおかけ致しますこと改めてお詫び申し上げます。 \n\n ※現在お手持ちのチケットでは、2021年4月23日に予定しております振替公演にはご入場頂けませんので \n新たに発売となるチケットをお買い求めください。 \nチケットをお持ちの方は必ず、下記の期間内に払い戻しの手続きをお願いいたします。 \n  \nチケット再販売の詳細に関しては下記の詳細よりご確認頂けると幸いです。 \n公演を楽しみにお待ち頂いておりました皆様には、多大なるご迷惑をおかけ致しますこと 改めてお詫び申し上げます。 \n―BIMからのメッセージー \nせっかくずっとチケットを肌身離さず寝ても起きても持っててくれた皆さん、すみません！開催するには一回払い戻しをしてもらって、新たに新規発売するしかなかったので許してください。 \nこのツアー、超楽しんで回りたいと思ってるんで待ってます！ \n※現在お手持ちのチケットでは、ご入場頂けません。新たに発売となるチケットをお買い求めください。 \n”NOT BUSY 2020 – 2021” \n3月7日（土）→7月10日（金） \n↓ \n2021年4月23日（金）FUKUOKA BEAT STATION   open 19:00 / start 20:00 \n※本公演は2020年3月7日（土）、7月10日（金）の振替公演です。\n ※会場・開場開演時間に変更はありません。 \n※お手持ちの3/7公演、7/10公演のチケットではご入場できません。お手持ちのチケットは必ず払い戻しののち、新たに発売されるチケットをご購入ください。 \n【払い戻しに関して】 \n＜払い戻し対象チケット＞\n → 福岡：2020/3/7、2020/7/10  FUKUOKA BEAT STATION \n＜チケットの払い戻し期間＞ \nローソン・チケットぴあ・e+・LINE TICKET \n3月24日（水）10：00 ～ 5月6日（木）23：59 \n※半券が切り離されたチケットは、払い戻しの対象にはなりませんのでご注意ください。 \n※公演当日に会場での払い戻しの対応は行えませんので予めご了承ください。  \n※受付期間を過ぎての受付はできませんのでご注意ください。  \n※チケット紛失などによる対応は一切できません。  \n＜チケットの払い戻し方法＞ \n・ご購入されたプレイガイドにより払戻しの手順が異なりますので、下記ご確認の上お手続きください。 \n・チケットは払戻しの際に回収させていただきます。 \n・チケットの紛失や本券と半券が切り離されたものは払戻しできませんのでご注意ください。 \n・払戻し金額は券面に記載のチケット代と各プレイガイドの規定に基づく諸手数料となります。ご購入先により払戻し金に差異が出る可能性がございます。予めご了承ください。 \n■ローソンチケットにてご購入のお客様（BEA WEB先行予約含む） \nお買い上げのローソン、ミニストップ店舗にて直接払戻しをさせていただきます。  \nお手持ちの未使用チケットをお持ちの上、ご来店ください。  \n※配送引取されたお客様は最寄りのローソン店舗で払戻しをさせていただきます。 \n https://l-tike.com/oc/lt/haraimodoshi/ \n■チケットぴあにてご購入いただいたお客様 \nチケットの引取方法などにより手続きが異なります。  \nお客様のお引き取り方法をご確認の上、以下のURLから該当の払い戻し方法の説明ページにお進みください。 \nhttp://t.pia.jp/guide/refund.jsp \n■イープラスにてご購入のお客様\n ・セブン-イレブン/ファミリーマート受取の方は、お受取りになった店舗にて払戻し手続きを行って下さい。 \n・配送受取の方は、特定記録郵便にてチケットをイープラスまでお送り下さい。  \n・詳細は下記チャートよりご確認ください。 \n払戻方法確認チャート https://eplus.jp/refund1/ \n■LINE TICKET にてご購入されたお客様 \n払戻し方法は「LINEチケットinfo」のアカウントにて、LINEのトーク上でご案内をさせていただき ます。 \n「LINEチケットinfo」アカウントとは・・LINEチケットで購入・分配を受け取られたお客様が必ず フォローしているアカウントになります。LINEチケットでご購入のお客様は、発券の有無に関わらずLINEアカウントを削除しないようにご注意ください。 \n【お問合わせ】 LINEチケット https://line.me/R/ti/p/%40lineticket_jp  \n※LINEの公式アカウントが問い合わせフォームになっております。 \n【チケット新規発売】 \nオフィシャルLINE先行予約（抽選） \n受付期間：3/23(火)17:00 – 3/28(日) 23:59 \n受付先：BIM公式LINE \n＊BIM公式LINEを「友だち追加」してから予約フォームにお進み下さい。 \n＊お1人さま2枚までの申し込み(購入時に同行者含め個人情報の入力が必要) \n＊電子チケットのみの取り扱い \nチケット一般発売日：2021年4月3日（土）10:00～ \n・チケットぴあ（Pコード：186-000 ）電子チケットのみ \n主催・企画 : SUMMIT\, Inc.  制作 : SMASH \n総合問合わせ：SMASH smash-jpn.com \n※注意事項※ \n本公演は、政府、および会場より示された新型コロナウイルス感染拡大予防のガイドラインに基づいた対策を講じた上で開催させて頂きます。 \nご来場されるお客様は下記内容をご確認下さい。 \n<入場に際しての注意事項> \n・当日はマスクの着用を必ずお願いします。着用の無い場合は入場をお断り致しま   す。 \n・入場時に検温のご協力をお願いします。37.5 度以上のお客様は再検温させて頂き、場合によっては入場をお断りする場合もございます。 \n・入場時にエントランスにてお客様全員に手指の消毒をさせて頂きます。 \n・場内における大声での発声、会話、お手洗いの際以外の不要な移動、過度な飲酒などお控えいただきます。  \n・厚生労働省より、リリースされました新型コロナウイルス接触確認アプリ(COCOA)の登録をお願いいたします。  \n・入場時など、会場内ではスタッフの指示に必ず従って下さい。  指示に従って頂けない場合はご退場頂く場合がございます。
URL:https://beats.stars.ne.jp/schedule/not-busy-2020-2021
LOCATION:BEAT STATION\, 福岡市中央区渡辺通4-11-4\, 〒810-0004
CATEGORIES:トップ画面に表示する
END:VEVENT
BEGIN:VEVENT
DTSTART;VALUE=DATE:20210422
DTEND;VALUE=DATE:20210423
DTSTAMP:20260420T205911
CREATED:20210324T062621Z
LAST-MODIFIED:20210324T062621Z
UID:3615-1619049600-1619135999@beats.stars.ne.jp
SUMMARY:ゴーストツアー
DESCRIPTION:Tempalay \nチケット一般発売\n2021年3月27日(土) 10:00~ ※web受付のみ/全来場者の情報取得/紙チケット・電子チケット
URL:https://beats.stars.ne.jp/schedule/%e3%82%b4%e3%83%bc%e3%82%b9%e3%83%88%e3%83%84%e3%82%a2%e3%83%bc
LOCATION:BEAT STATION\, 福岡市中央区渡辺通4-11-4\, 〒810-0004
CATEGORIES:トップ画面に表示する
END:VEVENT
BEGIN:VEVENT
DTSTART;VALUE=DATE:20210418
DTEND;VALUE=DATE:20210419
DTSTAMP:20260420T205911
CREATED:20210416T093300Z
LAST-MODIFIED:20210416T093300Z
UID:3737-1618704000-1618790399@beats.stars.ne.jp
SUMMARY:福岡 LAST NIGHT
DESCRIPTION:littlemore.\nC;ON\nSPRISE\nくるーず〜CRUiSE!\n神薙ラビッツ\nCOLORLESS\n空想モーメントL＋\nKAMISAMA – 双 – 
URL:https://beats.stars.ne.jp/schedule/%e7%a6%8f%e5%b2%a1-last-night
LOCATION:BEAT STATION\, 福岡市中央区渡辺通4-11-4\, 〒810-0004
CATEGORIES:トップ画面に表示する
END:VEVENT
BEGIN:VEVENT
DTSTART;VALUE=DATE:20210418
DTEND;VALUE=DATE:20210419
DTSTAMP:20260420T205911
CREATED:20210331T115922Z
LAST-MODIFIED:20210331T115922Z
UID:3667-1618704000-1618790399@beats.stars.ne.jp
SUMMARY:福岡物語  よかろうもんナイト！ VOL.1
DESCRIPTION:  \n#ババババンビ \n#2i2 \n 
URL:https://beats.stars.ne.jp/schedule/%e7%a6%8f%e5%b2%a1%e7%89%a9%e8%aa%9e-%e3%82%88%e3%81%8b%e3%82%8d%e3%81%86%e3%82%82%e3%82%93%e3%83%8a%e3%82%a4%e3%83%88%ef%bc%81-vol-1
LOCATION:BEAT STATION\, 福岡市中央区渡辺通4-11-4\, 〒810-0004
CATEGORIES:トップ画面に表示する
END:VEVENT
BEGIN:VEVENT
DTSTART;VALUE=DATE:20210418
DTEND;VALUE=DATE:20210419
DTSTAMP:20260420T205911
CREATED:20210330T083336Z
LAST-MODIFIED:20210330T083336Z
UID:3647-1618704000-1618790399@beats.stars.ne.jp
SUMMARY:RENT THANKS
DESCRIPTION:
URL:https://beats.stars.ne.jp/schedule/rent-thanks-31
LOCATION:BEAT STATION\, 福岡市中央区渡辺通4-11-4\, 〒810-0004
END:VEVENT
BEGIN:VEVENT
DTSTART;VALUE=DATE:20210416
DTEND;VALUE=DATE:20210417
DTSTAMP:20260420T205911
CREATED:20210225T121109Z
LAST-MODIFIED:20210225T121109Z
UID:3527-1618531200-1618617599@beats.stars.ne.jp
SUMMARY:IDOL by...! presents  『Star is Back』
DESCRIPTION:PIGGS\nHelloYouth\n九州女子翼 \n  \nTIGET \n2/26 21:00販売開始 \nhttps://tiget.net/events/122052 \n 
URL:https://beats.stars.ne.jp/schedule/idol-by-presents-%e3%80%8estar-is-back%e3%80%8f
LOCATION:BEAT STATION\, 福岡市中央区渡辺通4-11-4\, 〒810-0004
CATEGORIES:トップ画面に表示する
END:VEVENT
BEGIN:VEVENT
DTSTART;VALUE=DATE:20210411
DTEND;VALUE=DATE:20210412
DTSTAMP:20260420T205911
CREATED:20210303T111848Z
LAST-MODIFIED:20210410T124130Z
UID:3550-1618099200-1618185599@beats.stars.ne.jp
SUMMARY:オメでたい頭でなにより ワンマンツアー2021  〜今 いくね くるね Ⅱ TURBO〜
DESCRIPTION:オメでたい頭でなにより \n  \nオープニングアクト：お目出たズ \n  \n※オメコンボ OPEN16:00 START16:30
URL:https://beats.stars.ne.jp/schedule/%e3%82%aa%e3%83%a1%e3%81%a7%e3%81%9f%e3%81%84%e9%a0%ad%e3%81%a7%e3%81%aa%e3%81%ab%e3%82%88%e3%82%8a-%e3%83%af%e3%83%b3%e3%83%9e%e3%83%b3%e3%83%84%e3%82%a2%e3%83%bc2021-%e3%80%9c%e4%bb%8a-%e3%81%84
LOCATION:BEAT STATION\, 福岡市中央区渡辺通4-11-4\, 〒810-0004
CATEGORIES:トップ画面に表示する
END:VEVENT
BEGIN:VEVENT
DTSTART;VALUE=DATE:20210410
DTEND;VALUE=DATE:20210411
DTSTAMP:20260420T205911
CREATED:20210331T120440Z
LAST-MODIFIED:20210331T120440Z
UID:3671-1618012800-1618099199@beats.stars.ne.jp
SUMMARY:梨妃果生誕祭「今日は1日見つめ合いませんか？」
DESCRIPTION:カルミア\nElfinLily\n愛◆DREAM\n空想モーメントL＋\nQunQun \n  \nチケット予約\nhttps://pro.form-mailer.jp/fms/4c17de8c115239 \n 
URL:https://beats.stars.ne.jp/schedule/%e6%a2%a8%e5%a6%83%e6%9e%9c%e7%94%9f%e8%aa%95%e7%a5%ad%e3%80%8c%e4%bb%8a%e6%97%a5%e3%81%af1%e6%97%a5%e8%a6%8b%e3%81%a4%e3%82%81%e5%90%88%e3%81%84%e3%81%be%e3%81%9b%e3%82%93%e3%81%8b%ef%bc%9f%e3%80%8d
LOCATION:BEAT STATION\, 福岡市中央区渡辺通4-11-4\, 〒810-0004
CATEGORIES:トップ画面に表示する
END:VEVENT
BEGIN:VEVENT
DTSTART;VALUE=DATE:20210410
DTEND;VALUE=DATE:20210411
DTSTAMP:20260420T205911
CREATED:20210304T052839Z
LAST-MODIFIED:20210304T052839Z
UID:3553-1618012800-1618099199@beats.stars.ne.jp
SUMMARY:神ノ進撃
DESCRIPTION:KAMISAMA-双- \n  \nチケット予約はオフィシャルへ
URL:https://beats.stars.ne.jp/schedule/%e7%a5%9e%e3%83%8e%e9%80%b2%e6%92%83
LOCATION:BEAT STATION\, 福岡市中央区渡辺通4-11-4\, 〒810-0004
CATEGORIES:トップ画面に表示する
END:VEVENT
BEGIN:VEVENT
DTSTART;VALUE=DATE:20210409
DTEND;VALUE=DATE:20210410
DTSTAMP:20260420T205911
CREATED:20210205T093819Z
LAST-MODIFIED:20210409T012025Z
UID:3468-1617926400-1618012799@beats.stars.ne.jp
SUMMARY:健全なツアー　振替公演
DESCRIPTION:yonige \n2020/5/6(水)福岡BEAT STATION 公演、\n 2021/2/19(金)福岡BEAT STATION 公演の振替公演となります。 \n 
URL:https://beats.stars.ne.jp/schedule/%e5%81%a5%e5%85%a8%e3%81%aa%e3%83%84%e3%82%a2%e3%83%bc%e3%80%80%e6%8c%af%e6%9b%bf%e5%85%ac%e6%bc%94
LOCATION:BEAT STATION\, 福岡市中央区渡辺通4-11-4\, 〒810-0004
CATEGORIES:トップ画面に表示する
END:VEVENT
END:VCALENDAR