BEGIN:VCALENDAR
VERSION:2.0
PRODID:-//福岡のライブハウス BEAT STATION - ECPv6.10.3//NONSGML v1.0//EN
CALSCALE:GREGORIAN
METHOD:PUBLISH
X-WR-CALNAME:福岡のライブハウス BEAT STATION
X-ORIGINAL-URL:https://beats.stars.ne.jp
X-WR-CALDESC:福岡のライブハウス BEAT STATION のイベント
REFRESH-INTERVAL;VALUE=DURATION:PT1H
X-Robots-Tag:noindex
X-PUBLISHED-TTL:PT1H
BEGIN:VTIMEZONE
TZID:Asia/Tokyo
BEGIN:STANDARD
TZOFFSETFROM:+0900
TZOFFSETTO:+0900
TZNAME:JST
DTSTART:20210101T000000
END:STANDARD
END:VTIMEZONE
BEGIN:VEVENT
DTSTART;VALUE=DATE:20211104
DTEND;VALUE=DATE:20211105
DTSTAMP:20260420T124513
CREATED:20210815T092307Z
LAST-MODIFIED:20211104T052810Z
UID:4130-1635984000-1636070399@beats.stars.ne.jp
SUMMARY:「血を嫌い肉を好むTOUR」
DESCRIPTION:ドミコ\n \n \n \n \n \n \n 
URL:https://beats.stars.ne.jp/schedule/%e3%80%8c%e8%82%89%e3%82%92%e5%ab%8c%e3%81%84%e8%82%89%e3%82%92%e5%a5%bd%e3%82%80tour%e3%80%8d
LOCATION:BEAT STATION\, 福岡市中央区渡辺通4-11-4\, 〒810-0004
CATEGORIES:トップ画面に表示する
END:VEVENT
BEGIN:VEVENT
DTSTART;VALUE=DATE:20211103
DTEND;VALUE=DATE:20211104
DTSTAMP:20260420T124513
CREATED:20210806T032912Z
LAST-MODIFIED:20211001T061528Z
UID:4086-1635897600-1635983999@beats.stars.ne.jp
SUMMARY:佐藤千亜妃 ”KOE” Release Tour 2021 「かたちないもの」
DESCRIPTION:佐藤千亜妃 \nチケット一般発売 10月2日(土)10:00〜 \n  \n本公演は新型コロナウイルス感染防止ガイドラインに基づき開催いたします \n音楽コンサートに於ける新型コロナウイルス感染拡大防止ガイドラインに基づき、収容人数に制限を設け、公演を開催いたします。\n また、下記のガイドラインにご協力いただくことにご同意いただいた方を対象に、チケットのお申し込みを受付させていただきますことをご了承ください。 \n\n チケットご購入前に必ずお読みください \n■チケットの払い戻しは出来ません（公演延期・中止・無観客公演となった場合を除く）\n 下記に該当される方はご入場いただけないとともに、払い戻しにはご対応いたしかねます。\n ・37.5℃以上の発熱のある方\n ・のどの痛み、頭痛、関節痛、息苦しさ、息の吸いづらさ、咳、下痢、結膜炎症状、味覚障害などの症状をお持ちの方\n ・新型コロナウイルス感染症陽性とされた方との濃厚接触がある方や、同居のご家族や身近な知人に感染が疑われる方がいらっしゃる方\n ・公演日より14日前まで政府から入国制限、入国後の観察期間を必要とされている国・地域への渡航のある方、ならびに該当国の在住者との濃厚接触がある方\n ・感染防止のための措置や指示に従えない方、感染防止を意識した行動にご協力いただけない方、安全確保の妨げになると判断した方はご入場をお断りいたします\n ・また、公演途中にこのような行為が発覚した場合は途中退場いただきます \n■会場内ではマスクの着用をお願いします\n 会場内は常にマスクの着用をお願いいたします。また、入場の待機中など会場敷地内でもマスクの着用は必須とさせていただきます。ご協力いただけない場合、ご入場をお断りいたします。 \n■ご入場時に検温を実施いたします\n ご入場時、全ての方に検温を実施させていただきます。37.5℃以上の発熱がある方、検温を拒否された方はご入場をお断りいたします。検温の際、飲酒をされている場合は正しく計測できない可能性がございますので、飲酒はせずにご来場いただきますようお願い申し上げます。 \n■声を出しての鑑賞はご遠慮いただきます\n 公演中、声を発することや指笛等を禁止させていただきます。拍手や手拍子、手をあげるなどは問題ございません。また、公演中以外でも会場内での会話や発声はお控えください。 \n■「来場者情報」登録が必須となります\n ご来場いただく全ての方の情報取得のため、「来場者情報」登録が必須となります。登録方法等は公演1週間前を目処に各地公演主催者よりご案内させていただきます。 \n■収容人数は各自治体のガイドラインに従い定めさせていただきます\n 各公演の収容人数は、会場、自治体、主催者協議のもと、収容人数に制限を設けさせていただきます。ご鑑賞の際、ご自身の「指定座席」ならびに「立ち位置」の範囲内にてお楽しみください。 \n■その他\n ・厚生労働省推奨「新型コロナウイルス接触確認アプリ COCOA」ならびに各自治体推奨アプリのインストールのご協力をお願いいたします。\n ・ご入場の際、お席の配列・番号ごとに「集合時間」を設定させていただく場合がございますのでご協力をお願いいたします。\n ・メンバーへのプレゼント、差し入れ、お手紙、花束やスタンド花は辞退させていただきます。また、会場でのメンバーの入り、出待ちなどもご遠慮ください。\n ・ご来場いただく方の個人情報は一定期間、主催者にて厳重に管理し、万が一、感染者が発生した場合の感染経路追跡のための利用、必要に応じた保健所等の公的機関への提出以外、他の目的では利用いたしません。
URL:https://beats.stars.ne.jp/schedule/%e4%bd%90%e8%97%a4%e5%8d%83%e4%ba%9c%e5%a6%83-koe-release-tour-2021-%e3%80%8c%e3%81%8b%e3%81%9f%e3%81%a1%e3%81%aa%e3%81%84%e3%82%82%e3%81%ae%e3%80%8d
LOCATION:BEAT STATION\, 福岡市中央区渡辺通4-11-4\, 〒810-0004
CATEGORIES:トップ画面に表示する
END:VEVENT
BEGIN:VEVENT
DTSTART;VALUE=DATE:20211102
DTEND;VALUE=DATE:20211103
DTSTAMP:20260420T124513
CREATED:20210917T100048Z
LAST-MODIFIED:20210917T100048Z
UID:4297-1635811200-1635897599@beats.stars.ne.jp
SUMMARY:ADAM at 「Daylight Release Tour 2021-2022」
DESCRIPTION:ADAM at\n\n \n 
URL:https://beats.stars.ne.jp/schedule/adam-at-%e3%80%8cdaylight-release-tour-2021-2022%e3%80%8d
LOCATION:BEAT STATION\, 福岡市中央区渡辺通4-11-4\, 〒810-0004
END:VEVENT
BEGIN:VEVENT
DTSTART;VALUE=DATE:20211031
DTEND;VALUE=DATE:20211101
DTSTAMP:20260420T124513
CREATED:20211009T083141Z
LAST-MODIFIED:20211030T042036Z
UID:4400-1635638400-1635724799@beats.stars.ne.jp
SUMMARY:「アナフェス福岡mini vol.4 〜ハロウィンSP!!〜」
DESCRIPTION:#フラサービックル\nCODE-L\n ElfinLily\n パピロジェ\n パピマシェ\n AQUAPLANET \n\n 前売チケット：https://t.livepocket.jp/e/fukuoka1031
URL:https://beats.stars.ne.jp/schedule/%e3%80%8c%e3%82%a2%e3%83%8a%e3%83%95%e3%82%a7%e3%82%b9%e7%a6%8f%e5%b2%a1mini-vol-4-%e3%80%9c%e3%83%8f%e3%83%ad%e3%82%a6%e3%82%a3%e3%83%b3sp%e3%80%9c%e3%80%8d
LOCATION:BEAT STATION\, 福岡市中央区渡辺通4-11-4\, 〒810-0004
CATEGORIES:トップ画面に表示する
END:VEVENT
BEGIN:VEVENT
DTSTART;VALUE=DATE:20211031
DTEND;VALUE=DATE:20211101
DTSTAMP:20260420T124513
CREATED:20211009T083000Z
LAST-MODIFIED:20211009T083000Z
UID:4398-1635638400-1635724799@beats.stars.ne.jp
SUMMARY:#フラサービックル 初!!単独公演「目指せ動員100人!!初ワンマンチャレンジ!!」
DESCRIPTION:#フラサービックル \n前売チケット：https://t.livepocket.jp/e/furabi1031
URL:https://beats.stars.ne.jp/schedule/%e3%83%95%e3%83%a9%e3%82%b5%e3%83%bc%e3%83%93%e3%83%83%e3%82%af%e3%83%ab-%e5%88%9d%e5%8d%98%e7%8b%ac%e5%85%ac%e6%bc%94%e3%80%8c%e7%9b%ae%e6%8c%87%e3%81%9b%e5%8b%95%e5%93%a1100%e4%ba%ba%e5%88%9d
LOCATION:BEAT STATION\, 福岡市中央区渡辺通4-11-4\, 〒810-0004
END:VEVENT
BEGIN:VEVENT
DTSTART;VALUE=DATE:20211031
DTEND;VALUE=DATE:20211101
DTSTAMP:20260420T124513
CREATED:20210924T065229Z
LAST-MODIFIED:20211030T041924Z
UID:4327-1635638400-1635724799@beats.stars.ne.jp
SUMMARY:「アナフェス福岡mini vol.3 〜ハロウィンSP!!〜」
DESCRIPTION:#フラサービックル\n COLORLESS\n CODE-L\n ElfinLily\nAQUAPLANET  \n\n 前売チケット：https://t.livepocket.jp/e/fukuoka1031
URL:https://beats.stars.ne.jp/schedule/rent-thanks-40
LOCATION:BEAT STATION\, 福岡市中央区渡辺通4-11-4\, 〒810-0004
CATEGORIES:トップ画面に表示する
END:VEVENT
BEGIN:VEVENT
DTSTART;VALUE=DATE:20211029
DTEND;VALUE=DATE:20211030
DTSTAMP:20260420T124513
CREATED:20210807T000332Z
LAST-MODIFIED:20210807T000332Z
UID:4089-1635465600-1635551999@beats.stars.ne.jp
SUMMARY:「heart heat beat tour 2021」
DESCRIPTION:BIGMAMA 
URL:https://beats.stars.ne.jp/schedule/%e3%80%8cheart-heat-beat-tour-2021%e3%80%8d
LOCATION:BEAT STATION\, 福岡市中央区渡辺通4-11-4\, 〒810-0004
CATEGORIES:トップ画面に表示する
END:VEVENT
BEGIN:VEVENT
DTSTART;VALUE=DATE:20211027
DTEND;VALUE=DATE:20211028
DTSTAMP:20260420T124513
CREATED:20210907T003424Z
LAST-MODIFIED:20211015T040252Z
UID:4273-1635292800-1635379199@beats.stars.ne.jp
SUMMARY:KUZIRA presents. 【Superspin Tour Season3】
DESCRIPTION:KUZIRA \n  \n 
URL:https://beats.stars.ne.jp/schedule/kuzira-presents-%e3%80%90superspin-tour-season3%e3%80%91
LOCATION:BEAT STATION\, 福岡市中央区渡辺通4-11-4\, 〒810-0004
CATEGORIES:トップ画面に表示する
END:VEVENT
BEGIN:VEVENT
DTSTART;VALUE=DATE:20211026
DTEND;VALUE=DATE:20211027
DTSTAMP:20260420T124513
CREATED:20210831T095806Z
LAST-MODIFIED:20210915T054723Z
UID:4233-1635206400-1635292799@beats.stars.ne.jp
SUMMARY:“Universal Language” Release Tour 
DESCRIPTION:jazztronik\n \n \n \nチケット一般発売\n9月18日(土)10:00〜発売開始
URL:https://beats.stars.ne.jp/schedule/universal-language-release-tour
LOCATION:BEAT STATION\, 福岡市中央区渡辺通4-11-4\, 〒810-0004
CATEGORIES:トップ画面に表示する
END:VEVENT
BEGIN:VEVENT
DTSTART;VALUE=DATE:20211024
DTEND;VALUE=DATE:20211025
DTSTAMP:20260420T124513
CREATED:20211019T010938Z
LAST-MODIFIED:20211019T011028Z
UID:4417-1635033600-1635119999@beats.stars.ne.jp
SUMMARY:ElfinLily益子來帝バースデーライブ@福岡
DESCRIPTION:ElfinLily\n husky\n とわる\n 空想モーメントL＋ \nチケットの購入はこちらから\n https://tiget.net/events/150123
URL:https://beats.stars.ne.jp/schedule/elfinlily%e7%9b%8a%e5%ad%90%e4%be%86%e5%b8%9d%e3%83%90%e3%83%bc%e3%82%b9%e3%83%87%e3%83%bc%e3%83%a9%e3%82%a4%e3%83%96%e7%a6%8f%e5%b2%a1
LOCATION:BEAT STATION\, 福岡市中央区渡辺通4-11-4\, 〒810-0004
CATEGORIES:トップ画面に表示する
END:VEVENT
BEGIN:VEVENT
DTSTART;VALUE=DATE:20211024
DTEND;VALUE=DATE:20211025
DTSTAMP:20260420T124513
CREATED:20210306T082157Z
LAST-MODIFIED:20210925T033525Z
UID:3569-1635033600-1635119999@beats.stars.ne.jp
SUMMARY:BURNOUT SYNDROMES TOUR 2021 公演延期
DESCRIPTION:BURNOUT SYNDROMES \nBURNOUT SYNDROMES　『全国ワンマンツアー2021』　再延期日程と払戻し詳細のご案内 \n緊急事態宣言の拡大・延長、全国的に収まらない感染拡大状況の中で、再延期を発表させていただいた「全国ワンマンツアー2021」全公演につきまして、振替日程が決定しましたのでご案内をさせていただきます。 \n現在お持ちのチケットは、そのまま振替公演にご利用頂けます。公演日までお手持ちのチケットを大切に保管くださいますようお願いいたします。残念ながら振替公演にご来場頂けないお客様には、チケットの払い戻しを承ります。つきましては、下記<<払戻方法>>をご確認いただき、受付期間内でのお手続きをお願い致します。 \nご購入先によって払い戻し方法・期間が異なりますので、下記詳細をご確認の上、必ず払い戻し期限までにお手続きをお願いいたします。また、お手元のチケットは払い戻しの際にも必要になりますので、大切に保管くださいますようお願いいたします。 \n本公演を楽しみにお待ちいただいていておりました皆様には、大変ご迷惑をおかけすることを心よりお詫び申し上げますとともに、ご理解賜りますようお願い申し上げます。 \n  \n  \n【振替日程】 \n●福岡公演：FUKUOKA BEAT STATION \n＜元の日程＞２０２１年2月6日（土）→＜延期日程＞２０２１年１０月２４日（日） \n⇒　＜再延期日程＞２０２２年２月４日（金）　開場18:00 開演19:00 \n  \n＊開場/開演に変更が御座います。 \n＊現在お持ちのチケットは、そのまま振替公演にご利用頂けます。公演日までお手持ちのチケットを大切に保管くださいますようお願いいたします。 \n  \n≪重要：コロナウイルス感染症における感染予防・拡大防止対策≫ \n尚、本公演は「音楽コンサートにおける新型コロナウイルス感染予防対策ガイドライン」に基づき、感染予防・拡大防止対策を講じながら万全を期して実施いたします。 \n  \n※会場内ではマスク着用をお願い致します。 \n※ご入場前に手指消毒、検温を実施します。 \n※こまめな手指消毒・咳エチケットの徹底・手洗い励行をお願いします \n※入場前の検温にて発熱(37.5°C以上)、体調不良が認められる方のご入場はお断りさせて頂く場合がございます。 \n※マスクをご着用いただけない方、その他主催者の定めるルールにご協力頂けない場合は、ご入場をお断りさせていただく場合がございます。ご入場後であったとしても、退場いただく場合がございます。その場合、チケット料金の返金は一切出来ません。 \n※チケット購入時もしくは来館時にお名前、ご連絡先を登録していただき、必要に応じて公共機関へ提供させていただく場合がございます。 \n※本公演においてメンバーへのプレゼントはご遠慮させていただきます。 \n※会場での物販は感染対策を講じながら行う予定です \n※公演終了後に退場時混雑緩和のため、退場規制のご案内をさせていただく可能性がございます。 \n※公演時の開催ガイドラインに沿い、当日はスタンディングが席有形式になるなど、座種が変更となる場合がございますので、予めご了承ください。 \n※大阪・東京公演で2F指定席を複数枚ご購入の場合、お隣の席をご用意できない場合がございます。 \n  \n今後の感染状況によって内容変更の可能性もございます。 \nみなさまのご理解、ご協力を賜りますようよろしくお願いいたします。 \n  \n  \n<<払戻方法>> \nご購入いただきました公演・プレイガイドによって手順が異なりますので、ご案内に沿ってお手続きをお願い致します。 \n※払い戻し期間を過ぎますとご対応が出来ません。必ず期間内にお手続きをお願い致します \n※半券が切り離されたチケットは払い戻しできません。 \n  \n  \n■FC先行/オフィシャル先行/アルバムリリース記念先行にてご購入されたお客様（LINEチケット） \n払戻し期間：2021年9月25日(土)10:00～2021年10月10日(日)23:59 \n​ \n​「LINEチケットinfo」アカウントより、ご購入者様へ直接メッセージを送信させていただきます。払い戻しご希望のお客様は、そのメッセージに従い、払い戻し手続きを進めて下さい。ご指定いただく口座に入金させていただきます。 \n⇒https://help2.line.me/ticketapp/web/categoryId/20005226/sp?lang=ja \n​ \n​​お問合せ：「LINEチケット」公式アカウント内「トークで質問」よりお問合せ下さい。 \n  \n■イープラスにてご購入されたお客様 \n払戻し期間： 2021年9月25日(土)10:00～2021年10月10日(日)23:59 \n  \n払戻方法は、チケットの受取方法や支払方法などにより異なります。下記URLよりどの払戻方法になるのか確認をお願いいたします。 \nhttps://eplus.jp/sf/refund2 \n払戻方法に関するご案内・お問合せ：https://eplus.jp/refund2-toiawase/ \n  \n  \n■チケットぴあにてご購入されたお客様 \n払戻し期間： 2021年9月25日(土)10:00～2021年10月10日(日)23:59 \n\n 払戻方法は、チケットの受取方法や支払方法などにより異なります。 \n下記URLよりどの払戻方法になるのか確認の上、お手続きをお願いいたします。\n https://t.pia.jp/guide/refund.jsp\n お問い合わせ：チケットぴあ https://t.pia.jp/help/
URL:https://beats.stars.ne.jp/schedule/burnout-syndromes-tour-2021
LOCATION:BEAT STATION\, 福岡市中央区渡辺通4-11-4\, 〒810-0004
CATEGORIES:トップ画面に表示する
END:VEVENT
BEGIN:VEVENT
DTSTART;VALUE=DATE:20211023
DTEND;VALUE=DATE:20211024
DTSTAMP:20260420T124513
CREATED:20210908T092329Z
LAST-MODIFIED:20210908T092329Z
UID:4277-1634947200-1635033599@beats.stars.ne.jp
SUMMARY:CROSS ROCKS vol.45
DESCRIPTION:○と✕ \nSilent Sararen\nPROTEST DE 疲労 \nマルストロメリア
URL:https://beats.stars.ne.jp/schedule/cross-rocks-vol-45
LOCATION:BEAT STATION\, 福岡市中央区渡辺通4-11-4\, 〒810-0004
END:VEVENT
BEGIN:VEVENT
DTSTART;VALUE=DATE:20211022
DTEND;VALUE=DATE:20211023
DTSTAMP:20260420T124513
CREATED:20210721T033446Z
LAST-MODIFIED:20210721T033446Z
UID:4047-1634860800-1634947199@beats.stars.ne.jp
SUMMARY:FRIENDS & CELEBRATION  TOUR 2021
DESCRIPTION:NAMBA69\n \n \n  \nチケット一般発売\n9/18 10:00〜 \n \n 
URL:https://beats.stars.ne.jp/schedule/friends-celebration-tour-2021
LOCATION:BEAT STATION\, 福岡市中央区渡辺通4-11-4\, 〒810-0004
CATEGORIES:トップ画面に表示する
END:VEVENT
BEGIN:VEVENT
DTSTART;VALUE=DATE:20211020
DTEND;VALUE=DATE:20211021
DTSTAMP:20260420T124513
CREATED:20210924T065343Z
LAST-MODIFIED:20210924T065343Z
UID:4329-1634688000-1634774399@beats.stars.ne.jp
SUMMARY:RENT THANKS
DESCRIPTION:
URL:https://beats.stars.ne.jp/schedule/rent-thanks-41
LOCATION:BEAT STATION\, 福岡市中央区渡辺通4-11-4\, 〒810-0004
END:VEVENT
BEGIN:VEVENT
DTSTART;VALUE=DATE:20211019
DTEND;VALUE=DATE:20211020
DTSTAMP:20260420T124513
CREATED:20210821T023046Z
LAST-MODIFIED:20210821T023046Z
UID:4168-1634601600-1634687999@beats.stars.ne.jp
SUMMARY:Nao Yoshioka Japan Tour 2021 -Rising After the Fall-
DESCRIPTION:Nao Yoshioka \n\nチケット一般発売 \n9/11 (土) 10:00〜 \n  \n※本公演は「⾳楽コンサートにおける新型コロナウイルス感染予防対策ガイドライン」に基づいた対策を講じ、開催いたします。\n※詳細な対策について、開催⽇1週間前までにその時点でのガイドラインを遵守した対策をアーティストHP / SNSにて再度アナウンスいたしますので、ご確認のうえでのご来場お願いいたします。\n※来場時に、ご来場者様の個⼈情報（⽒名 / ご連絡先）をご登録いただきますのでご協⼒ください。\n※ご来場時に37.5℃以上の発熱が確認された⽅はご⼊場できません。\n※マスク着⽤の徹底、⼿洗い/⼿指消毒にご協⼒ください。 
URL:https://beats.stars.ne.jp/schedule/nao-yoshioka-japan-tour-2021-rising-after-the-fall
LOCATION:BEAT STATION\, 福岡市中央区渡辺通4-11-4\, 〒810-0004
END:VEVENT
BEGIN:VEVENT
DTSTART;VALUE=DATE:20211017
DTEND;VALUE=DATE:20211018
DTSTAMP:20260420T124513
CREATED:20211009T082510Z
LAST-MODIFIED:20211016T120519Z
UID:4392-1634428800-1634515199@beats.stars.ne.jp
SUMMARY:「アナフェス福岡mini vol.2
DESCRIPTION:ワッツ◎さーくる\n #PANnana-パンダの指は実は7本ある-\n #フラサービックル\n 空想モーメントL＋\n パピロジェ\n パピマシェ\n KAMISAMA-双-
URL:https://beats.stars.ne.jp/schedule/%e3%80%8c%e3%82%a2%e3%83%8a%e3%83%95%e3%82%a7%e3%82%b9%e7%a6%8f%e5%b2%a1mini-vol-2
LOCATION:BEAT STATION\, 福岡市中央区渡辺通4-11-4\, 〒810-0004
END:VEVENT
BEGIN:VEVENT
DTSTART;VALUE=DATE:20211017
DTEND;VALUE=DATE:20211018
DTSTAMP:20260420T124513
CREATED:20211009T082302Z
LAST-MODIFIED:20211009T082302Z
UID:4390-1634428800-1634515199@beats.stars.ne.jp
SUMMARY:ワッツ◎さーくる 祝１周年 初!!全国無銭ツアー福岡編 「〜西から東へ〜 ワッくるのお通りやでぃ!!!!!!!!!!」
DESCRIPTION:ワッツ◎さーくる \n#PANnana-パンダの指は実は7本ある-(O.A.)\n#フラサービックル(O.A.)
URL:https://beats.stars.ne.jp/schedule/%e3%83%af%e3%83%83%e3%83%84%e2%97%8e%e3%81%95%e3%83%bc%e3%81%8f%e3%82%8b-%e7%a5%9d%ef%bc%91%e5%91%a8%e5%b9%b4-%e5%88%9d%e5%85%a8%e5%9b%bd%e7%84%a1%e9%8a%ad%e3%83%84%e3%82%a2%e3%83%bc%e7%a6%8f
LOCATION:BEAT STATION\, 福岡市中央区渡辺通4-11-4\, 〒810-0004
END:VEVENT
BEGIN:VEVENT
DTSTART;VALUE=DATE:20211017
DTEND;VALUE=DATE:20211018
DTSTAMP:20260420T124513
CREATED:20210924T065148Z
LAST-MODIFIED:20211016T120435Z
UID:4325-1634428800-1634515199@beats.stars.ne.jp
SUMMARY:アナフェス福岡mini vol.1
DESCRIPTION:ワッツ◎さーくる\n #PANnana-パンダの指は実は7本ある-\n #フラサービックル\n 空想モーメントL＋\n KAMISAMA-双-\n CODE-L\n W.
URL:https://beats.stars.ne.jp/schedule/rent-thanks-39
LOCATION:BEAT STATION\, 福岡市中央区渡辺通4-11-4\, 〒810-0004
END:VEVENT
BEGIN:VEVENT
DTSTART;VALUE=DATE:20211016
DTEND;VALUE=DATE:20211017
DTSTAMP:20260420T124513
CREATED:20210804T074314Z
LAST-MODIFIED:20210804T074314Z
UID:4079-1634342400-1634428799@beats.stars.ne.jp
SUMMARY:kobore ワンマンツアー 2021 「ZERO RANGE TOUR」
DESCRIPTION:kobore \n\n●オフィシャル先行\n受付期間：8月14日（土）12:00～8月22日（日）23:59\n\n受付URL▼\nhttps://eplus.jp/kobore21hp/
URL:https://beats.stars.ne.jp/schedule/kobore-%e3%83%af%e3%83%b3%e3%83%9e%e3%83%b3%e3%83%84%e3%82%a2%e3%83%bc-2021-%e3%80%8czero-range-tour%e3%80%8d
LOCATION:BEAT STATION\, 福岡市中央区渡辺通4-11-4\, 〒810-0004
CATEGORIES:トップ画面に表示する
END:VEVENT
BEGIN:VEVENT
DTSTART;TZID=Asia/Tokyo:20211015T000000
DTEND;TZID=Asia/Tokyo:20211015T000000
DTSTAMP:20260420T124513
CREATED:20211015T082448Z
LAST-MODIFIED:20211015T082448Z
UID:4411-1634256000-1634256000@beats.stars.ne.jp
SUMMARY:桃色の祭典vol.3
DESCRIPTION:AQUA PLANET\nElfinLily\nKAMISAMA-双-\nVer-Million\n \nSPゲスト\nhusky \nとわる\n \n予約/https://tiget.net/events/151654\n※10月15日(金)22時00分～販売開始\nレディプロ優先入場でチェキ券3枚 （レディプログループのみ使用可）
URL:https://beats.stars.ne.jp/schedule/%e6%a1%83%e8%89%b2%e3%81%ae%e7%a5%ad%e5%85%b8vol-3
CATEGORIES:トップ画面に表示する
END:VEVENT
BEGIN:VEVENT
DTSTART;VALUE=DATE:20211015
DTEND;VALUE=DATE:20211016
DTSTAMP:20260420T124513
CREATED:20211002T041313Z
LAST-MODIFIED:20211002T041313Z
UID:4355-1634256000-1634342399@beats.stars.ne.jp
SUMMARY:【Orange Owl Records presents "アマノスミト" 】
DESCRIPTION:TETORA\nammo \nアルステイク \nSHE’ll SLEEP \n\n\n \n 
URL:https://beats.stars.ne.jp/schedule/%e3%80%90orange-owl-records-presents-%e3%82%a2%e3%83%9e%e3%83%8e%e3%82%b9%e3%83%9f%e3%83%88-%e3%80%91-2
LOCATION:BEAT STATION\, 福岡市中央区渡辺通4-11-4\, 〒810-0004
CATEGORIES:トップ画面に表示する
END:VEVENT
BEGIN:VEVENT
DTSTART;VALUE=DATE:20211015
DTEND;VALUE=DATE:20211016
DTSTAMP:20260420T124513
CREATED:20210904T090956Z
LAST-MODIFIED:20210904T090956Z
UID:4267-1634256000-1634342399@beats.stars.ne.jp
SUMMARY:【Orange Owl Records presents "アマノスミト" 】
DESCRIPTION:TETORA\nammo \nアルステイク \nSHE’ll SLEEP\n \n9/4(土)18:00〜9/12(日)23:59 まで\nイープラスにてオフィシャル先行受付中!!\nhttps://eplus.jp/oor-f/\n 
URL:https://beats.stars.ne.jp/schedule/%e3%80%90orange-owl-records-presents-%e3%82%a2%e3%83%9e%e3%83%8e%e3%82%b9%e3%83%9f%e3%83%88-%e3%80%91
LOCATION:BEAT STATION\, 福岡市中央区渡辺通4-11-4\, 〒810-0004
END:VEVENT
BEGIN:VEVENT
DTSTART;VALUE=DATE:20211014
DTEND;VALUE=DATE:20211015
DTSTAMP:20260420T124513
CREATED:20210918T025915Z
LAST-MODIFIED:20210918T025915Z
UID:4302-1634169600-1634255999@beats.stars.ne.jp
SUMMARY:CLUB 80's
DESCRIPTION:シュネル\n向山毅 \n  \n詳細は後日発表
URL:https://beats.stars.ne.jp/schedule/club-80s
END:VEVENT
BEGIN:VEVENT
DTSTART;VALUE=DATE:20211011
DTEND;VALUE=DATE:20211012
DTSTAMP:20260420T124513
CREATED:20210924T055220Z
LAST-MODIFIED:20210924T055220Z
UID:4321-1633910400-1633996799@beats.stars.ne.jp
SUMMARY:店休日
DESCRIPTION:
URL:https://beats.stars.ne.jp/schedule/%e5%ba%97%e4%bc%91%e6%97%a5
END:VEVENT
BEGIN:VEVENT
DTSTART;VALUE=DATE:20211010
DTEND;VALUE=DATE:20211011
DTSTAMP:20260420T124513
CREATED:20210924T081641Z
LAST-MODIFIED:20211003T022542Z
UID:4335-1633824000-1633910399@beats.stars.ne.jp
SUMMARY:結音 YUION 1st ワンマンLIVE ヤッホー●TRAVEL[TYO→FUK]
DESCRIPTION:結音 YUION\n  \nオフィシャルHP先行▼ \n 9/24(金)20時～先着販売開始 \n 詳細\n ▼ https://yuion-japan.com/contents/33560
URL:https://beats.stars.ne.jp/schedule/%e7%b5%90%e9%9f%b3-yuion-1st-%e3%83%af%e3%83%b3%e3%83%9e%e3%83%b3live-%e3%83%a4%e3%83%83%e3%83%9b%e3%83%bc%e2%97%8ftraveltyo%e2%86%92fuk
LOCATION:BEAT STATION\, 福岡市中央区渡辺通4-11-4\, 〒810-0004
END:VEVENT
BEGIN:VEVENT
DTSTART;VALUE=DATE:20211010
DTEND;VALUE=DATE:20211011
DTSTAMP:20260420T124513
CREATED:20210924T065101Z
LAST-MODIFIED:20210924T065101Z
UID:4323-1633824000-1633910399@beats.stars.ne.jp
SUMMARY:RENT THANKS
DESCRIPTION:
URL:https://beats.stars.ne.jp/schedule/rent-thanks-36
LOCATION:BEAT STATION\, 福岡市中央区渡辺通4-11-4\, 〒810-0004
END:VEVENT
BEGIN:VEVENT
DTSTART;VALUE=DATE:20211009
DTEND;VALUE=DATE:20211010
DTSTAMP:20260420T124513
CREATED:20210815T084947Z
LAST-MODIFIED:20211009T040824Z
UID:4118-1633737600-1633823999@beats.stars.ne.jp
SUMMARY:A Daze In A Haze Tour
DESCRIPTION:DYGL
URL:https://beats.stars.ne.jp/schedule/a-daze-in-a-haze-tour
LOCATION:BEAT STATION\, 福岡市中央区渡辺通4-11-4\, 〒810-0004
CATEGORIES:トップ画面に表示する
END:VEVENT
BEGIN:VEVENT
DTSTART;VALUE=DATE:20211008
DTEND;VALUE=DATE:20211009
DTSTAMP:20260420T124513
CREATED:20210726T130125Z
LAST-MODIFIED:20210727T051518Z
UID:4064-1633651200-1633737599@beats.stars.ne.jp
SUMMARY:「諸刃 TOUR」
DESCRIPTION:MOROHA \n w/小山田壮平 \n問い合わせ info@moroha.jp \n ※『MOROHA開催日時未定ツアー』とは別のツアーとなります
URL:https://beats.stars.ne.jp/schedule/%e3%80%8c%e8%ab%b8%e5%88%83-tour%e3%80%8d
LOCATION:BEAT STATION\, 福岡市中央区渡辺通4-11-4\, 〒810-0004
CATEGORIES:トップ画面に表示する
END:VEVENT
BEGIN:VEVENT
DTSTART;VALUE=DATE:20211005
DTEND;VALUE=DATE:20211006
DTSTAMP:20260420T124513
CREATED:20210820T032112Z
LAST-MODIFIED:20211005T012120Z
UID:4161-1633392000-1633478399@beats.stars.ne.jp
SUMMARY:EGACCHO presents "Give it a Shot!!"
DESCRIPTION:BUZZ THE BEARS \n MINAMI NiNE \n BAN’S ENCOUNTER \n Dear Chambers \n ニイナ
URL:https://beats.stars.ne.jp/schedule/egaccho-presents-give-it-a-shot
LOCATION:BEAT STATION\, 福岡市中央区渡辺通4-11-4\, 〒810-0004
CATEGORIES:トップ画面に表示する
END:VEVENT
BEGIN:VEVENT
DTSTART;VALUE=DATE:20211003
DTEND;VALUE=DATE:20211004
DTSTAMP:20260420T124513
CREATED:20210815T093811Z
LAST-MODIFIED:20210815T093920Z
UID:4134-1633219200-1633305599@beats.stars.ne.jp
SUMMARY:ANTHEM vs ANTHEM 2001
DESCRIPTION:ANTHEM
URL:https://beats.stars.ne.jp/schedule/anthem-vs-anthem-2001
END:VEVENT
END:VCALENDAR