BEGIN:VCALENDAR
VERSION:2.0
PRODID:-//福岡のライブハウス BEAT STATION - ECPv6.10.3//NONSGML v1.0//EN
CALSCALE:GREGORIAN
METHOD:PUBLISH
X-WR-CALNAME:福岡のライブハウス BEAT STATION
X-ORIGINAL-URL:https://beats.stars.ne.jp
X-WR-CALDESC:福岡のライブハウス BEAT STATION のイベント
REFRESH-INTERVAL;VALUE=DURATION:PT1H
X-Robots-Tag:noindex
X-PUBLISHED-TTL:PT1H
BEGIN:VTIMEZONE
TZID:Asia/Tokyo
BEGIN:STANDARD
TZOFFSETFROM:+0900
TZOFFSETTO:+0900
TZNAME:JST
DTSTART:20210101T000000
END:STANDARD
END:VTIMEZONE
BEGIN:VEVENT
DTSTART;VALUE=DATE:20210409
DTEND;VALUE=DATE:20210410
DTSTAMP:20260421T041019
CREATED:20210205T093819Z
LAST-MODIFIED:20210409T012025Z
UID:3468-1617926400-1618012799@beats.stars.ne.jp
SUMMARY:健全なツアー　振替公演
DESCRIPTION:yonige \n2020/5/6(水)福岡BEAT STATION 公演、\n 2021/2/19(金)福岡BEAT STATION 公演の振替公演となります。 \n 
URL:https://beats.stars.ne.jp/schedule/%e5%81%a5%e5%85%a8%e3%81%aa%e3%83%84%e3%82%a2%e3%83%bc%e3%80%80%e6%8c%af%e6%9b%bf%e5%85%ac%e6%bc%94
LOCATION:BEAT STATION\, 福岡市中央区渡辺通4-11-4\, 〒810-0004
CATEGORIES:トップ画面に表示する
END:VEVENT
BEGIN:VEVENT
DTSTART;VALUE=DATE:20210404
DTEND;VALUE=DATE:20210405
DTSTAMP:20260421T041019
CREATED:20210330T082917Z
LAST-MODIFIED:20210330T082917Z
UID:3645-1617494400-1617580799@beats.stars.ne.jp
SUMMARY:IDO-LIVE!! 夜の部
DESCRIPTION:QUEENS\nKolokol\nやよいももこ\nYamakatsu \n\n■一般発売：3/10(水)21:00〜 \n\n \n主催：IDO-LIVE!!\n企画制作：KiTSUNE WORKS\nお問い合わせ：KiTSUNE WORKS / info@kitsune-works.com
URL:https://beats.stars.ne.jp/schedule/ido-live-%e5%a4%9c%e3%81%ae%e9%83%a8
LOCATION:BEAT STATION\, 福岡市中央区渡辺通4-11-4\, 〒810-0004
CATEGORIES:トップ画面に表示する
END:VEVENT
BEGIN:VEVENT
DTSTART;VALUE=DATE:20210404
DTEND;VALUE=DATE:20210405
DTSTAMP:20260421T041019
CREATED:20210330T082613Z
LAST-MODIFIED:20210330T082625Z
UID:3641-1617494400-1617580799@beats.stars.ne.jp
SUMMARY:IDO-LIVE!! 昼の部
DESCRIPTION:QUEENS\n Kolokol\n やよいももこ\n Yamakatsu \n\n ■一般発売：3/10(水)21:00〜 \n主催：IDO-LIVE!!\n 企画制作：KiTSUNE WORKS\n お問い合わせ：KiTSUNE WORKS / info@kitsune-works.com
URL:https://beats.stars.ne.jp/schedule/ido-live-%e6%98%bc%e3%81%ae%e9%83%a8
LOCATION:BEAT STATION\, 福岡市中央区渡辺通4-11-4\, 〒810-0004
CATEGORIES:トップ画面に表示する
END:VEVENT
BEGIN:VEVENT
DTSTART;VALUE=DATE:20210403
DTEND;VALUE=DATE:20210404
DTSTAMP:20260421T041019
CREATED:20200711T092155Z
LAST-MODIFIED:20210403T034430Z
UID:2889-1617408000-1617494399@beats.stars.ne.jp
SUMMARY:G-FREAK FACTORY “VINTAGE” TOUR 2021
DESCRIPTION:G-FREAK FACTORY \n  \n  \n 
URL:https://beats.stars.ne.jp/schedule/g-freak-factory-vintage-tour-2021
LOCATION:BEAT STATION\, 福岡市中央区渡辺通4-11-4\, 〒810-0004
CATEGORIES:トップ画面に表示する
END:VEVENT
BEGIN:VEVENT
DTSTART;VALUE=DATE:20210401
DTEND;VALUE=DATE:20210402
DTSTAMP:20260421T041019
CREATED:20210206T091447Z
LAST-MODIFIED:20210208T050401Z
UID:3471-1617235200-1617321599@beats.stars.ne.jp
SUMMARY:LIVE TO WEST 2021
DESCRIPTION:バックドロップシンデレラ\n ビレッジマンズストア\n ドラマチックアラスカ\n SHIMA \n  \n先行チケット受付中!!\n 2/6(土)18:00〜2/14(日)23:59\n https://eplus.jp/livetowest/
URL:https://beats.stars.ne.jp/schedule/live-to-west-2021
LOCATION:BEAT STATION\, 福岡市中央区渡辺通4-11-4\, 〒810-0004
CATEGORIES:トップ画面に表示する
END:VEVENT
BEGIN:VEVENT
DTSTART;VALUE=DATE:20210331
DTEND;VALUE=DATE:20210401
DTSTAMP:20260421T041019
CREATED:20210326T064154Z
LAST-MODIFIED:20210329T072628Z
UID:3625-1617148800-1617235199@beats.stars.ne.jp
SUMMARY:春休みIDOLFESTA Vol.3
DESCRIPTION:パピマシェ\n パピロジェ\n 広島8区ガールズ\n ElfinLily\n 1UP\n カルミア\n Code-L\n AQUA PLANET\n KAMISAMA-双-
URL:https://beats.stars.ne.jp/schedule/%e6%98%a5%e4%bc%91%e3%81%bfidolfesta-vol-3
LOCATION:BEAT STATION\, 福岡市中央区渡辺通4-11-4\, 〒810-0004
CATEGORIES:トップ画面に表示する
END:VEVENT
BEGIN:VEVENT
DTSTART;VALUE=DATE:20210330
DTEND;VALUE=DATE:20210331
DTSTAMP:20260421T041019
CREATED:20210326T064039Z
LAST-MODIFIED:20210329T072602Z
UID:3622-1617062400-1617148799@beats.stars.ne.jp
SUMMARY:春休みIDOLFESTA Vol.2
DESCRIPTION:広島8区ガールズ\n ElfinLily\n 1UP\n COLORLESS\n Code-L\n Ver-Million\n AQUA PLANET\n KAMISAMA- 双-\n 柚晴このみ(O.A)
URL:https://beats.stars.ne.jp/schedule/%e6%98%a5%e4%bc%91%e3%81%bfidolfesta-vol-2
LOCATION:BEAT STATION\, 福岡市中央区渡辺通4-11-4\, 〒810-0004
CATEGORIES:トップ画面に表示する
END:VEVENT
BEGIN:VEVENT
DTSTART;VALUE=DATE:20210329
DTEND;VALUE=DATE:20210330
DTSTAMP:20260421T041019
CREATED:20210326T063908Z
LAST-MODIFIED:20210329T072529Z
UID:3620-1616976000-1617062399@beats.stars.ne.jp
SUMMARY:春休みIDOLFESTA Vol.1
DESCRIPTION:パピマシェ\n パピロジェ\n 広島8区ガールズ\n ElfinLily\n COLORLESS\n Code-L\n AQUA PLANET\n KAMISAMA-双-
URL:https://beats.stars.ne.jp/schedule/%e6%98%a5%e4%bc%91%e3%81%bfidolfesta-vol-1
LOCATION:BEAT STATION\, 福岡市中央区渡辺通4-11-4\, 〒810-0004
CATEGORIES:トップ画面に表示する
END:VEVENT
BEGIN:VEVENT
DTSTART;VALUE=DATE:20210328
DTEND;VALUE=DATE:20210329
DTSTAMP:20260421T041019
CREATED:20210213T034055Z
LAST-MODIFIED:20210213T034055Z
UID:3488-1616889600-1616975999@beats.stars.ne.jp
SUMMARY:CCS records. & ABOUT MUSIC Presents 週末CITY PLAY BOYZ "SHE IS ALIEN" RELEASE ONEMAN PARTY 2部
DESCRIPTION:[LIVE]\n週末CITY PLAY BOYZ \n[DJ] \nNIGHT: TSUBAME (TOKYO HEALTH CLUB)\, SHOTA-LOW (ABOUT MUSIC/lit) \n※受付にて身分証の確認を致します。20歳未満の方にお酒の提供は出来ません。 \n\n▷発売日: 2/20(土)12:00\n・Live Pocket\nNIGHT: https://t.livepocket.jp/e/sheisalien_night \n福岡発の4人組ヒップホップ・クルー”週末CITY PLAY BOYZ”の2stアルバム「SHE IS ALIEN」が3/12(金)にリリース決定！\nリリースを記念したワンマンパーティーが、地元である福岡BEAT STATIONにて3/28(日)にDAY&NIGHTの2部制で開催決定！ \n週末CITY PLAY BOYZのリリースツアー史上で最大規模となる本公演は、彼らの魅力をたっぷりと堪能すべくDAY公演、NIGHT公演とテーマを分けてライブを実施。それぞれの公演毎に内容やセットリストも変えて披露する予定である。 \nGUEST DJには彼らとも親交が深いTSUBAME (TOKYO HEALTH CLUB)、TOSHIKI HAYASHI (%C)、SHOTA-LOW (ABOUT MUSIC/lit)、RYUTARO (CCS records.)が出演決定！開場時やライブ終了後も楽しめるパーティーになるだろう。 \n当日限定のグッズも販売され、さらにステージなどのインスタレーションも所属するCCS records.が手掛けるとのことで、お見逃せない特別なひとときになることは間違いなし！ \n感染症の予防対策はABOUT MUSIC WEBやSNS、添付画像を事前に必ずご確認の上、ご理解とご協力をお願い致します。 \n福岡を拠点に週末のパーティーを賑わし、話題を振りまく彼らによるワンマンパーティーをお見逃しなく！
URL:https://beats.stars.ne.jp/schedule/ccs-records-about-music-presents-%e9%80%b1%e6%9c%abcity-play-boyz-she-is-alien-release-oneman-party-2%e9%83%a8
LOCATION:BEAT STATION\, 福岡市中央区渡辺通4-11-4\, 〒810-0004
CATEGORIES:トップ画面に表示する
END:VEVENT
BEGIN:VEVENT
DTSTART;VALUE=DATE:20210328
DTEND;VALUE=DATE:20210329
DTSTAMP:20260421T041019
CREATED:20210213T033753Z
LAST-MODIFIED:20210213T034133Z
UID:3484-1616889600-1616975999@beats.stars.ne.jp
SUMMARY:CCS records. & ABOUT MUSIC Presents 週末CITY PLAY BOYZ "SHE IS ALIEN" RELEASE ONEMAN PARTY 1部
DESCRIPTION:[LIVE]\n 週末CITY PLAY BOYZ \n [DJ]\n DAY: TOSHIKI HAYASHI (%C)\, RYUTARO (CCS records.) \n ※受付にて身分証の確認を致します。20歳未満の方にお酒の提供は出来ません。\n  \n福岡発の4人組ヒップホップ・クルー”週末CITY PLAY BOYZ”の2stアルバム「SHE IS ALIEN」が3/12(金)にリリース決定！\n リリースを記念したワンマンパーティーが、地元である福岡BEAT STATIONにて3/28(日)にDAY&NIGHTの2部制で開催決定！ \n 週末CITY PLAY BOYZのリリースツアー史上で最大規模となる本公演は、彼らの魅力をたっぷりと堪能すべくDAY公演、NIGHT公演とテーマを分けてライブを実施。それぞれの公演毎に内容やセットリストも変えて披露する予定である。 \n GUEST DJには彼らとも親交が深いTSUBAME (TOKYO HEALTH CLUB)、TOSHIKI HAYASHI (%C)、SHOTA-LOW (ABOUT MUSIC/lit)、RYUTARO (CCS records.)が出演決定！開場時やライブ終了後も楽しめるパーティーになるだろう。 \n 当日限定のグッズも販売され、さらにステージなどのインスタレーションも所属するCCS records.が手掛けるとのことで、お見逃せない特別なひとときになることは間違いなし！ \n\n 感染症の予防対策はABOUT MUSIC WEBやSNS、添付画像を事前に必ずご確認の上、ご理解とご協力をお願い致します。 \n 福岡を拠点に週末のパーティーを賑わし、話題を振りまく彼らによるワンマンパーティーをお見逃しなく！ \n▷発売日: 2/20(土)12:00\n・Live Pocket\n\nDAY: https://t.livepocket.jp/e/sheisalien_day\n \n\n\n 
URL:https://beats.stars.ne.jp/schedule/ccs-records-about-music-presents-%e9%80%b1%e6%9c%abcity-play-boyz-she-is-alien-release-oneman-party-1%e9%83%a8
LOCATION:BEAT STATION\, 福岡市中央区渡辺通4-11-4\, 〒810-0004
CATEGORIES:トップ画面に表示する
END:VEVENT
BEGIN:VEVENT
DTSTART;VALUE=DATE:20210327
DTEND;VALUE=DATE:20210328
DTSTAMP:20260421T041019
CREATED:20201224T154832Z
LAST-MODIFIED:20201224T154832Z
UID:3352-1616803200-1616889599@beats.stars.ne.jp
SUMMARY:ENTH「NETH TOUR」
DESCRIPTION:ENTH \nオフィシャル先行予約2021年1月6日23:59まで\nhttps://eplus.jp/enth-2021/
URL:https://beats.stars.ne.jp/schedule/enth%e3%80%8cneth-tour%e3%80%8d
LOCATION:BEAT STATION\, 福岡市中央区渡辺通4-11-4\, 〒810-0004
CATEGORIES:トップ画面に表示する
END:VEVENT
BEGIN:VEVENT
DTSTART;VALUE=DATE:20210324
DTEND;VALUE=DATE:20210325
DTSTAMP:20260421T041019
CREATED:20201216T125827Z
LAST-MODIFIED:20210303T003119Z
UID:3319-1616544000-1616630399@beats.stars.ne.jp
SUMMARY:TREASURE BOX TOUR  公演延期
DESCRIPTION:空音 \n 3月6日(土)より開催を予定しておりました『空音 -TREASURE BOX TOUR-』公演ですが、\n新型コロナウイルス感染症の影響による社会情勢を鑑み、ご来場いただくお客様の安全性を第一に考え協議を重ねた結果、苦渋の決断ではありますが、全公演延期と決定いたしました。\n公演間近のご案内となりましたことをお詫び申し上げますとともに、楽しみにお待ちいただいていた皆様にはご心配とご迷惑をおかけし大変申し訳ございません。深くお詫び申し上げます。 \n【福岡公演に関するお問合せ】\nキョードー西日本 0570-09-2424（平日 11:00～17:00）\nhttp://www.kyodo-west.co.jp/artist_page.php?a_id=2396
URL:https://beats.stars.ne.jp/schedule/treasure-box-tour
LOCATION:BEAT STATION\, 福岡市中央区渡辺通4-11-4\, 〒810-0004
CATEGORIES:トップ画面に表示する
END:VEVENT
BEGIN:VEVENT
DTSTART;VALUE=DATE:20210321
DTEND;VALUE=DATE:20210322
DTSTAMP:20260421T041019
CREATED:20210204T093816Z
LAST-MODIFIED:20210314T000502Z
UID:3458-1616284800-1616371199@beats.stars.ne.jp
SUMMARY:AkiraTakasaki and Friends Return To The Origin
DESCRIPTION:AkiraTakasaki and Friends  \nGT:AkiraTakasaki \n VO:MinoruNiihara \n BA:MasayoshiYamasita \n DR:Himawari \n  \nご入場の際、検温、消毒、ご連絡先のご記入を実施しております。\n 体調不良の方、マスク未着用の方のご入場はできませんので、ご了承ください。 \n 
URL:https://beats.stars.ne.jp/schedule/akiratakasaki-and-friends-return-to-the-origin
LOCATION:BEAT STATION\, 福岡市中央区渡辺通4-11-4\, 〒810-0004
END:VEVENT
BEGIN:VEVENT
DTSTART;VALUE=DATE:20210320
DTEND;VALUE=DATE:20210321
DTSTAMP:20260421T041019
CREATED:20210316T044654Z
LAST-MODIFIED:20210317T065027Z
UID:3591-1616198400-1616284799@beats.stars.ne.jp
SUMMARY:煌めき☆アンフォレント福岡不定期公演 桐下愛未 生誕SP!!
DESCRIPTION:煌めき☆アンフォレント \n GUEST　桜愛美 / Niimo \n ダイブ、サーフ、リフト、モッシュ等危険な行為は一切禁止とさせて頂きます。悪質な場合はご退場頂く場合が御座います。\n※当日の検温、マスク着用、声出し禁止、他のお客さまへの過度な接触禁止など、様々なお願いをする形となります。 \n  \n3月15日(月)19:00〜 Ticket Village \nhttps://ticketvillage.jp/events/11068
URL:https://beats.stars.ne.jp/schedule/%e7%85%8c%e3%82%81%e3%81%8d%e2%98%86%e3%82%a2%e3%83%b3%e3%83%95%e3%82%a9%e3%83%ac%e3%83%b3%e3%83%88%e7%a6%8f%e5%b2%a1%e4%b8%8d%e5%ae%9a%e6%9c%9f%e5%85%ac%e6%bc%94-%e6%a1%90%e4%b8%8b%e6%84%9b%e6%9c%aa
LOCATION:BEAT STATION\, 福岡市中央区渡辺通4-11-4\, 〒810-0004
CATEGORIES:トップ画面に表示する
END:VEVENT
BEGIN:VEVENT
DTSTART;VALUE=DATE:20210320
DTEND;VALUE=DATE:20210321
DTSTAMP:20260421T041019
CREATED:20210316T044456Z
LAST-MODIFIED:20210317T065002Z
UID:3588-1616198400-1616284799@beats.stars.ne.jp
SUMMARY:煌めき☆アンフォレント 2ndEP リリースイベントin福岡
DESCRIPTION:煌めき☆アンフォレント \nGUEST:Niino \n\n\n\n\nダイブ、サーフ、リフト、モッシュ等危険な行為は一切禁止とさせて頂きます。悪質な場合はご退場頂く場合が御座います。\n\n\n\n\n※当日の検温、マスク着用、声出し禁止、他のお客さまへの過度な接触禁止など、様々なお願いをする形となります。\n\n\n\n\n\n\n\n\n\n Ticket Village\n https://ticketvillage.jp/events/11067
URL:https://beats.stars.ne.jp/schedule/%e7%85%8c%e3%82%81%e3%81%8d%e2%98%86%e3%82%a2%e3%83%b3%e3%83%95%e3%82%a9%e3%83%ac%e3%83%b3%e3%83%88-2ndep-%e3%83%aa%e3%83%aa%e3%83%bc%e3%82%b9%e3%82%a4%e3%83%99%e3%83%b3%e3%83%88in%e7%a6%8f%e5%b2%a1
LOCATION:BEAT STATION\, 福岡市中央区渡辺通4-11-4\, 〒810-0004
CATEGORIES:トップ画面に表示する
END:VEVENT
BEGIN:VEVENT
DTSTART;VALUE=DATE:20210319
DTEND;VALUE=DATE:20210320
DTSTAMP:20260421T041019
CREATED:20210228T125045Z
LAST-MODIFIED:20210228T125045Z
UID:3539-1616112000-1616198399@beats.stars.ne.jp
SUMMARY:ワンマンツアー 「ヒステリック」
DESCRIPTION:ザアザア
URL:https://beats.stars.ne.jp/schedule/%e3%83%af%e3%83%b3%e3%83%9e%e3%83%b3%e3%83%84%e3%82%a2%e3%83%bc-%e3%80%8c%e3%83%92%e3%82%b9%e3%83%86%e3%83%aa%e3%83%83%e3%82%af%e3%80%8d
LOCATION:BEAT STATION\, 福岡市中央区渡辺通4-11-4\, 〒810-0004
END:VEVENT
BEGIN:VEVENT
DTSTART;VALUE=DATE:20210317
DTEND;VALUE=DATE:20210318
DTSTAMP:20260421T041019
CREATED:20210215T181207Z
LAST-MODIFIED:20210222T034229Z
UID:3500-1615939200-1616025599@beats.stars.ne.jp
SUMMARY:One-man Live Tour 2021「パイン vol.10」
DESCRIPTION:オレンジスパイニクラブ\n \nチケット一般発売　2月27日(土)10:00〜e+のWEBで発売開始　※電子チケットのみ\n \n\nOne-man Live Tour 2021「パイン vol.10」はイベント開催における新型コロナウイルス感染症対策ガイドラインに基づき開催します。 チケットをご購入される際は、注意事項をよくお読みいただくようお願い申し上げます。\n【注意事項】　※必ずお読み下さい。\n■ 当日、下記に該当される方はご入場をお断りさせていただきます。\n・37.5℃以上の発熱のある方\n・喉の痛み、頭痛、関節痛、息苦しさ、息の吸いづらさ、咳、下痢、結膜炎症状、味覚障害などの症状をお持ちの方\n・新型コロナウイルス感染症陽性とされた方との濃厚接触がある方や、同居のご家族や身近な知人に感染が疑われる方がいらっしゃる方\n・公演日より14日前までに政府から入国制限、入国後の観察期間を必要とされている国・地域への渡航のある方、ならびに該当国の在住者と濃厚接触がある方\n・感染防止のための措置や指示に従えない方、感染防止を意識した行動にご協力いただけない方、安全確保の妨げになると判断した方\nまた、公演途中にこのような行為が発覚した場合は途中退場いただきます。 \n■会場内は常にマスクの着用をお願いいたします。また、入場の待機中など、会場敷地内でもマスクの着用は必須とさせていただきます。ご協力いただけない場合、ご入場をお断りいたします。 \n■ご入場時、全ての方に検温を実施させていただきます。37.5℃以上の発熱がある方、検温を拒否された方はご入場をお断りいたします。検温の際、飲酒をされている場合は正しく計測できない可能性がございますので、飲酒はせずにご来場いただきますようお願い申し上げます。 \n■公演中はお席での鑑賞をお願いするとともに、声援や大声での歌唱、指笛等を禁止させていただきます。拍手や手拍子、手をあげるなどは問題ございません。 \n■新型コロナウイルス接触確認アプリ「COCOA」のインストールを推奨させていただきます。\n〜新型コロナウイルス接触確認アプリ（COCOA）のご案内〜\n厚生労働省が開発した、新型コロナウイルス接触確認アプリです。\n新型コロナウイルス感染症の感染者と接触した可能性について、通知を受け取ることができます。\nご自身のスマートフォンにインストールしてご利用ください。 \n■会場における演者の出待ち・入り待ちはお断りいたします。差し入れ、プレゼント、お手紙の受け取りは辞退させていただきます。 \n■終演後、規制退場とさせて頂く場合がございます。 \n■チケットをご購入いただいた方の個人情報は一定期間、各公演の主催者にて厳重に管理し、万が一感染者が発生した場合の感染経路追跡のための利用、必要に応じた保健所等の公的機関への提出以外、他の目的では使用いたしません。 \n■感染をはじめとするあらゆるリスク、その他の経済的損失等について、主催者は一切責任を負いかねますので、予めご了承ください。 \n\n 
URL:https://beats.stars.ne.jp/schedule/one-man-live-tour-2021%e3%80%8c%e3%83%91%e3%82%a4%e3%83%b3-vol-10%e3%80%8d
LOCATION:BEAT STATION\, 福岡市中央区渡辺通4-11-4\, 〒810-0004
CATEGORIES:トップ画面に表示する
END:VEVENT
BEGIN:VEVENT
DTSTART;VALUE=DATE:20210314
DTEND;VALUE=DATE:20210315
DTSTAMP:20260421T041019
CREATED:20201223T094559Z
LAST-MODIFIED:20210314T010038Z
UID:3341-1615680000-1615766399@beats.stars.ne.jp
SUMMARY:2部　 BUZZ-ER.Live tour 2021“Re:サクラエビデンスツアー“
DESCRIPTION: BUZZ-ER.  \n  \n2020年4月17日(金)のチケットをお持ちの方は２部公演にそのまま有効となります。
URL:https://beats.stars.ne.jp/schedule/2%e9%83%a8%e3%80%80-buzz-er-live-tour-2021re%e3%82%b5%e3%82%af%e3%83%a9%e3%82%a8%e3%83%93%e3%83%87%e3%83%b3%e3%82%b9%e3%83%84%e3%82%a2%e3%83%bc
LOCATION:BEAT STATION\, 福岡市中央区渡辺通4-11-4\, 〒810-0004
CATEGORIES:トップ画面に表示する
END:VEVENT
BEGIN:VEVENT
DTSTART;VALUE=DATE:20210314
DTEND;VALUE=DATE:20210315
DTSTAMP:20260421T041019
CREATED:20200527T043708Z
LAST-MODIFIED:20210118T063327Z
UID:2798-1615680000-1615766399@beats.stars.ne.jp
SUMMARY:1部　BUZZ-ER.Live tour 2021“Re:サクラエビデンスツアー“ 直前!!ファンミーティング〜お昼のイケメンを添えて〜
DESCRIPTION:BUZZ-ER. \n 
URL:https://beats.stars.ne.jp/schedule/%e3%82%b5%e3%82%af%e3%83%a9%e3%82%a8%e3%83%93%e3%83%87%e3%83%b3%e3%82%b9%e3%80%80tour-2020-%e6%8c%af%e6%9b%bf%e5%85%ac%e6%bc%94
LOCATION:BEAT STATION\, 福岡市中央区渡辺通4-11-4\, 〒810-0004
CATEGORIES:トップ画面に表示する
END:VEVENT
BEGIN:VEVENT
DTSTART;VALUE=DATE:20210313
DTEND;VALUE=DATE:20210314
DTSTAMP:20260421T041019
CREATED:20210128T093906Z
LAST-MODIFIED:20210226T035201Z
UID:3449-1615593600-1615679999@beats.stars.ne.jp
SUMMARY:FOMARE LIVE HOUSE TOUR 2020 to 2021〜おいでよ目を閉じて〜 振替公演
DESCRIPTION:FOMARE \n  \n延期公演のチケットにてご来場いただけます。\n  \nチケット一般発売 \n2/27 10:00〜
URL:https://beats.stars.ne.jp/schedule/fomare-live-house-tour-2020-to-2021%e3%80%9c%e3%81%8a%e3%81%84%e3%81%a7%e3%82%88%e7%9b%ae%e3%82%92%e9%96%89%e3%81%98%e3%81%a6%e3%80%9c-%e6%8c%af%e6%9b%bf%e5%85%ac%e6%bc%94
LOCATION:BEAT STATION\, 福岡市中央区渡辺通4-11-4\, 〒810-0004
CATEGORIES:トップ画面に表示する
END:VEVENT
BEGIN:VEVENT
DTSTART;VALUE=DATE:20210306
DTEND;VALUE=DATE:20210307
DTSTAMP:20260421T041019
CREATED:20210201T093546Z
LAST-MODIFIED:20210205T092753Z
UID:3456-1614988800-1615075199@beats.stars.ne.jp
SUMMARY:Candy Cruise Tour 2021  二部
DESCRIPTION:SHANK \n  \n2/8(月)18:00よりオフィシャル1次先行受付開始！ \n【抽選制】オフィシャル1次先行　2/8(月)18:00〜2/14(日)23:59\n【抽選制】オフィシャル2次先行 2/17(水) 18:00〜2/21(日)23:59\n【先着制】一般発売 2/26(金)12:00〜各公演3日前 22:00まで\n\n◆チケット受付URL(オフィシャル先行、一般発売まで共通URL)\nhttps://l-tike.com/shank2021/\n本ツアーは【ローチケ電子チケット】になります。※スマートフォン限定\n受付ページ記載の「電子チケット注意事項」をお読みになり、\nご確認いただいた上でお申込みください。\n  \n\n \n\n\n\n\n 
URL:https://beats.stars.ne.jp/schedule/candy-cruise-tour-2021-shank-%e4%ba%8c%e9%83%a8
LOCATION:BEAT STATION\, 福岡市中央区渡辺通4-11-4\, 〒810-0004
CATEGORIES:トップ画面に表示する
END:VEVENT
BEGIN:VEVENT
DTSTART;VALUE=DATE:20210306
DTEND;VALUE=DATE:20210307
DTSTAMP:20260421T041019
CREATED:20210201T093329Z
LAST-MODIFIED:20210306T011926Z
UID:3453-1614988800-1615075199@beats.stars.ne.jp
SUMMARY:Candy Cruise Tour 2021 一部
DESCRIPTION:SHANK \n  \n\n \n ◆チケット受付URL(オフィシャル先行、一般発売まで共通URL)\n https://l-tike.com/shank2021/\n 本ツアーは【ローチケ電子チケット】になります。※スマートフォン限定\n 受付ページ記載の「電子チケット注意事項」をお読みになり、\nご確認いただいた上でお申込みください。
URL:https://beats.stars.ne.jp/schedule/candy-cruise-tour-2021-%e4%b8%80%e9%83%a8
LOCATION:BEAT STATION\, 福岡市中央区渡辺通4-11-4\, 〒810-0004
CATEGORIES:トップ画面に表示する
END:VEVENT
BEGIN:VEVENT
DTSTART;VALUE=DATE:20210303
DTEND;VALUE=DATE:20210304
DTSTAMP:20260421T041019
CREATED:20210111T054602Z
LAST-MODIFIED:20210221T010540Z
UID:3406-1614729600-1614815999@beats.stars.ne.jp
SUMMARY:桃の節句！Peach seasonal festival Unplugged Live
DESCRIPTION:3月3日(水)\n\n\n桃の節句！Peach seasonal festival\n\n\n桃の節句の雛祭り記念アコースティック・ライブ。\n\n \n\n\n開催予定でありましたが、2月21日現在におきましても、福岡市は緊急事態宣言下にあり、いまだに解除目処が立っていないため、残念ながら3月3日の雛祭りアコースティックライブは中止とさせていただきました。何卒、ご了承いただきますよう、お願い申し上げます。 \n楽しみにしておられた皆様方には、心からお詫び申し上げます。
URL:https://beats.stars.ne.jp/schedule/%e6%a1%83%e3%81%ae%e7%af%80%e5%8f%a5%ef%bc%81peach-seasonal-festival-unplugged-live
LOCATION:BEAT STATION\, 福岡市中央区渡辺通4-11-4\, 〒810-0004
CATEGORIES:トップ画面に表示する
END:VEVENT
BEGIN:VEVENT
DTSTART;VALUE=DATE:20210228
DTEND;VALUE=DATE:20210301
DTSTAMP:20260421T041019
CREATED:20210109T035143Z
LAST-MODIFIED:20210214T035703Z
UID:3397-1614470400-1614556799@beats.stars.ne.jp
SUMMARY:ABOUT MUSIC Presents "THINGS WE SAY SPECIAL" ドミコ × DENIMS - wish you were here EXTRA - 2部
DESCRIPTION:ABOUT MUSICのライブシリーズ「THINGS WE SAY」のスペシャルバージョンが、2/28(日)福岡BEAT STATIONにて開催決定！\n 出演アーティストには、ステージ上2人だけで音を重ね、原曲を変幻自在に進化させていくライブにも定評があるツーピースバンド”ドミコ”と、ブラックミュージックをルーツに人懐っこくも飾らないグッドミュージックを鳴らす大阪発のフォーピースバンド”DENIMS”が決定！盟友であるこの最高の2組の魅力を堪能すべく、ロングセットでのスペシャルツーマンライブを開催します！ \n そして、KAZUO\, SHOTA-LOW\, HELOW\, Alisonの豪華DJ陣がパーティーに華を添えます。開場中や転換中、ライブ終了後もぜひお楽しみください！\n 前売券はLive Pocket(非接触型電子チケット)にて1/10(日)12:00より発売開始！\n 過去にはtofubeats、STUTS、iri、chelmico、VaVa、DENIMS、踊Foot Works、TENDOUJI、yonawo、Qiezi Mabo、kiki vivi lily、Attractions、週末CITY PLAY BOYZ、maco marets、KONCOS、JABBA DA FOOTBALL CLUB、TOSHIKI HAYASHI、Yelladigos、MONO SAFARI、らのジャンルを越えた多彩なアーティストが出演し、開催の度にソールドアウトを記録するほど爆発的な盛り上がりを見せて来た”THINGS WE SAY SPECIAL”。今回の開催も盛り上がりは必至です！\n なお、感染症の予防対策はABOUT MUSIC WEBやSNS、添付画像を事前に必ずご確認の上、ご理解とご協力をお願い致します。\n 2021年初開催となる”THINGS WE SAY SPECIAL”、ココでしか体感できない豪華共演は必見です！どうぞお見逃しなく！ \n [LIVE]\n ドミコ\n DENIMS \n [DJ]\n ・2nd SET\n SHOTA-LOW (ABOUT MUSIC/PLAG)\n HELOW (SQUASH/PLAG) \n\n ▷一般発売\n 発売日: 1/10(日)12:00\n ・Live Pocket \n\n 2nd SET https://t.livepocket.jp/e/domicodenims0228fuk2nd\n ※非接触型電子チケットのみでの販売となります。
URL:https://beats.stars.ne.jp/schedule/about-music-presents-things-we-say-special-%e3%83%89%e3%83%9f%e3%82%b3-x-denims-wish-you-were-here-extra-2%e9%83%a8
LOCATION:BEAT STATION\, 福岡市中央区渡辺通4-11-4\, 〒810-0004
CATEGORIES:トップ画面に表示する
END:VEVENT
BEGIN:VEVENT
DTSTART;VALUE=DATE:20210228
DTEND;VALUE=DATE:20210301
DTSTAMP:20260421T041019
CREATED:20210109T035012Z
LAST-MODIFIED:20210214T035636Z
UID:3394-1614470400-1614556799@beats.stars.ne.jp
SUMMARY:ABOUT MUSIC Presents "THINGS WE SAY SPECIAL" ドミコ × DENIMS - wish you were here EXTRA - 1部
DESCRIPTION:ABOUT MUSICのライブシリーズ「THINGS WE SAY」のスペシャルバージョンが、2/28(日)福岡BEAT STATIONにて開催決定！\n 出演アーティストには、ステージ上2人だけで音を重ね、原曲を変幻自在に進化させていくライブにも定評があるツーピースバンド”ドミコ”と、ブラックミュージックをルーツに人懐っこくも飾らないグッドミュージックを鳴らす大阪発のフォーピースバンド”DENIMS”が決定！盟友であるこの最高の2組の魅力を堪能すべく、ロングセットでのスペシャルツーマンライブを開催します！ \n そして、KAZUO\, SHOTA-LOW\, HELOW\, Alisonの豪華DJ陣がパーティーに華を添えます。開場中や転換中、ライブ終了後もぜひお楽しみください！\n 前売券はLive Pocket(非接触型電子チケット)にて1/10(日)12:00より発売開始！\n 過去にはtofubeats、STUTS、iri、chelmico、VaVa、DENIMS、踊Foot Works、TENDOUJI、yonawo、Qiezi Mabo、kiki vivi lily、Attractions、週末CITY PLAY BOYZ、maco marets、KONCOS、JABBA DA FOOTBALL CLUB、TOSHIKI HAYASHI、Yelladigos、MONO SAFARI、らのジャンルを越えた多彩なアーティストが出演し、開催の度にソールドアウトを記録するほど爆発的な盛り上がりを見せて来た”THINGS WE SAY SPECIAL”。今回の開催も盛り上がりは必至です！\n なお、感染症の予防対策はABOUT MUSIC WEBやSNS、添付画像を事前に必ずご確認の上、ご理解とご協力をお願い致します。\n 2021年初開催となる”THINGS WE SAY SPECIAL”、ココでしか体感できない豪華共演は必見です！どうぞお見逃しなく！ \n\n [LIVE]\n ドミコ\n DENIMS \n [DJ]\n ・1st SET\n KAZUO (TRESOL/ABOUT MUSIC)\n Alison (OUT OF STEP) \n\n ▷一般発売\n 発売日: 1/10(日)12:00\n ・Live Pocket \n 1st SET https://t.livepocket.jp/e/domicodenims0228fuk1st
URL:https://beats.stars.ne.jp/schedule/about-music-presents-things-we-say-special-%e3%83%89%e3%83%9f%e3%82%b3-x-denims-wish-you-were-here-extra-1%e9%83%a8
LOCATION:BEAT STATION\, 福岡市中央区渡辺通4-11-4\, 〒810-0004
CATEGORIES:トップ画面に表示する
END:VEVENT
BEGIN:VEVENT
DTSTART;VALUE=DATE:20210227
DTEND;VALUE=DATE:20210228
DTSTAMP:20260421T041019
CREATED:20210227T002517Z
LAST-MODIFIED:20210227T002517Z
UID:3535-1614384000-1614470399@beats.stars.ne.jp
SUMMARY:RENT THANKS!
DESCRIPTION:
URL:https://beats.stars.ne.jp/schedule/rent-thanks-30
LOCATION:BEAT STATION\, 福岡市中央区渡辺通4-11-4\, 〒810-0004
END:VEVENT
BEGIN:VEVENT
DTSTART;VALUE=DATE:20210226
DTEND;VALUE=DATE:20210227
DTSTAMP:20260421T041019
CREATED:20210223T113531Z
LAST-MODIFIED:20210223T113531Z
UID:3521-1614297600-1614383999@beats.stars.ne.jp
SUMMARY:kobore ワンマンツアー 『HARU ICHIBAN TOUR 2021』
DESCRIPTION:kobore
URL:https://beats.stars.ne.jp/schedule/kobore-%e3%83%af%e3%83%b3%e3%83%9e%e3%83%b3%e3%83%84%e3%82%a2%e3%83%bc-%e3%80%8eharu-ichiban-tour-2021%e3%80%8f
LOCATION:BEAT STATION\, 福岡市中央区渡辺通4-11-4\, 〒810-0004
END:VEVENT
BEGIN:VEVENT
DTSTART;VALUE=DATE:20210223
DTEND;VALUE=DATE:20210224
DTSTAMP:20260421T041019
CREATED:20210222T034820Z
LAST-MODIFIED:20210222T034910Z
UID:3515-1614038400-1614124799@beats.stars.ne.jp
SUMMARY:【ユートピアフェスタ　MINI】2部
DESCRIPTION:空想モーメントL＋ \n Code-L\n 1UP\n COLORLESS\n KAMISAMA-双-\n AQUA\n 広島8区ガールズ\n 愛◆DREAM \nマスク女子(O.A) \n  \n予約は各グループへ \n 
URL:https://beats.stars.ne.jp/schedule/%e3%80%90%e3%83%a6%e3%83%bc%e3%83%88%e3%83%94%e3%82%a2%e3%83%95%e3%82%a7%e3%82%b9%e3%82%bf%e3%80%80mini%e3%80%912%e9%83%a8
LOCATION:BEAT STATION\, 福岡市中央区渡辺通4-11-4\, 〒810-0004
CATEGORIES:トップ画面に表示する
END:VEVENT
BEGIN:VEVENT
DTSTART;VALUE=DATE:20210223
DTEND;VALUE=DATE:20210224
DTSTAMP:20260421T041019
CREATED:20210222T034630Z
LAST-MODIFIED:20210222T034936Z
UID:3512-1614038400-1614124799@beats.stars.ne.jp
SUMMARY:【ユートピアフェスタ　MINI】1部
DESCRIPTION:空想モーメントL＋ \n Code-L\n 1UP\n COLORLESS\n KAMISAMA-双-\n AQUA\n 広島8区ガールズ\n 愛◆DREAM  \n マスク女子(O.A) \n  \n予約は各グループへ
URL:https://beats.stars.ne.jp/schedule/%e3%80%90%e3%83%a6%e3%83%bc%e3%83%88%e3%83%94%e3%82%a2%e3%83%95%e3%82%a7%e3%82%b9%e3%82%bf%e3%80%80mini%e3%80%911%e9%83%a8
LOCATION:BEAT STATION\, 福岡市中央区渡辺通4-11-4\, 〒810-0004
CATEGORIES:トップ画面に表示する
END:VEVENT
BEGIN:VEVENT
DTSTART;VALUE=DATE:20210221
DTEND;VALUE=DATE:20210222
DTSTAMP:20260421T041019
CREATED:20201208T102507Z
LAST-MODIFIED:20201208T102507Z
UID:3309-1613865600-1613951999@beats.stars.ne.jp
SUMMARY:よかろうもん 1st Tour 2020 全国に届けLove&Noodle 振替公演 2部
DESCRIPTION:よかろうもん \n\n●よかメン受付（FC先行）https://fanicon.net/fancommunities/1178…\n12/2（水）12:00～12/9（水）23:59\n●一般受付https://eplus.jp/sf/detail/3350610001-P0030001…\n12/19（土）10:00～
URL:https://beats.stars.ne.jp/schedule/%e3%82%88%e3%81%8b%e3%82%8d%e3%81%86%e3%82%82%e3%82%93-1st-tour-2020-%e5%85%a8%e5%9b%bd%e3%81%ab%e5%b1%8a%e3%81%91lovenoodle-%e6%8c%af%e6%9b%bf%e5%85%ac%e6%bc%94-2%e9%83%a8
LOCATION:BEAT STATION\, 福岡市中央区渡辺通4-11-4\, 〒810-0004
END:VEVENT
END:VCALENDAR