BEGIN:VCALENDAR
VERSION:2.0
PRODID:-//福岡のライブハウス BEAT STATION - ECPv6.10.3//NONSGML v1.0//EN
CALSCALE:GREGORIAN
METHOD:PUBLISH
X-WR-CALNAME:福岡のライブハウス BEAT STATION
X-ORIGINAL-URL:https://beats.stars.ne.jp
X-WR-CALDESC:福岡のライブハウス BEAT STATION のイベント
REFRESH-INTERVAL;VALUE=DURATION:PT1H
X-Robots-Tag:noindex
X-PUBLISHED-TTL:PT1H
BEGIN:VTIMEZONE
TZID:Asia/Tokyo
BEGIN:STANDARD
TZOFFSETFROM:+0900
TZOFFSETTO:+0900
TZNAME:JST
DTSTART:20190101T000000
END:STANDARD
END:VTIMEZONE
BEGIN:VEVENT
DTSTART;VALUE=DATE:20191101
DTEND;VALUE=DATE:20191102
DTSTAMP:20260422T075658
CREATED:20190922T085858Z
LAST-MODIFIED:20190922T085858Z
UID:2090-1572566400-1572652799@beats.stars.ne.jp
SUMMARY:山猿だよ！あなたの街で赤い実ハジケちゃってもいいですか？TOUR～2019～
DESCRIPTION:山猿 \n  \nチケット購入方法等お問い合わせは\nオフィシャルHPをご覧ください
URL:https://beats.stars.ne.jp/schedule/%e5%b1%b1%e7%8c%bf%e3%81%a0%e3%82%88%ef%bc%81%e3%81%82%e3%81%aa%e3%81%9f%e3%81%ae%e8%a1%97%e3%81%a7%e8%b5%a4%e3%81%84%e5%ae%9f%e3%83%8f%e3%82%b8%e3%82%b1%e3%81%a1%e3%82%83%e3%81%a3%e3%81%a6%e3%82%82
LOCATION:BEAT STATION\, 福岡市中央区渡辺通4-11-4\, 〒810-0004
CATEGORIES:トップ画面に表示する
END:VEVENT
BEGIN:VEVENT
DTSTART;VALUE=DATE:20191031
DTEND;VALUE=DATE:20191101
DTSTAMP:20260422T075658
CREATED:20190814T111319Z
LAST-MODIFIED:20191031T063342Z
UID:1917-1572480000-1572566399@beats.stars.ne.jp
SUMMARY:情景 #1
DESCRIPTION:ユアネス\n神はサイコロを振らない\nmol-74
URL:https://beats.stars.ne.jp/schedule/%e6%83%85%e6%99%af-1
LOCATION:BEAT STATION\, 福岡市中央区渡辺通4-11-4\, 〒810-0004
END:VEVENT
BEGIN:VEVENT
DTSTART;VALUE=DATE:20191027
DTEND;VALUE=DATE:20191028
DTSTAMP:20260422T075658
CREATED:20190913T064259Z
LAST-MODIFIED:20191025T061114Z
UID:2061-1572134400-1572220799@beats.stars.ne.jp
SUMMARY:ABOUT MUSIC Presents "SIRUP×BIM 2 MAN LIVE in FUK&KUM"
DESCRIPTION:ブ ラックミュージックをベースに変幻自在のボーカルスタイルとグルーヴィーなサウンドでリスナーを魅了し、Honda VEZEL TOURINGのCMソングに起用された”Do Well”を収録した1stアルバム「FEEL GOOD」はオリコン週間ランキング7位を記録。12月に東京・大阪で開催する初のZEPP公演もSold Outするなど話題沸騰中の”SIRUP”。\nTHE OTOGIBANASHI’SやCreativeDrugStoreの中心メンバーとして活躍し、昨年は初となる傑作ソロアルバム「The Beam」をリリース。現代のカルチャーアイコンとしても支持されるラッパー/ビートメーカーの”BIM”。\nSIRUPのアルバム「FEEL GOOD」に収録されている楽曲”Slow Dance”でもコラボレーションを果たした2組によるロングセットツーマンライブが、10/27(日)福岡BEAT STATION、10/28(月)熊本NAVAROにて開催決定！\n \n\nチケットのオフィシャル先行予約は9/11(水)19:00よりLive Pocketにて受付開始！\n \n次世代のシーンを担う2組によるスペシャルなツーマンライブは必見です！どうぞお見逃しなく！！\n\n \n \n\n[LIVE]\nSIRUP\nBIM\n \n \n \n▷オフィシャル先行受付 [抽選制]\n受付期間: 9/11(水)19:00 – 9/17(火)23:59\n受付URL: https://t.livepocket.jp/e/sirupbim1027fuk\n \n▷一般発売\n発売日: 9/23(月/祝)12:00\n・Live Pocket\n・チケットぴあ\n・e+(イープラス)\n \n\n\n[INFOMATION]\nABOUT MUSIC 092-982-8281 aboutmusic.jp\n\nInstagram&Twitter ＠aboutmusicjp\n\n\n\n 
URL:https://beats.stars.ne.jp/schedule/about-music-presents-sirupxbim-2-man-live-in-fukkum
LOCATION:BEAT STATION\, 福岡市中央区渡辺通4-11-4\, 〒810-0004
CATEGORIES:トップ画面に表示する
END:VEVENT
BEGIN:VEVENT
DTSTART;VALUE=DATE:20191026
DTEND;VALUE=DATE:20191027
DTSTAMP:20260422T075658
CREATED:20190905T074431Z
LAST-MODIFIED:20190905T074431Z
UID:1989-1572048000-1572134399@beats.stars.ne.jp
SUMMARY:Play.Goose 1st tour ∞ Answers
DESCRIPTION:Play.Goose\n（工藤秀平／マナミ／沙夜香／ワタナベシュウヘイ） \n\nチケット販売 \nLivepocket：https://t.livepocket.jp/e/pg1st_fukuoka \ninformation\nPlay.Goose：info@playgoose.jp
URL:https://beats.stars.ne.jp/schedule/play-goose-1st-tour-%e2%88%9e-answers
LOCATION:BEAT STATION\, 福岡市中央区渡辺通4-11-4\, 〒810-0004
END:VEVENT
BEGIN:VEVENT
DTSTART;VALUE=DATE:20191026
DTEND;VALUE=DATE:20191027
DTSTAMP:20260422T075658
CREATED:20190905T073958Z
LAST-MODIFIED:20190905T073958Z
UID:1987-1572048000-1572134399@beats.stars.ne.jp
SUMMARY:Play.Goose 1st tour ∞ Answers  〜Little acoustic〜
DESCRIPTION:Play.Goose\n（工藤秀平／マナミ／沙夜香／ワタナベシュウヘイ） \n\nチケット購入 \nhttps://t.livepocket.jp/e/pg1st_fukuoka2 \ninformation\nPlay.Goose：info@playgoose.jp
URL:https://beats.stars.ne.jp/schedule/play-goose-1st-tour-%e2%88%9e-answers-%e3%80%9clittle-acoustic%e3%80%9c
LOCATION:BEAT STATION\, 福岡市中央区渡辺通4-11-4\, 〒810-0004
END:VEVENT
BEGIN:VEVENT
DTSTART;VALUE=DATE:20191025
DTEND;VALUE=DATE:20191026
DTSTAMP:20260422T075658
CREATED:20190905T071159Z
LAST-MODIFIED:20190905T071159Z
UID:1982-1571961600-1572047999@beats.stars.ne.jp
SUMMARY:“POOL e.p.” release live SMOOTH LIKE BUTTER TOUR
DESCRIPTION:the band apart
URL:https://beats.stars.ne.jp/schedule/pool-e-p-release-live-smooth-like-butter-tour
LOCATION:BEAT STATION\, 福岡市中央区渡辺通4-11-4\, 〒810-0004
END:VEVENT
BEGIN:VEVENT
DTSTART;VALUE=DATE:20191024
DTEND;VALUE=DATE:20191025
DTSTAMP:20260422T075658
CREATED:20190920T103237Z
LAST-MODIFIED:20190920T103237Z
UID:2081-1571875200-1571961599@beats.stars.ne.jp
SUMMARY:カッペリリースライブツアー
DESCRIPTION:カッペ\nメロフロート\nすし娘 \n  \nチケット購入はこちら\nhttps://bakkyshop.jp/items/view/bkdp-1081
URL:https://beats.stars.ne.jp/schedule/%e3%82%ab%e3%83%83%e3%83%9a%e3%83%aa%e3%83%aa%e3%83%bc%e3%82%b9%e3%83%a9%e3%82%a4%e3%83%96%e3%83%84%e3%82%a2%e3%83%bc
LOCATION:BEAT STATION\, 福岡市中央区渡辺通4-11-4\, 〒810-0004
CATEGORIES:トップ画面に表示する
END:VEVENT
BEGIN:VEVENT
DTSTART;VALUE=DATE:20191022
DTEND;VALUE=DATE:20191023
DTSTAMP:20260422T075658
CREATED:20190807T055356Z
LAST-MODIFIED:20191018T124745Z
UID:1874-1571702400-1571788799@beats.stars.ne.jp
SUMMARY:Relic Of Ancestor vol.5"福岡大演舞" @BEAT STATION
DESCRIPTION:-cast-\n A Barking Dog Never Bites\n ハリケーンミキサー\n SxAxL\n PORFIDIO\n NITROBOX\n MIX UP\n CHILD STOP\n ROA \n  \n \n  \n●小学生以下は無料\n※ドリンク代については会場の規定により異なります\n●中高生1\,000円\n※入場、受付時に学生証を掲示してください\n●完全分煙\n※入り口ロビーでのみ喫煙可
URL:https://beats.stars.ne.jp/schedule/relic-of-ancestor-vol-5%e7%a6%8f%e5%b2%a1%e5%a4%a7%e6%bc%94%e8%88%9e-beat-station
LOCATION:BEAT STATION\, 福岡市中央区渡辺通4-11-4\, 〒810-0004
CATEGORIES:トップ画面に表示する
END:VEVENT
BEGIN:VEVENT
DTSTART;VALUE=DATE:20191020
DTEND;VALUE=DATE:20191021
DTSTAMP:20260422T075658
CREATED:20190905T063656Z
LAST-MODIFIED:20191019T233929Z
UID:1975-1571529600-1571615999@beats.stars.ne.jp
SUMMARY:『NicoNova4 Autumn Tour2019』夜の部
DESCRIPTION:あげいん\n あやふや\n InvaderT\n この子\n 橘優\n ハイダミオ\n ゆきむら。\n りする \nチケット購入\n https://www.confetti-web.com/search_result.php?search_text_post=niconova_4
URL:https://beats.stars.ne.jp/schedule/%e3%80%8eniconova4-autumn-tour2019%e3%80%8f-2
LOCATION:BEAT STATION\, 福岡市中央区渡辺通4-11-4\, 〒810-0004
END:VEVENT
BEGIN:VEVENT
DTSTART;VALUE=DATE:20191020
DTEND;VALUE=DATE:20191021
DTSTAMP:20260422T075658
CREATED:20190905T063437Z
LAST-MODIFIED:20191019T233854Z
UID:1973-1571529600-1571615999@beats.stars.ne.jp
SUMMARY:『NicoNova4 Autumn Tour2019』昼の部
DESCRIPTION:あげいん\n あやふや\n InvaderT\n この子\n橘優\n ハイダミオ\n ゆきむら。\n りする \nチケット購入\n https://www.confetti-web.com/search_result.php?search_text_post=niconova_4
URL:https://beats.stars.ne.jp/schedule/%e3%80%8eniconova4-autumn-tour2019%e3%80%8f
LOCATION:BEAT STATION\, 福岡市中央区渡辺通4-11-4\, 〒810-0004
END:VEVENT
BEGIN:VEVENT
DTSTART;VALUE=DATE:20191019
DTEND;VALUE=DATE:20191020
DTSTAMP:20260422T075658
CREATED:20190905T064840Z
LAST-MODIFIED:20190905T065122Z
UID:1979-1571443200-1571529599@beats.stars.ne.jp
SUMMARY:SING ALONG TOUR
DESCRIPTION:TRI4TH \n\n チケット一般発売\n 9/14(土) 10:00〜
URL:https://beats.stars.ne.jp/schedule/sing-along-tour
LOCATION:BEAT STATION\, 福岡市中央区渡辺通4-11-4\, 〒810-0004
END:VEVENT
BEGIN:VEVENT
DTSTART;VALUE=DATE:20191018
DTEND;VALUE=DATE:20191019
DTSTAMP:20260422T075658
CREATED:20190905T072541Z
LAST-MODIFIED:20190905T072541Z
UID:1985-1571356800-1571443199@beats.stars.ne.jp
SUMMARY:vistlip oneman tour【New ERA STYLE】振替公演
DESCRIPTION:vistlip
URL:https://beats.stars.ne.jp/schedule/vistlip-oneman-tour%e3%80%90new-era-style%e3%80%91%e6%8c%af%e6%9b%bf%e5%85%ac%e6%bc%94
LOCATION:BEAT STATION\, 福岡市中央区渡辺通4-11-4\, 〒810-0004
END:VEVENT
BEGIN:VEVENT
DTSTART;VALUE=DATE:20191013
DTEND;VALUE=DATE:20191014
DTSTAMP:20260422T075658
CREATED:20190918T061028Z
LAST-MODIFIED:20191011T081519Z
UID:2070-1570924800-1571011199@beats.stars.ne.jp
SUMMARY:カルxピン あえて真夏にしない強化合宿ツアー（合宿もしない） 公演中止
DESCRIPTION:出演：\n カル×ピン、ヒカル、怪盗Pinky \n 台風19号の接近にともない公演中止となりました。 \n払い戻しに関しましては公式Twitterをご確認ください。\n当店に問い合わせ頂きましても、分かりかねます。 \nご了承ください。 \n 公演に関する問い合わせ先：\n GALAPAGOS　03-5324-0789
URL:https://beats.stars.ne.jp/schedule/%e3%82%ab%e3%83%abx%e3%83%94%e3%83%b3-%e3%81%82%e3%81%88%e3%81%a6%e7%9c%9f%e5%a4%8f%e3%81%ab%e3%81%97%e3%81%aa%e3%81%84%e5%bc%b7%e5%8c%96%e5%90%88%e5%ae%bf%e3%83%84%e3%82%a2%e3%83%bc%ef%bc%88%e5%90%88
LOCATION:BEAT STATION\, 福岡市中央区渡辺通4-11-4\, 〒810-0004
CATEGORIES:トップ画面に表示する
END:VEVENT
BEGIN:VEVENT
DTSTART;VALUE=DATE:20191012
DTEND;VALUE=DATE:20191013
DTSTAMP:20260422T075658
CREATED:20190628T074357Z
LAST-MODIFIED:20190807T091534Z
UID:1769-1570838400-1570924799@beats.stars.ne.jp
SUMMARY:syrup16g Tour 2019 【SCAM : SPAM】
DESCRIPTION:syrup16g \n チケット一般発売　2019年9月1日(日)10:00~
URL:https://beats.stars.ne.jp/schedule/syrup16g-tour-2019-%e3%80%90scam-spam%e3%80%91-2
LOCATION:BEAT STATION\, 福岡市中央区渡辺通4-11-4\, 〒810-0004
END:VEVENT
BEGIN:VEVENT
DTSTART;VALUE=DATE:20191011
DTEND;VALUE=DATE:20191012
DTSTAMP:20260422T075658
CREATED:20190628T074014Z
LAST-MODIFIED:20190807T091600Z
UID:1766-1570752000-1570838399@beats.stars.ne.jp
SUMMARY:syrup16g Tour 2019 【SCAM : SPAM】
DESCRIPTION:syrup16g \n チケット一般発売　2019年9月1日(日)10:00~
URL:https://beats.stars.ne.jp/schedule/syrup16g-tour-2019-%e3%80%90scam-spam%e3%80%91
LOCATION:BEAT STATION\, 福岡市中央区渡辺通4-11-4\, 〒810-0004
END:VEVENT
BEGIN:VEVENT
DTSTART;VALUE=DATE:20191006
DTEND;VALUE=DATE:20191007
DTSTAMP:20260422T075658
CREATED:20190905T075333Z
LAST-MODIFIED:20190911T094846Z
UID:1993-1570320000-1570406399@beats.stars.ne.jp
SUMMARY:エジソン・トラスト（Edison Trust）
DESCRIPTION:K２\nDAIKI\nJACK D.BROWNE\n北風と太陽\nknob
URL:https://beats.stars.ne.jp/schedule/%e3%82%a8%e3%82%b8%e3%82%bd%e3%83%b3%e3%83%bb%e3%83%88%e3%83%a9%e3%82%b9%e3%83%88%ef%bc%88edison-trust%ef%bc%89
LOCATION:BEAT STATION\, 福岡市中央区渡辺通4-11-4\, 〒810-0004
END:VEVENT
BEGIN:VEVENT
DTSTART;VALUE=DATE:20191005
DTEND;VALUE=DATE:20191006
DTSTAMP:20260422T075658
CREATED:20191005T035050Z
LAST-MODIFIED:20191005T035050Z
UID:2140-1570233600-1570319999@beats.stars.ne.jp
SUMMARY:DANCE&CULTURE BEAS DANCE RECITAL vol.5
DESCRIPTION: \n\n天神にあるDANCE & CULTURE BEASの1年に1度のDANCE発表会\n \n\n \n\n 
URL:https://beats.stars.ne.jp/schedule/danceculture-beas-dance-recital-vol-5
LOCATION:BEAT STATION\, 福岡市中央区渡辺通4-11-4\, 〒810-0004
END:VEVENT
BEGIN:VEVENT
DTSTART;VALUE=DATE:20191004
DTEND;VALUE=DATE:20191005
DTSTAMP:20260422T075658
CREATED:20190814T111600Z
LAST-MODIFIED:20190906T111350Z
UID:1919-1570147200-1570233599@beats.stars.ne.jp
SUMMARY:Made In Asia Tour Day6
DESCRIPTION:Survive Said The Prophet \n GUEST Act: SIX LOUNGE \n ※危険行為・迷惑行為の禁止\n ※未就学児入場不可・中学生以上チケット必要\n ※小学生は大人1名につき、1名まで入場可能\n ※枚数制限:先行2枚/一般4枚
URL:https://beats.stars.ne.jp/schedule/made-in-asia-tour-day6
LOCATION:BEAT STATION\, 福岡市中央区渡辺通4-11-4\, 〒810-0004
END:VEVENT
BEGIN:VEVENT
DTSTART;VALUE=DATE:20191003
DTEND;VALUE=DATE:20191004
DTSTAMP:20260422T075658
CREATED:20190426T111935Z
LAST-MODIFIED:20190807T091633Z
UID:1620-1570060800-1570147199@beats.stars.ne.jp
SUMMARY:JAPAN TOUR
DESCRIPTION:DYGL \n\n チケット一般発売 6/15 10:00
URL:https://beats.stars.ne.jp/schedule/japan-tour
LOCATION:BEAT STATION\, 福岡市中央区渡辺通4-11-4\, 〒810-0004
END:VEVENT
BEGIN:VEVENT
DTSTART;VALUE=DATE:20191001
DTEND;VALUE=DATE:20191002
DTSTAMP:20260422T075658
CREATED:20190827T075151Z
LAST-MODIFIED:20190827T075151Z
UID:1957-1569888000-1569974399@beats.stars.ne.jp
SUMMARY:LEO今井自主企画ツーマン「大都会ツアー」
DESCRIPTION:LEO IMAI x ZAZEN BOYS
URL:https://beats.stars.ne.jp/schedule/leo%e4%bb%8a%e4%ba%95%e8%87%aa%e4%b8%bb%e4%bc%81%e7%94%bb%e3%83%84%e3%83%bc%e3%83%9e%e3%83%b3%e3%80%8c%e5%a4%a7%e9%83%bd%e4%bc%9a%e3%83%84%e3%82%a2%e3%83%bc%e3%80%8d
LOCATION:BEAT STATION\, 福岡市中央区渡辺通4-11-4\, 〒810-0004
END:VEVENT
BEGIN:VEVENT
DTSTART;VALUE=DATE:20190929
DTEND;VALUE=DATE:20190930
DTSTAMP:20260422T075658
CREATED:20190827T074933Z
LAST-MODIFIED:20190929T055756Z
UID:1955-1569715200-1569801599@beats.stars.ne.jp
SUMMARY:「MOROHA IV RELEASE TOUR 単独」
DESCRIPTION:MOROHA
URL:https://beats.stars.ne.jp/schedule/%e3%80%8cmoroha-iv-release-tour-%e5%8d%98%e7%8b%ac%e3%80%8d
LOCATION:BEAT STATION\, 福岡市中央区渡辺通4-11-4\, 〒810-0004
END:VEVENT
BEGIN:VEVENT
DTSTART;VALUE=DATE:20190928
DTEND;VALUE=DATE:20190929
DTSTAMP:20260422T075658
CREATED:20190827T074623Z
LAST-MODIFIED:20190827T074623Z
UID:1953-1569628800-1569715199@beats.stars.ne.jp
SUMMARY:アルルカン 6th ANNIVERSARY ONEMAN TOUR 「con anima」
DESCRIPTION:アルルカン
URL:https://beats.stars.ne.jp/schedule/%e3%82%a2%e3%83%ab%e3%83%ab%e3%82%ab%e3%83%b3-6th-anniversary-oneman-tour-%e3%80%8ccon-anima%e3%80%8d
LOCATION:BEAT STATION\, 福岡市中央区渡辺通4-11-4\, 〒810-0004
END:VEVENT
BEGIN:VEVENT
DTSTART;VALUE=DATE:20190925
DTEND;VALUE=DATE:20190926
DTSTAMP:20260422T075658
CREATED:20190827T074347Z
LAST-MODIFIED:20190920T070132Z
UID:1950-1569369600-1569455999@beats.stars.ne.jp
SUMMARY:SHELTER CHILDREN pre. 「夜明けの旅人-金木犀-」
DESCRIPTION:出演 \n10.8℃の世界線、\n ハルレイン(松尾知華)、\n みずきとあかり。 \nオープニングゲスト：岸原聡
URL:https://beats.stars.ne.jp/schedule/shelter-children-pre-%e3%80%8c%e5%a4%9c%e6%98%8e%e3%81%91%e3%81%ae%e6%97%85%e4%ba%ba-%e9%87%91%e6%9c%a8%e7%8a%80-%e3%80%8d
LOCATION:BEAT STATION\, 福岡市中央区渡辺通4-11-4\, 〒810-0004
CATEGORIES:トップ画面に表示する
END:VEVENT
BEGIN:VEVENT
DTSTART;VALUE=DATE:20190923
DTEND;VALUE=DATE:20190924
DTSTAMP:20260422T075658
CREATED:20190609T032049Z
LAST-MODIFIED:20190906T111641Z
UID:1714-1569196800-1569283199@beats.stars.ne.jp
SUMMARY:鋼鉄のロック魂！TEN＜ - Phantom of the Best Shooter -BS座の怪人＞
DESCRIPTION:鋼鉄のロック魂！TEN＜Rock Spirit of Steel \n It’s Celebrated\, the Anniversary of the holding vol.10＞\n ＜ – Phantom of the Best Shooter -BS座の怪人＞ \n 鋼鉄のロック魂！TEN、最終日、千秋楽！KISS来福ならずも、キッチュ！！来たる。アニソン、ハードロック、アイドル、なんでもござれのフルロックナイト！ \n\n きっちゅ！\n ロケットクイーン(熊本)\n aicora(佐賀)\n CROSS\n 桜禍\n Sandy Thirsty
URL:https://beats.stars.ne.jp/schedule/%e9%8b%bc%e9%89%84%e3%81%ae%e3%83%ad%e3%83%83%e3%82%af%e9%ad%82%ef%bc%81ten%ef%bc%9c-phantom-of-the-best-shooter-bs%e5%ba%a7%e3%81%ae%e6%80%aa%e4%ba%ba%ef%bc%9e
LOCATION:BEAT STATION\, 福岡市中央区渡辺通4-11-4\, 〒810-0004
CATEGORIES:トップ画面に表示する
END:VEVENT
BEGIN:VEVENT
DTSTART;VALUE=DATE:20190922
DTEND;VALUE=DATE:20190923
DTSTAMP:20260422T075658
CREATED:20190423T042317Z
LAST-MODIFIED:20190906T111704Z
UID:1505-1569110400-1569196799@beats.stars.ne.jp
SUMMARY:鋼鉄のロック魂！TEN ＜ -SHEER HEART ATTACK -シアー・ハート・アタック＞
DESCRIPTION:鋼鉄のロック魂！TEN＜Rock Spirit of Steel \n It’s Celebrated\, the Anniversary of the holding vol.10＞\n ＜ -SHEER HEART ATTACK -シアー・ハート・アタック＞ \n 鋼鉄のロック魂！TEN、中日、\n 濃ゆさ、熱さでは他の日に引けを取らないほどの充実度。\n ハードロック、ヘヴィーメタル、ポップス、ロックンロールと、バラエティ豊か！ \n TERA VOLTAGE(熊本)\n LOVE Again\n KIKI(久留米)\n ＷＲＥＣＫＯＮ\n ハナシェイド\n MEISTER\n KISS SCENE
URL:https://beats.stars.ne.jp/schedule/%e9%8b%bc%e9%89%84%e3%81%ae%e3%83%ad%e3%83%83%e3%82%af%e9%ad%82%ef%bc%81ten-%ef%bc%9c-sheer-heart-attack-%e3%82%b7%e3%82%a2%e3%83%bc%e3%83%bb%e3%83%8f%e3%83%bc%e3%83%88%e3%83%bb%e3%82%a2%e3%82%bf
LOCATION:BEAT STATION\, 福岡市中央区渡辺通4-11-4\, 〒810-0004
CATEGORIES:トップ画面に表示する
END:VEVENT
BEGIN:VEVENT
DTSTART;VALUE=DATE:20190921
DTEND;VALUE=DATE:20190922
DTSTAMP:20260422T075658
CREATED:20190423T074620Z
LAST-MODIFIED:20190906T111723Z
UID:1608-1569024000-1569110399@beats.stars.ne.jp
SUMMARY:鋼鉄のロック魂！TEN＜-DOUBLE ECLIPSE- ダブル・エクリプス＞
DESCRIPTION:鋼鉄のロック魂！TEN＜Rock Spirit of Steel \n It’s Celebrated\, the Anniversary of the holding vol.10＞\n ＜-DOUBLE ECLIPSE- ダブル・エクリプス＞ \n 鋼鉄のロック魂！TEN、セカンドデイ、出し物のバラエティとしてはこの日が一番かもしれない？コスプレ！ロックンロール、ハードロック、エスニック＆オリエンタル、魔法使い＆見習い魔女？？？その思考回路をぶっ飛ばしてお越しください。 \n Pink Ozzienz (小倉)\n Slapsticks Cafe\n THE LIAR HONEYS(熊本)\n CROWDIA(熊本)\n 宮本輝or Halls Of hyPE\n W-FORCE
URL:https://beats.stars.ne.jp/schedule/%e9%8b%bc%e9%89%84%e3%81%ae%e3%83%ad%e3%83%83%e3%82%af%e9%ad%82%ef%bc%81ten%ef%bc%9c-double-eclipse-%e3%83%80%e3%83%96%e3%83%ab%e3%83%bb%e3%82%a8%e3%82%af%e3%83%aa%e3%83%97%e3%82%b9%ef%bc%9e
LOCATION:BEAT STATION\, 福岡市中央区渡辺通4-11-4\, 〒810-0004
CATEGORIES:トップ画面に表示する
END:VEVENT
BEGIN:VEVENT
DTSTART;VALUE=DATE:20190920
DTEND;VALUE=DATE:20190921
DTSTAMP:20260422T075658
CREATED:20190515T095049Z
LAST-MODIFIED:20190917T091036Z
UID:1501-1568937600-1569023999@beats.stars.ne.jp
SUMMARY:鋼鉄のロック魂！TEN＜Rock Spirit of Steel  It's Celebrated\, the Anniversary of the holding vol.10＞ 開幕戦！＜ -The Show Must Go On -ザ・ショー・マスト・ゴー・オン＞
DESCRIPTION:鋼鉄のロック魂！TEN＜Rock Spirit of Steel \n It’s Celebrated\, the Anniversary of the holding vol.10＞\n ＜ -The Show Must Go On -ザ・ショー・マスト・ゴー・オン＞ \n 鋼鉄のロック魂！TEN、いよいよ開幕！\n 全てはここから始まる。ショー・マスト・ゴー・オン！ \n\n マイトガイ\n さはら\n GLAXY\n ゆり\n 岡部 聡\n スナック\n John Doe
URL:https://beats.stars.ne.jp/schedule/%e9%8b%bc%e9%89%84%e3%81%ae%e3%83%ad%e3%83%83%e3%82%af%e9%ad%82%ef%bc%81ten%ef%bc%9crock-spirit-of-steel-its-celebrated-the-anniversary-of-the-holding-vol-10%ef%bc%9e-%e9%96%8b%e5%b9%95
LOCATION:BEAT STATION\, 福岡市中央区渡辺通4-11-4\, 〒810-0004
CATEGORIES:トップ画面に表示する
END:VEVENT
BEGIN:VEVENT
DTSTART;VALUE=DATE:20190916
DTEND;VALUE=DATE:20190917
DTSTAMP:20260422T075658
CREATED:20190827T074113Z
LAST-MODIFIED:20190911T094836Z
UID:1946-1568592000-1568678399@beats.stars.ne.jp
SUMMARY:的野祥子ONE-MANLIVE「again」
DESCRIPTION:的野祥子 \n【Special Band】\n Gt:桑原大輔 \n Bass:永田望\n Key:冨永隆治 \n Key:安楽健亮(Raspberry Dream)\n Dr:垣替啓介 \n Per:山田和明
URL:https://beats.stars.ne.jp/schedule/%e7%9a%84%e9%87%8e%e7%a5%a5%e5%ad%90one-manlive%e3%80%8cagain%e3%80%8d
CATEGORIES:トップ画面に表示する
END:VEVENT
BEGIN:VEVENT
DTSTART;VALUE=DATE:20190915
DTEND;VALUE=DATE:20190916
DTSTAMP:20260422T075658
CREATED:20190827T073735Z
LAST-MODIFIED:20190906T114315Z
UID:1943-1568505600-1568591999@beats.stars.ne.jp
SUMMARY:CROSS ROCKS vol.33
DESCRIPTION:AbsoluteØ\n ALiS\n Knights in Gale\n Maidy_s\n RoseAria🌹 \n RING A SIREN\n バンドリ、始めました！
URL:https://beats.stars.ne.jp/schedule/cross-rocks-vol-33
LOCATION:BEAT STATION\, 福岡市中央区渡辺通4-11-4\, 〒810-0004
END:VEVENT
BEGIN:VEVENT
DTSTART;VALUE=DATE:20190914
DTEND;VALUE=DATE:20190915
DTSTAMP:20260422T075658
CREATED:20190603T081455Z
LAST-MODIFIED:20190809T062131Z
UID:1702-1568419200-1568505599@beats.stars.ne.jp
SUMMARY:ラックライフ Tour 2019 “Now is the time”
DESCRIPTION:ラックライフ\n BURNOUT SYNDROMES \n\n チケット一般発売 7/20 10:00〜
URL:https://beats.stars.ne.jp/schedule/%e3%83%a9%e3%83%83%e3%82%af%e3%83%a9%e3%82%a4%e3%83%95-tour-2019-now-is-the-time
LOCATION:BEAT STATION\, 福岡市中央区渡辺通4-11-4\, 〒810-0004
END:VEVENT
END:VCALENDAR