BEGIN:VCALENDAR
VERSION:2.0
PRODID:-//福岡のライブハウス BEAT STATION - ECPv6.10.3//NONSGML v1.0//EN
CALSCALE:GREGORIAN
METHOD:PUBLISH
X-WR-CALNAME:福岡のライブハウス BEAT STATION
X-ORIGINAL-URL:https://beats.stars.ne.jp
X-WR-CALDESC:福岡のライブハウス BEAT STATION のイベント
REFRESH-INTERVAL;VALUE=DURATION:PT1H
X-Robots-Tag:noindex
X-PUBLISHED-TTL:PT1H
BEGIN:VTIMEZONE
TZID:Asia/Tokyo
BEGIN:STANDARD
TZOFFSETFROM:+0900
TZOFFSETTO:+0900
TZNAME:JST
DTSTART:20200101T000000
END:STANDARD
END:VTIMEZONE
BEGIN:VEVENT
DTSTART;VALUE=DATE:20210127
DTEND;VALUE=DATE:20210128
DTSTAMP:20260421T133621
CREATED:20201203T092000Z
LAST-MODIFIED:20210115T052438Z
UID:3298-1611705600-1611791999@beats.stars.ne.jp
SUMMARY:Survive Said The Prophet Redefine Tour 2021 公演中止
DESCRIPTION:Survive Said The Prophet\n  \n平素よりSurvive Said The Prophetを応援していただき、誠にありがとうございます。 \n協議の結果、この度の政府からの緊急事態宣言発出、新型コロナウイルス感染拡大の状況を鑑み、開催を予定しておりました「Redefine Tour 2021」新潟、熊本、福岡、広島、仙台での下記5公演を中止とさせていただくこととなりました。 \n公演を楽しみにしていただいて皆様には、心からお詫び申し上げます。 \n【中止公演】 \n1月16日 (土) 新潟 LOTS \n1月26日 (火) 熊本 B.9 V1 KUMAMOTO \n1月27日 (水) 福岡 BEAT STATION \n1月29日 (金) 広島 CLUB QUATTRO \n2月06日 (土) 仙台 GIGS \n2月14日以降の高松、大阪、名古屋、東京での4公演につきましては、予定通り開催に向け新型コロナウイルス感染防止ガイドラインに基づいて準備を進めております。 \n下記、大阪、名古屋公演につきましては、開場開演時間を「17:00 開場 18:00 開演(20:00 前に終演)」に変更し公演開催いたします。 \n【開場開演時間変更公演】 \n2月15日 (月) 大阪 BIGCAT \n2月17日 (水) 名古屋 THE BOTTOM LINE \n変更前 [開場] 18:00 [開演] 19:00 \n変更後 [開場] 17:00 [開演] 18:00 \n上記の中止、変更に伴い「Redefine Tour 2021」全ての公演に関して、希望されるお客様へはチケット払い戻しを実施いたします。 \nこちらは準備が出来次第オフィシャルサイトにてお伝えさせて頂きます。 \nすでにチケットのご購入を頂いている皆様には多大なご迷惑をお掛けいたしますことお詫び申し上げます。 \nこの状況の少しでも早い収束と、皆様の健康を願うとともに、引き続きお客様に安心してご来場いただけるよう努めてまいります。 \n今後とも、Survive Said The Prophetをよろしくお願いいたします。 \n  \n「Redefine Tour 2021」払い戻し、トレード、再販のお知らせ\n\n先日アナウンスさせて頂きました「Redefine Tour 2021」新潟、熊本、福岡、広島、仙台5公演の中止、\nおよび大阪、名古屋公演の開場開演時間の変更に伴い、「Redefine Tour 2021」全ての公演に関して、\n希望されるお客様へはチケット払い戻し、トレードを実施いたします。下記詳細ご確認ください。\n\n◆払戻受付期間(全公演対象)\n1/16(土)10:00～1/22(金)23:59\n\n◆再販売期間\n2/2(火)18：00〜各公演前日18時\n\n◆トレード期間(高松、大阪、名古屋、東京公演)\n2/3(水)12：00～各公演3日前11:59\n\n＜新潟・熊本・福岡・広島・宮城公演＞\n返金方法はお申込み時のの支払方法により異なります。下記をご参照ください。\n\n▼支払方法がクレジットカードの方\ne＋にて返金手続きを行いますので、お客様のお手続きは不要です。\n詳細はこちら→ https://eplus.jp/sf/refund1/c-type\n\n▼支払方法がクレジットカード以外の方\n「ウェルネット返金サービス」を利用して代金をご返金いたします。\ne+での手配完了後手続きが可能になりましたら順次「返金お手続き開始」のメールをお送りいたしますので、いましばらくお待ちください。\n詳細はこちら→ https://eplus.jp/sf/refund1/w-type\n\n＜香川・大阪・愛知・東京公演＞\n払戻ご希望の方は払戻期間内にイープラスより送られる延期/変更案内メールに貼付されているURLより返信フォームへアクセスして払戻し希望の申請を行ってください。\n詳細はこちら→ https://eplus.jp/refund2/\n\nお問合せ： https://eplus.jp/qa/
URL:https://beats.stars.ne.jp/schedule/survive-said-the-prophet-redefine-tour-2021
LOCATION:BEAT STATION\, 福岡市中央区渡辺通4-11-4\, 〒810-0004
END:VEVENT
BEGIN:VEVENT
DTSTART;VALUE=DATE:20210124
DTEND;VALUE=DATE:20210125
DTSTAMP:20260421T133621
CREATED:20201206T111013Z
LAST-MODIFIED:20210118T120705Z
UID:3303-1611446400-1611532799@beats.stars.ne.jp
SUMMARY:Paledusk pre. OUR DAYBREAK vol.10 4th SINGLE "WIND BACK" RELEASE ONE MAN SUPPORTED BY THINGS. 公演延期
DESCRIPTION:Paledusk
URL:https://beats.stars.ne.jp/schedule/paledusk-pre-our-daybreak-vol-10
LOCATION:BEAT STATION\, 福岡市中央区渡辺通4-11-4\, 〒810-0004
CATEGORIES:トップ画面に表示する
END:VEVENT
BEGIN:VEVENT
DTSTART;VALUE=DATE:20210123
DTEND;VALUE=DATE:20210124
DTSTAMP:20260421T133621
CREATED:20200925T045224Z
LAST-MODIFIED:20210118T092116Z
UID:3077-1611360000-1611446399@beats.stars.ne.jp
SUMMARY:POST PULP TOUR 2021　2部 公演延期
DESCRIPTION:Attractions \n  \nAttractions「POST PULP TOUR 2021」 \n1月23日（土）福岡公演 開催延期のお知らせ \nいつもAttractionsを応援いただき誠にありがとうございます。 \n\n 新型コロナウイルスの感染拡大による緊急事態宣言再発出等を鑑み、お客様及び当公演に関わる出演者・スタッフへの感染リスクを踏まえまして、安全・健康面を最優先し、誠に残念ながら2021年1月23日（土）FUKUOKA BEAT STATIONにて開催予定の「POST PULP TOUR 2021」福岡公演を見送り、開催延期とさせていただきます。\n 振替公演の日程につきましては、近日中に発表すべく現在調整中でございます。\n 決まり次第ご報告をさせていただきます。 \n今後の福岡振替公演の詳細は、下記にてお知らせ致します。\n ・Attractions公式サイト（https://attractions-music.jp/）\n ・Attractions公式アカウント（Twitter\,Instagram\,Facebook）\n ・BEAウェブサイト（https://www.bea-net.com/） \n お手元のチケット（電子・紙ともに）はそのまま有効となりますので、大切に保管くださいますようお願い申し上げます。 \n 開催間近のご案内となりました事、お詫び申し上げます。\n 心待ちにしてくださった皆様には大変心苦しいお知らせとなりますが、何卒ご理解の程宜しくお願い致します。 \n Attractionsメンバー・スタッフ一同
URL:https://beats.stars.ne.jp/schedule/post-pulp-tour-2021%e3%80%802%e9%83%a8
LOCATION:BEAT STATION\, 福岡市中央区渡辺通4-11-4\, 〒810-0004
CATEGORIES:トップ画面に表示する
END:VEVENT
BEGIN:VEVENT
DTSTART;VALUE=DATE:20210123
DTEND;VALUE=DATE:20210124
DTSTAMP:20260421T133621
CREATED:20200925T044911Z
LAST-MODIFIED:20210118T092025Z
UID:3073-1611360000-1611446399@beats.stars.ne.jp
SUMMARY:POST PULP TOUR 2021　1部 公演延期
DESCRIPTION: Attractions \n  \nAttractions「POST PULP TOUR 2021」 \n1月23日（土）福岡公演 開催延期のお知らせ \nいつもAttractionsを応援いただき誠にありがとうございます。 \n\n 新型コロナウイルスの感染拡大による緊急事態宣言再発出等を鑑み、お客様及び当公演に関わる出演者・スタッフへの感染リスクを踏まえまして、安全・健康面を最優先し、誠に残念ながら2021年1月23日（土）FUKUOKA BEAT STATIONにて開催予定の「POST PULP TOUR 2021」福岡公演を見送り、開催延期とさせていただきます。\n 振替公演の日程につきましては、近日中に発表すべく現在調整中でございます。\n 決まり次第ご報告をさせていただきます。 \n今後の福岡振替公演の詳細は、下記にてお知らせ致します。\n ・Attractions公式サイト（https://attractions-music.jp/）\n ・Attractions公式アカウント（Twitter\,Instagram\,Facebook）\n ・BEAウェブサイト（https://www.bea-net.com/） \n お手元のチケット（電子・紙ともに）はそのまま有効となりますので、大切に保管くださいますようお願い申し上げます。 \n 開催間近のご案内となりました事、お詫び申し上げます。\n 心待ちにしてくださった皆様には大変心苦しいお知らせとなりますが、何卒ご理解の程宜しくお願い致します。 \n Attractionsメンバー・スタッフ一同
URL:https://beats.stars.ne.jp/schedule/post-pulup-tour-2021%e3%80%801%e9%83%a8
LOCATION:BEAT STATION\, 福岡市中央区渡辺通4-11-4\, 〒810-0004
CATEGORIES:トップ画面に表示する
END:VEVENT
BEGIN:VEVENT
DTSTART;VALUE=DATE:20210121
DTEND;VALUE=DATE:20210122
DTSTAMP:20260421T133621
CREATED:20201224T130120Z
LAST-MODIFIED:20210121T023836Z
UID:3348-1611187200-1611273599@beats.stars.ne.jp
SUMMARY:Queblick pre.無観客無料生配信サーキット 【CHOICE!! Vol.2】
DESCRIPTION:前回大好評だったこのイベント!! 今回は7会場、21バンドでの開催です!!  \n  ※無料で視聴出来ますがライセンスキーが必要です。 \n 発行はコチラから！ ⇒https://good-place.live/pages/choice2 \n 
URL:https://beats.stars.ne.jp/schedule/queblick-pre-%e7%84%a1%e8%a6%b3%e5%ae%a2%e7%84%a1%e6%96%99%e7%94%9f%e9%85%8d%e4%bf%a1%e3%82%b5%e3%83%bc%e3%82%ad%e3%83%83%e3%83%88-%e3%80%90choice-vol-2%e3%80%91
LOCATION:BEAT STATION\, 福岡市中央区渡辺通4-11-4\, 〒810-0004
CATEGORIES:トップ画面に表示する
END:VEVENT
BEGIN:VEVENT
DTSTART;VALUE=DATE:20210116
DTEND;VALUE=DATE:20210117
DTSTAMP:20260421T133621
CREATED:20210114T025742Z
LAST-MODIFIED:20210115T052749Z
UID:3416-1610755200-1610841599@beats.stars.ne.jp
SUMMARY:M@ru presents CROSS ROCKS vol.40 特別編2
DESCRIPTION:Abyss cord\n アニソン宅配便\n ５°  \n  \n※出演予定でした「だいたい織田パク郎」は諸事情により\n 出演キャンセルとなりました。\n それに伴い開場、開演の時間も変更となっております。
URL:https://beats.stars.ne.jp/schedule/mru-presents-cross-rocks-vol-40-%e7%89%b9%e5%88%a5%e7%b7%a82
LOCATION:BEAT STATION\, 福岡市中央区渡辺通4-11-4\, 〒810-0004
END:VEVENT
BEGIN:VEVENT
DTSTART;VALUE=DATE:20210111
DTEND;VALUE=DATE:20210112
DTSTAMP:20260421T133621
CREATED:20201226T044040Z
LAST-MODIFIED:20201226T044040Z
UID:3360-1610323200-1610409599@beats.stars.ne.jp
SUMMARY:HARVEST10周年 夜の部
DESCRIPTION:KAZRU\nNatural Radio Station\nイーシス\n翔 \nSunSeaGo \n昼夜通チケット6800円＋1Drink600円\n※ライブ配信は行いません \n《注意事項》\n・昼の部、夜の部ともに限定80名です\n・TIGETにて予約後、支払いは当日です\n・整理番号順の入場になります\n・小学生以下は入場不可\n・中学生以上はチケットが必要です \n※チケットは12/27(日)15時予約開始！ \n＜TIGET予約URL＞\n▽昼の部\nhttps://tiget.net/events/116245\n▽夜の部\nhttps://tiget.net/events/116247\n▽通しチケット\nhttps://tiget.net/events/116248
URL:https://beats.stars.ne.jp/schedule/harvest10%e5%91%a8%e5%b9%b4-%e5%a4%9c%e3%81%ae%e9%83%a8
LOCATION:BEAT STATION\, 福岡市中央区渡辺通4-11-4\, 〒810-0004
CATEGORIES:トップ画面に表示する
END:VEVENT
BEGIN:VEVENT
DTSTART;VALUE=DATE:20210111
DTEND;VALUE=DATE:20210112
DTSTAMP:20260421T133621
CREATED:20201226T043825Z
LAST-MODIFIED:20201226T043825Z
UID:3357-1610323200-1610409599@beats.stars.ne.jp
SUMMARY:HARVEST10周年 昼の部
DESCRIPTION:KAZRU\nFREAK\nWORLD LAUGH\nRefRise\n星屑ロンリネス \n\n昼夜通チケット6800円＋1Drink600円\n※ライブ配信は行いません \n《注意事項》\n・昼の部、夜の部ともに限定80名です\n・TIGETにて予約後、支払いは当日です\n・整理番号順の入場になります\n・小学生以下は入場不可\n・中学生以上はチケットが必要です \n※チケットは12/27(日)15時予約開始！ \n＜TIGET予約URL＞\n▽昼の部\nhttps://tiget.net/events/116245\n▽夜の部\nhttps://tiget.net/events/116247\n▽通しチケット\nhttps://tiget.net/events/116248
URL:https://beats.stars.ne.jp/schedule/harvest10%e5%91%a8%e5%b9%b4-%e6%98%bc%e3%81%ae%e9%83%a8
LOCATION:BEAT STATION\, 福岡市中央区渡辺通4-11-4\, 〒810-0004
CATEGORIES:トップ画面に表示する
END:VEVENT
BEGIN:VEVENT
DTSTART;VALUE=DATE:20210110
DTEND;VALUE=DATE:20210111
DTSTAMP:20260421T133621
CREATED:20201102T060430Z
LAST-MODIFIED:20210107T143324Z
UID:3219-1610236800-1610323199@beats.stars.ne.jp
SUMMARY:GARNiDELiA 10th ANNIVERSARY stellacage tour 2020「star trail」振替公演 中止
DESCRIPTION:GARNiDELiA \nGARNiDELiA 10th ANNIVERSARY stella cage tour 2020「star trail」 \n全公演中止のお知らせ \n平素よりGARNiDELiA・メイリア・tokuを応援していただき、誠にありがとうございます。 \n新型コロナウイルス感染拡大及び、1都3県(神奈川、千葉、埼玉)を対象とする緊急事態宣言の発令を受け、GARNiDELiA 10th ANNIVERSARY stella cage tour2020「star trail」の1月、2月公演の全ての公演を中止致します。 \nチケットの払い戻しに関しましては、下記内容をご確認頂き、お手続きをお願い致します。 \n度重なる変更に対し、心よりお詫び申し上げますとともに、ご理解を賜りますよう重ねてお願い申し上げます。 \n＜公演中止＞ \nGARNiDELiA 10th ANNIVERSARY stella cage tour2020「star trail」 \n2021年1月10日(日)FUKUOKA BEAT STATION \n払い戻し対象チケット \n2020年3月14日(土) FUKUOKA BEAT STATION公演 \n2020年6月4日(木) FUKUOKA BEAT STATION公演 \n2021年1月10日(日) FUKUOKA BEAT STATION公演 \n【払い戻し期間】\n 2021年1月15日(金)10：00～2021年1月31日(日)23：59迄\n ※上記期間外での払い戻し対応は、一切お受けできませんのでご注意ください。\n ※払い戻し終了時間はプレイガイドによって異なりますので、下記詳細をよくご確認の上、お早めにお手続きください。 \n\n ＜FC先行・イープラスにてご購入のお客様＞\n 払戻方法は、チケットの受取方法や支払方法などにより異なります。\n 下記URLよりどの払戻方法になるのかをご確認ください。\n http://eplus.jp/refund1/\n [お問合せ]イープラス 0570-06-9911(10:00～18:00) \nhttp://eplus.jp/qa/ \n＜チケットぴあにてご購入のお客様＞\n お持ちのチケットをご持参の上、お買い求めになられた店頭にて払い戻しさせていただきます。\n 払い戻し方法をご確認の上、お手続きください。\n http://t.pia.jp/guide/refund.jsp\n [お問合せ]チケットぴあ 0570-02-9111（10：00～18：00） \n ＜ローソンチケットにてご購入のお客様＞\n 払い戻しは、チケットをお引取りいただいたローソン・ミニストップ店舗「Loppi」にて行います。\n 下記URLより払戻方法についての詳細をご確認ください。\n https://l-tike.com/oc/lt/haraimodoshi/\n [お問合せ]ローソンチケットインフォメーション \nhttps://l-tike.com/contact/ \n\n FUKUOKA BEAT STATION公演のチケットをお持ちのお客様\n 問い合わせ：BEA \nTEL：092-712-4221\n HP：https://www.bea-net.com/ \n【GARNiDELiA 10th ANNIVERSARY stellacage tour 2020「star trail」特設サイト】\n https://www.garnidelia.com/special/startrail2020/
URL:https://beats.stars.ne.jp/schedule/garnidelia-10th-anniversary-stellacage-tour-2020%e3%80%8cstar-trail%e3%80%8d%e6%8c%af%e6%9b%bf%e5%85%ac%e6%bc%94-2%e9%83%a8
LOCATION:BEAT STATION\, 福岡市中央区渡辺通4-11-4\, 〒810-0004
CATEGORIES:トップ画面に表示する
END:VEVENT
BEGIN:VEVENT
DTSTART;VALUE=DATE:20210110
DTEND;VALUE=DATE:20210111
DTSTAMP:20260421T133621
CREATED:20200522T090956Z
LAST-MODIFIED:20210107T143246Z
UID:2786-1610236800-1610323199@beats.stars.ne.jp
SUMMARY:GARNiDELiA 10th ANNIVERSARY stellacage tour 2020「star trail」振替公演 中止
DESCRIPTION:GARNiDELiA \nGARNiDELiA 10th ANNIVERSARY stella cage tour 2020「star trail」 \n全公演中止のお知らせ \n平素よりGARNiDELiA・メイリア・tokuを応援していただき、誠にありがとうございます。 \n新型コロナウイルス感染拡大及び、1都3県(神奈川、千葉、埼玉)を対象とする緊急事態宣言の発令を受け、GARNiDELiA 10th ANNIVERSARY stella cage tour2020「star trail」の1月、2月公演の全ての公演を中止致します。 \nチケットの払い戻しに関しましては、下記内容をご確認頂き、お手続きをお願い致します。 \n度重なる変更に対し、心よりお詫び申し上げますとともに、ご理解を賜りますよう重ねてお願い申し上げます。 \n＜公演中止＞ \nGARNiDELiA 10th ANNIVERSARY stella cage tour2020「star trail」 \n2021年1月10日(日)FUKUOKA BEAT STATION \n払い戻し対象チケット \n2020年3月14日(土) FUKUOKA BEAT STATION公演 \n2020年6月4日(木) FUKUOKA BEAT STATION公演 \n2021年1月10日(日) FUKUOKA BEAT STATION公演 \n【払い戻し期間】\n 2021年1月15日(金)10：00～2021年1月31日(日)23：59迄\n ※上記期間外での払い戻し対応は、一切お受けできませんのでご注意ください。\n ※払い戻し終了時間はプレイガイドによって異なりますので、下記詳細をよくご確認の上、お早めにお手続きください。 \n\n ＜FC先行・イープラスにてご購入のお客様＞\n 払戻方法は、チケットの受取方法や支払方法などにより異なります。\n 下記URLよりどの払戻方法になるのかをご確認ください。\n http://eplus.jp/refund1/\n [お問合せ]イープラス 0570-06-9911(10:00～18:00) \nhttp://eplus.jp/qa/ \n＜チケットぴあにてご購入のお客様＞\n お持ちのチケットをご持参の上、お買い求めになられた店頭にて払い戻しさせていただきます。\n 払い戻し方法をご確認の上、お手続きください。\n http://t.pia.jp/guide/refund.jsp\n [お問合せ]チケットぴあ 0570-02-9111（10：00～18：00） \n ＜ローソンチケットにてご購入のお客様＞\n 払い戻しは、チケットをお引取りいただいたローソン・ミニストップ店舗「Loppi」にて行います。\n 下記URLより払戻方法についての詳細をご確認ください。\n https://l-tike.com/oc/lt/haraimodoshi/\n [お問合せ]ローソンチケットインフォメーション \nhttps://l-tike.com/contact/ \n\n FUKUOKA BEAT STATION公演のチケットをお持ちのお客様\n 問い合わせ：BEA \nTEL：092-712-4221\n HP：https://www.bea-net.com/ \n【GARNiDELiA 10th ANNIVERSARY stellacage tour 2020「star trail」特設サイト】\n https://www.garnidelia.com/special/startrail2020/
URL:https://beats.stars.ne.jp/schedule/garnidelia-10th-anniversary-stellacage-tour-2020%e3%80%8cstar-trail%e3%80%8d%e6%8c%af%e6%9b%bf%e5%85%ac%e6%bc%94
LOCATION:BEAT STATION\, 福岡市中央区渡辺通4-11-4\, 〒810-0004
CATEGORIES:トップ画面に表示する
END:VEVENT
BEGIN:VEVENT
DTSTART;VALUE=DATE:20210109
DTEND;VALUE=DATE:20210110
DTSTAMP:20260421T133621
CREATED:20201219T093510Z
LAST-MODIFIED:20201219T093510Z
UID:3330-1610150400-1610236799@beats.stars.ne.jp
SUMMARY:STARLIGHT
DESCRIPTION:Yamakatsu\nLOCAL CONNECT \nOA:HelloNewWorld \nチケット発売 12/20 10:00〜
URL:https://beats.stars.ne.jp/schedule/starlight
LOCATION:BEAT STATION\, 福岡市中央区渡辺通4-11-4\, 〒810-0004
CATEGORIES:トップ画面に表示する
END:VEVENT
BEGIN:VEVENT
DTSTART;VALUE=DATE:20210103
DTEND;VALUE=DATE:20210104
DTSTAMP:20260421T133621
CREATED:20210101T232531Z
LAST-MODIFIED:20210101T232531Z
UID:3382-1609632000-1609718399@beats.stars.ne.jp
SUMMARY:【幻のシックスマン】
DESCRIPTION:S☆THERN CROSS\nCandyCross\nCOLORLESS\nとわる\n愛DREAM \nElfinLily\nKAMISAMA-双-（BA）\nAdPrinCe（OA）
URL:https://beats.stars.ne.jp/schedule/%e3%80%90%e5%b9%bb%e3%81%ae%e3%82%b7%e3%83%83%e3%82%af%e3%82%b9%e3%83%9e%e3%83%b3%e3%80%91
LOCATION:BEAT STATION\, 福岡市中央区渡辺通4-11-4\, 〒810-0004
CATEGORIES:トップ画面に表示する
END:VEVENT
BEGIN:VEVENT
DTSTART;VALUE=DATE:20210103
DTEND;VALUE=DATE:20210104
DTSTAMP:20260421T133621
CREATED:20210101T232355Z
LAST-MODIFIED:20210102T002545Z
UID:3380-1609632000-1609718399@beats.stars.ne.jp
SUMMARY:【謹賀新年FUKUOKA BEAT FESTA Day2】
DESCRIPTION:S☆THERN CROSS\n CandyCross\n/NOVA \n COLORLESS\n とわる\n 白金アイドル塾\n AQUA\n KAMISAMA-双-\n AdPrinCe\n はるみん\n ぐりむどーる’s\n 愛DREAM\n Ver-Million\n Code-L\n RuminousKiss\n MONOCHROME COLOR
URL:https://beats.stars.ne.jp/schedule/%e3%80%90%e8%ac%b9%e8%b3%80%e6%96%b0%e5%b9%b4fukuoka-beat-festa-day2%e3%80%91
LOCATION:BEAT STATION\, 福岡市中央区渡辺通4-11-4\, 〒810-0004
END:VEVENT
BEGIN:VEVENT
DTSTART;VALUE=DATE:20210102
DTEND;VALUE=DATE:20210103
DTSTAMP:20260421T133621
CREATED:20210101T232213Z
LAST-MODIFIED:20210101T232213Z
UID:3377-1609545600-1609631999@beats.stars.ne.jp
SUMMARY:【魅惑のライブ】
DESCRIPTION:S☆THERN CROSS\nElfinLily\nAQUA\nCOLORLESS\nとわる\n白金アイドル塾\nKAMISAMA-双-(BA)\nAdPrinCe（OA）
URL:https://beats.stars.ne.jp/schedule/%e3%80%90%e9%ad%85%e6%83%91%e3%81%ae%e3%83%a9%e3%82%a4%e3%83%96%e3%80%91
LOCATION:BEAT STATION\, 福岡市中央区渡辺通4-11-4\, 〒810-0004
CATEGORIES:トップ画面に表示する
END:VEVENT
BEGIN:VEVENT
DTSTART;VALUE=DATE:20210102
DTEND;VALUE=DATE:20210103
DTSTAMP:20260421T133621
CREATED:20210101T231731Z
LAST-MODIFIED:20210101T231731Z
UID:3375-1609545600-1609631999@beats.stars.ne.jp
SUMMARY:【謹賀新年FUKUOKA BEAT FESTA Day1】
DESCRIPTION:S☆THERN CROSS \nCOLORLESS\nとわる\n白金アイドル塾\nAQUA\nKAMISAMA-双-\nAdPrinCe\nVer-Million\nCode-L\nRuminousKiss\nMONOCHROME COLOR
URL:https://beats.stars.ne.jp/schedule/%e3%80%90%e8%ac%b9%e8%b3%80%e6%96%b0%e5%b9%b4fukuoka-beat-festa-day1%e3%80%91
LOCATION:BEAT STATION\, 福岡市中央区渡辺通4-11-4\, 〒810-0004
END:VEVENT
BEGIN:VEVENT
DTSTART;VALUE=DATE:20201231
DTEND;VALUE=DATE:20210101
DTSTAMP:20260421T133621
CREATED:20201231T013719Z
LAST-MODIFIED:20201231T022853Z
UID:3370-1609372800-1609459199@beats.stars.ne.jp
SUMMARY:Play The Last Day of the Year!! COUNTDOWN Party in YAKUIN  ＊遊び尽くせ、大晦日！ Ver.2 福岡ビートステーション
DESCRIPTION:AQUA\n AdPrinCe\n KAMISAMA-双-\n FREEZE\n Meister\n TRIBAL RED
URL:https://beats.stars.ne.jp/schedule/play-the-last-day-of-the-year-countdown-party-in-yakuin-%ef%bc%8a%e9%81%8a%e3%81%b3%e5%b0%bd%e3%81%8f%e3%81%9b%e3%80%81%e5%a4%a7%e6%99%a6%e6%97%a5%ef%bc%81-ver-2-%e7%a6%8f%e5%b2%a1%e3%83%93
LOCATION:BEAT STATION\, 福岡市中央区渡辺通4-11-4\, 〒810-0004
CATEGORIES:トップ画面に表示する
END:VEVENT
BEGIN:VEVENT
DTSTART;VALUE=DATE:20201226
DTEND;VALUE=DATE:20201227
DTSTAMP:20260421T133621
CREATED:20201103T105955Z
LAST-MODIFIED:20201103T111000Z
UID:3226-1608940800-1609027199@beats.stars.ne.jp
SUMMARY:未来へ発つ！ I start a trip in the future.
DESCRIPTION:未来へ発つ！\n I start a trip in the future.\n ＜全て悪式ことは捨て去って、新しい門出の準備をしよう！新年はもう目の前だ！＞ \n〈出演〉\n ZiZi\n 杏\n 北風と太陽\n さはら\n 岡部聡\n necronomicon
URL:https://beats.stars.ne.jp/schedule/%e6%9c%aa%e6%9d%a5%e3%81%b8%e7%99%ba%e3%81%a4%ef%bc%81-i-start-a-trip-in-the-future
LOCATION:BEAT STATION\, 福岡市中央区渡辺通4-11-4\, 〒810-0004
CATEGORIES:トップ画面に表示する
END:VEVENT
BEGIN:VEVENT
DTSTART;VALUE=DATE:20201225
DTEND;VALUE=DATE:20201226
DTSTAMP:20260421T133621
CREATED:20201021T040559Z
LAST-MODIFIED:20201021T040559Z
UID:3168-1608854400-1608940799@beats.stars.ne.jp
SUMMARY:LIVE TOUR 2020-2021 ZERO -Multi-
DESCRIPTION:吉田 広大 \n  \n  \nチケット一般発売 10/24 10:00〜 \n[新型コロナウィルス感染症への対応について]  \n開催にあたりましては、 \n政府・開催地自治体・会場の方針に従い、 \n感染拡大防止に細心の注意を払い、対応に最善を尽くします。 \nご来場のお客様におかれてましても、 \nマスク着用、手指消毒等の感染防止対策への \nご理解とご協力を頂けますよう、 \nよろしくお願い申し上げます。ご来場にあたり、 \n事前に新型コロナウイルス接触確認アプリ（COCOA）への \n登録をお願いします。 \nご入場時に登録画面の確認をさせていただきます。 \nご登録いただけない方の入場は出来ません。\n 
URL:https://beats.stars.ne.jp/schedule/live-tour-2020-2021-zero-multi
LOCATION:BEAT STATION\, 福岡市中央区渡辺通4-11-4\, 〒810-0004
CATEGORIES:トップ画面に表示する
END:VEVENT
BEGIN:VEVENT
DTSTART;VALUE=DATE:20201223
DTEND;VALUE=DATE:20201224
DTSTAMP:20260421T133621
CREATED:20201210T094031Z
LAST-MODIFIED:20201210T094131Z
UID:3312-1608681600-1608767999@beats.stars.ne.jp
SUMMARY:LFLH re-union＜ACIDMAN＞
DESCRIPTION:ACIDMAN \n  \n  \n※本人の出演はありません。
URL:https://beats.stars.ne.jp/schedule/lflh-re-union%ef%bc%9cacidman%ef%bc%9e
LOCATION:BEAT STATION\, 福岡市中央区渡辺通4-11-4\, 〒810-0004
CATEGORIES:トップ画面に表示する
END:VEVENT
BEGIN:VEVENT
DTSTART;VALUE=DATE:20201221
DTEND;VALUE=DATE:20201222
DTSTAMP:20260421T133621
CREATED:20201218T083752Z
LAST-MODIFIED:20201218T083752Z
UID:3323-1608508800-1608595199@beats.stars.ne.jp
SUMMARY:UNIDOL2020-21 Winter 九州予選
DESCRIPTION:出場チーム \nQanvaS(九州産業大学)\nSparkle(福岡大学)\nFlum＊Flum(筑紫女学園)\nプルメリア(K大学)\nLa.mf（仮）(Y大学) \n  \n 
URL:https://beats.stars.ne.jp/schedule/unidol2020-21-winter-%e4%b9%9d%e5%b7%9e%e4%ba%88%e9%81%b8
LOCATION:BEAT STATION\, 福岡市中央区渡辺通4-11-4\, 〒810-0004
CATEGORIES:トップ画面に表示する
END:VEVENT
BEGIN:VEVENT
DTSTART;VALUE=DATE:20201220
DTEND;VALUE=DATE:20201221
DTSTAMP:20260421T133621
CREATED:20200903T090820Z
LAST-MODIFIED:20200903T090820Z
UID:3021-1608422400-1608508799@beats.stars.ne.jp
SUMMARY:yonawo 1st full album「明日は当然来ないでしょ」release one man live
DESCRIPTION:yonawo \n  \n一般発売 10月24日(土)10:00〜チケットぴあのWEB発売開始※2枚制限 \n  \n  \n【新型コロナウィルス感染症対策に関しての注意事項】\n■ 本公演は会場キャパシティの50％以下での開催となります。\n■ あらかじめご来場前にご⾃⾝で検温をお願いいたします。\n■ 会場内はマスク着⽤になりますのでマスクをご持参ください。\n■ 下記に記した⼊場条件を満たさない⽅は、当⽇ご⼊場をお断りする場合がございます。\n1、公演前2週間以内に海外渡航歴のある⽅で陰性の証明が不可能な⽅\n2、37.5℃以上の発熱のある⽅や、泥酔されている⽅、または咳・だるさ・⿐⽔・頭痛・嘔吐・臭覚味覚障害等の症状のある⽅\n3、同居家族に感染が疑われる⽅がいらっしゃる⽅\n4、個⼈情報のお預かりができない⽅\n■ 退場時は規制退場とさせていただきます。\n■ 賭⼊時にお預かリします個⼈情報は⾏政機関と共有させていただく場合がございますので、ご了承の上お買い求めください。\n  万⼀、個⼈情報をお預かりできなかった場合においては、当⽇ご来場の際にお預かリさせていただきます。\n■ 公演中の⼤声での発声はご速慮ください。\n■ 喫煙所はございません。お⼿洗いもできるだけ来場前にお済ませいただきますようお願いいたします。\n■ 係の指⽰に従って頂けない場合は退場していただきます。\n＊ 今後、⾏政機関の指導により対策情報、公演情報が更新になる場合があリますので、オフィシャルホームページ等ご確認をお願いいたします。
URL:https://beats.stars.ne.jp/schedule/yonawo-1st-full-album%e3%80%8c%e6%98%8e%e6%97%a5%e3%81%af%e5%bd%93%e7%84%b6%e6%9d%a5%e3%81%aa%e3%81%84%e3%81%a7%e3%81%97%e3%82%87%e3%80%8drelease-one-man-live
LOCATION:BEAT STATION\, 福岡市中央区渡辺通4-11-4\, 〒810-0004
END:VEVENT
BEGIN:VEVENT
DTSTART;VALUE=DATE:20201219
DTEND;VALUE=DATE:20201220
DTSTAMP:20260421T133621
CREATED:20201219T083411Z
LAST-MODIFIED:20201219T083411Z
UID:3327-1608336000-1608422399@beats.stars.ne.jp
SUMMARY:本日ライブ配信あり！YouTube福岡ビートステーションchannelにて！
DESCRIPTION:本日のイベントはライブ配信あります。 \n下記のユーチューブ URLからご覧ください。https://www.youtube.com/channel/UCFDCjsy8JHgO-MPJbpd0diw/featured
URL:https://beats.stars.ne.jp/schedule/%e6%9c%ac%e6%97%a5%e3%83%a9%e3%82%a4%e3%83%96%e9%85%8d%e4%bf%a1%e3%81%82%e3%82%8a%ef%bc%81youtube%e7%a6%8f%e5%b2%a1%e3%83%93%e3%83%bc%e3%83%88%e3%82%b9%e3%83%86%e3%83%bc%e3%82%b7%e3%83%a7%e3%83%b3chan
LOCATION:BEAT STATION\, 福岡市中央区渡辺通4-11-4\, 〒810-0004
CATEGORIES:トップ画面に表示する
END:VEVENT
BEGIN:VEVENT
DTSTART;VALUE=DATE:20201219
DTEND;VALUE=DATE:20201220
DTSTAMP:20260421T133621
CREATED:20201012T091542Z
LAST-MODIFIED:20201219T084248Z
UID:3151-1608336000-1608422399@beats.stars.ne.jp
SUMMARY:CROSS ROCKS vol.39 特別編
DESCRIPTION:AbsoluteØ \n SCARS OF MOMENT \n POLiSHED RiCE \n本日は配信ありです、お楽しみください。 \nhttps://www.youtube.com/channel/UCFDCjsy8JHgO-MPJbpd0diw/featured
URL:https://beats.stars.ne.jp/schedule/cross-rocks-vol-39-%e7%89%b9%e5%88%a5%e7%b7%a8
LOCATION:BEAT STATION\, 福岡市中央区渡辺通4-11-4\, 〒810-0004
END:VEVENT
BEGIN:VEVENT
DTSTART;VALUE=DATE:20201218
DTEND;VALUE=DATE:20201219
DTSTAMP:20260421T133621
CREATED:20201203T091615Z
LAST-MODIFIED:20201203T094830Z
UID:3293-1608249600-1608335999@beats.stars.ne.jp
SUMMARY:LFLH re-union＜MAN WITH A MISSION＞
DESCRIPTION:MAN WITH A MISSION \n※本公演はライブビューイングでの開催です。\n  \nタワーレコード株式会社の協力企業各社ならびに協力アーティストとともに、ライブ\n ハウスを支援するプロジェクト「LIVE FORCE\, LIVE HOUSE.」の第2弾支援として、\n ライブハウスでのパブリックビューイング企画『LFLH re-union』（よみ：えるえふ\n えるえいち りゆにおん）が開始！\n その第2回目の上映アーティストに、MAN WITH A MISSIONが決定しました！！ \n 2020年8月24日・25日の2日間、Zepp Tokyoで開催した「MAN WITH A “REBOOT LIVE &\n STREAMING” MISSION」から選りすぐりのセットリスト で構成した特別限定ライブを\n 上映！\n なお、チケットは12月4日(金)18:00よりe+にて一斉販売開始となります！ \n 
URL:https://beats.stars.ne.jp/schedule/lflh-re-union%ef%bc%9cman-with-a-mission%ef%bc%9e
LOCATION:BEAT STATION\, 福岡市中央区渡辺通4-11-4\, 〒810-0004
CATEGORIES:トップ画面に表示する
END:VEVENT
BEGIN:VEVENT
DTSTART;VALUE=DATE:20201217
DTEND;VALUE=DATE:20201218
DTSTAMP:20260421T133621
CREATED:20200612T051042Z
LAST-MODIFIED:20201026T050409Z
UID:2822-1608163200-1608249599@beats.stars.ne.jp
SUMMARY:Awesome Talks - One Man Show 2020 - 振替公演中止
DESCRIPTION:Awesome City Club \n  \nAwesome Talks – One Man Show 2020 –に関してのお知らせ \nAwesome Talks – One Man Show 2020 – に開催に関しまして、新型コロナウィルスの感染拡大状況を考慮し、下記公演に関しましては、やむを得ず中止とさせていただきます。 \n12/17(木)  福岡BEAT STATION \n中止公演に関しましては、 \nチケットを全て払い戻しとさせて頂きます。 \nお買い求めのプレイガイドをご確認の上お手続きください。 \nチケット払戻に関して \n▇ 受付期間\n 各プレイガイド払戻期間：2020年10月26日(月)～11月30日(月) \n ※半券が切り離されたチケットは、払い戻しの対象にはなりませんので ご注意ください。\n ※受付期間を過ぎての受付はできませんのでご注意ください。\n ※チケット紛失などによる対応は一切できません。 \n ●e+（イープラス）にてご購入されたお客様\n ・セブン-イレブン/ファミリーマート受取の方は、お受取りになった店舗にて払戻し手続きを行って下さい。\n ・配送受取の方は、特定記録郵便にてチケットをイープラスまでお送り下さい。\n ・詳細は下記チャートよりご確認ください。\n 払戻方法確認チャート https://eplus.jp/refund1/ \n ●チケットぴあにて購入されたお客様\n チケットの引取方法などにより手続きが異なります。 お客様のお引き取り方法をご確認の上、以下のURLから該当の払い戻し方法の説明ページにお進みください。\n http://t.pia.jp/guide/refund.jsp \n ●ローソンチケットにて購入されたお客様\n お買い上げのローソン、ミニストップ店舗にて直接払戻しをさせていただきます。 お手持ちの未使用チケットをお持ちの上、ご来店ください。\n ※配送引取されたお客様は最寄りのローソン店舗で払戻しをさせていただきます。\n https://l-tike.com/oc/lt/haraimodoshi/ \n ●＜LINETICKET＞にてご購入されたお客様\n 払戻し方法は「LINEチケットinfo」のアカウントにて、LINEのトーク上で ご案内をさせていただきます。 「LINEチケットinfo」アカウントとは・・・購入・分配を受け取られたお客様が必ずフォローしているアカウントになります。\n ※LINEチケットでご購入のお客様は、発券の有無に関わらずLINEアカウントを削除しないようにご注意ください。\n 【お問合せ】 LINEチケット https://line.me/R/ti/p/%40lineticket_jp\n ※LINEの公式アカウントが問い合わせフォームになっております。
URL:https://beats.stars.ne.jp/schedule/awesome-talks-one-man-show-2020-%e6%8c%af%e6%9b%bf%e5%85%ac%e6%bc%94
LOCATION:BEAT STATION\, 福岡市中央区渡辺通4-11-4\, 〒810-0004
CATEGORIES:トップ画面に表示する
END:VEVENT
BEGIN:VEVENT
DTSTART;VALUE=DATE:20201212
DTEND;VALUE=DATE:20201213
DTSTAMP:20260421T133621
CREATED:20201013T082622Z
LAST-MODIFIED:20201013T082622Z
UID:3158-1607731200-1607817599@beats.stars.ne.jp
SUMMARY:拝啓〜ママパパ兄弟じーちゃんばーちゃん友達先輩後輩先生車掌さん、 そして普段から応援してくれてる皆さん、僕たち20歳になったでやんす！ お酒で乾杯！パラダイス！クリスマス！ソーシャルディスタンスでラララララテラララランマンツアー2020冬〜敬具
DESCRIPTION:KALMA \n  \n最速オフィシャル先行 \n　[受付期間]10/7(水)21:00～10/14(水)23:59　 \n　[受付URL] https://l-tike.com/st1/hpkalma/ \n　[当選数] 10/16(金)　[入金期間] 10/17(土)～10/21(水)　[確定] 10/22(木) \n    
URL:https://beats.stars.ne.jp/schedule/%e6%8b%9d%e5%95%93%e3%80%9c%e3%83%9e%e3%83%9e%e3%83%91%e3%83%91%e5%85%84%e5%bc%9f%e3%81%98%e3%83%bc%e3%81%a1%e3%82%83%e3%82%93%e3%81%b0%e3%83%bc%e3%81%a1%e3%82%83%e3%82%93%e5%8f%8b%e9%81%94%e5%85%88
LOCATION:BEAT STATION\, 福岡市中央区渡辺通4-11-4\, 〒810-0004
CATEGORIES:トップ画面に表示する
END:VEVENT
BEGIN:VEVENT
DTSTART;VALUE=DATE:20201209
DTEND;VALUE=DATE:20201210
DTSTAMP:20260421T133621
CREATED:20201127T090325Z
LAST-MODIFIED:20201127T090325Z
UID:3277-1607472000-1607558399@beats.stars.ne.jp
SUMMARY:WONK LIVE TOUR 2020 振替公演延期
DESCRIPTION:WONK \n  \nWONK LIVE TOUR 2020 再延期のお知らせ\n\n日頃より、WONKを応援いただきありがとうございます。WONK LIVE TOUR 2020に関して、新型コロナウィルス感染拡大に際し、状況収束の見通しが立っていない現在の状況に鑑み、既に延期のご案内をさせていただいておりました12月からの全ての振替公演を再度延期とさせていただきます。（延期予定ですが大阪会場に関してはあわせて会場変更が確定しております。）ご来場いただく皆さまやツアー関係者の方々の健康と安全を最優先に考えての判断となりますが、度重なる延期のご案内となり、皆様にご迷惑をおかけしますことを、心よりお詫び申し上げます。 \nチケットの払い戻しや振替日程については現在調整をしておりますが、まずは再延期の第一報をお届けしたくご案内差し上げました。詳細のアナウンスまでいましばらくお待ちいただけますと幸いです。 \n以下、全公演を延期いたします。（※大阪会場に追加変更あり）\n・東京公演 2021年 1月8日(金)  at SHIBUYA O-EAST\n・福岡公演 2020年12月9日(水) at 福岡BEAT STATION\n・仙台公演 2020年12月2日(水) at 仙台Rensa  \n・札幌公演 2021年1月16日(土) at Zepp Sapporo\n・名古屋公演 2020年12月16日(水) at 名古屋BOTTOM LINE\n・大阪公演 2020年12月15日(火) at UMEDA QUATTRO→ZEPP NAMBA*\n　 ＊大阪公演の会場変更が予定されています。 \nお手持ちのチケットは無くさず大切に保管していただくようお願いいたします。また、残念ながらご来場が叶わない方は、追加のアナウンス後より払い戻しのお手続きをお願いいたします。チケット追加発売については、今後の動向を注視した上、随時オフィシャルサイトでお知らせさせていただきます。ご迷惑とご心配をおかけいたしますが、会場で皆さまとお会いできることをメンバー、EPISTROPHスタッフ一同、楽しみにしております。 \n・公式Twitterアカウント　https://twitter.com/WONK_TOKYO\n・公式Instagramアカウント https://www.instagram.com/wonk_tokyo/
URL:https://beats.stars.ne.jp/schedule/wonk-live-tour-2020-%e6%8c%af%e6%9b%bf%e5%85%ac%e6%bc%94%e5%bb%b6%e6%9c%9f
LOCATION:BEAT STATION\, 福岡市中央区渡辺通4-11-4\, 〒810-0004
END:VEVENT
BEGIN:VEVENT
DTSTART;VALUE=DATE:20201208
DTEND;VALUE=DATE:20201209
DTSTAMP:20260421T133621
CREATED:20201128T112326Z
LAST-MODIFIED:20201129T052759Z
UID:3280-1607385600-1607471999@beats.stars.ne.jp
SUMMARY:LFLH re-union＜サンボマスター＞
DESCRIPTION:サンボマスター \n ※本公演はライブビューイングでの開催です。\n 上映ライブ :『1+1+1 は 3 じゃないぞ!1+1+1 で 300 だ!!10 倍だぞ 10 倍!ツアー2016』 \n @石巻 BLUE RESISTANCE \n\n 今年4月から始動したライブハウス支援プロジェクト「LIVE FORCE\, LIVE HOUSE.」では、これまでグッズ販売を通じ、ご賛同いただいた皆様からの支援金を直接ライブハウスへ届けるプラットフォームとして展開してきました。このたびは、次なるライブハウスへのサポートプロジェクトとしてライブハウスでのパブリックビューイングのプラットフォーム『LFLH re-union』をスタートします。 \n営業再開は出来たものの、ソーシャルディスタンスによる入場制限などで未だ厳しい状態が続くライブハウス。『LFLH re-union』は、コロナ禍によりライブハウスから遠ざかってしまった地元のお客様が少しでも安心して参加できる方法でライブの魅力、醍醐味を味わっていただけるよう、パブリックビューイング（ライブ上映会）を実施することで、本格再開に向け試行錯誤するライブハウスを応援していく企画です。 \n  \n  \n  \nチケット一般発売 \n 11/28 18:00〜
URL:https://beats.stars.ne.jp/schedule/lflh-re-union%ef%bc%9c%e3%82%b5%e3%83%b3%e3%83%9c%e3%83%9e%e3%82%b9%e3%82%bf%e3%83%bc%ef%bc%9e
LOCATION:BEAT STATION\, 福岡市中央区渡辺通4-11-4\, 〒810-0004
CATEGORIES:トップ画面に表示する
END:VEVENT
BEGIN:VEVENT
DTSTART;VALUE=DATE:20201207
DTEND;VALUE=DATE:20201208
DTSTAMP:20260421T133621
CREATED:20201107T111403Z
LAST-MODIFIED:20201107T111403Z
UID:3235-1607299200-1607385599@beats.stars.ne.jp
SUMMARY:FACE IT!!
DESCRIPTION:Hump Back \nザ50回転ズ \n \n \n \n\nオフィシャル先行\n受付期間：11/9(月)19:00～11/12(木)23:59まで \n \n\n\n\n\n\n 
URL:https://beats.stars.ne.jp/schedule/face-it
LOCATION:BEAT STATION\, 福岡市中央区渡辺通4-11-4\, 〒810-0004
CATEGORIES:トップ画面に表示する
END:VEVENT
BEGIN:VEVENT
DTSTART;VALUE=DATE:20201206
DTEND;VALUE=DATE:20201207
DTSTAMP:20260421T133621
CREATED:20201004T074626Z
LAST-MODIFIED:20201205T050736Z
UID:3125-1607212800-1607299199@beats.stars.ne.jp
SUMMARY:Hero's BD! RR\, Feel the way of life.伝統を継げ!!!
DESCRIPTION:この日、ロック界の伝説と成りうる一人のギタリストが生まれた日、ロック界を揺るがしたその男の名は…R.R\n ロックを愛する者たちよ、男の伝統を継ぐのだ！ \nHero’s BD! RR\, Feel the way of life.伝統を継げ!!! \n\n 福岡マジックオーケストラ\n John Doe\n スナック\n DAIKI\n CROWDIA\n slapstick cafe \n\n配信視聴&チャンネル登録はこちら！！\nhttps://www.youtube.com/channel/UCFDCjsy8JHgO-MPJbpd0diw
URL:https://beats.stars.ne.jp/schedule/heros-bd-rr-feel-the-way-of-life-%e4%bc%9d%e7%b5%b1%e3%82%92%e7%b6%99%e3%81%92
LOCATION:BEAT STATION\, 福岡市中央区渡辺通4-11-4\, 〒810-0004
CATEGORIES:トップ画面に表示する
END:VEVENT
END:VCALENDAR