BEGIN:VCALENDAR
VERSION:2.0
PRODID:-//福岡のライブハウス BEAT STATION - ECPv6.10.3//NONSGML v1.0//EN
CALSCALE:GREGORIAN
METHOD:PUBLISH
X-WR-CALNAME:福岡のライブハウス BEAT STATION
X-ORIGINAL-URL:https://beats.stars.ne.jp
X-WR-CALDESC:福岡のライブハウス BEAT STATION のイベント
REFRESH-INTERVAL;VALUE=DURATION:PT1H
X-Robots-Tag:noindex
X-PUBLISHED-TTL:PT1H
BEGIN:VTIMEZONE
TZID:Asia/Tokyo
BEGIN:STANDARD
TZOFFSETFROM:+0900
TZOFFSETTO:+0900
TZNAME:JST
DTSTART:20200101T000000
END:STANDARD
END:VTIMEZONE
BEGIN:VEVENT
DTSTART;VALUE=DATE:20201126
DTEND;VALUE=DATE:20201127
DTSTAMP:20260421T114739
CREATED:20201117T114846Z
LAST-MODIFIED:20201117T115637Z
UID:3259-1606348800-1606435199@beats.stars.ne.jp
SUMMARY:『Boys Neon LIVE! in FUKUOKA Day1』 1部
DESCRIPTION:Lotteriez\n ミリメレほりっく子\n 三代目ポップジャンクスクール!!!\n 花と風\n Khronos \n Pa:Ladin \n\n チケット購入はこちらから\n https://pipipimen.theshop.jp/items/36128411 \n ＜注意事項＞\n ※開場、開演時間は変更になる可能性がございます。\n ※出演者の変更・キャンセルに伴うチケットの払戻しは致しません。ご了承ください。
URL:https://beats.stars.ne.jp/schedule/%e3%80%8eboys-neon-live-in-fukuoka-day1%e3%80%8f-1%e9%83%a8
LOCATION:BEAT STATION\, 福岡市中央区渡辺通4-11-4\, 〒810-0004
CATEGORIES:トップ画面に表示する
END:VEVENT
BEGIN:VEVENT
DTSTART;VALUE=DATE:20201124
DTEND;VALUE=DATE:20201125
DTSTAMP:20260421T114739
CREATED:20201102T081035Z
LAST-MODIFIED:20201102T081035Z
UID:3221-1606176000-1606262399@beats.stars.ne.jp
SUMMARY:Natural Radio Station presents WEEKDAY ONE HOUR LIVE
DESCRIPTION:Natural Radio Station \n\n11/3 12:00よりPASS MARKETにて販売開始 \n＜PLAY GUIDE＞\nPASS MARKET\nhttps://passmarket.yahoo.co.jp/event/show/detail/012ypz11abnen.html
URL:https://beats.stars.ne.jp/schedule/natural-radio-station-presents-weekday-one-hour-live
LOCATION:BEAT STATION\, 福岡市中央区渡辺通4-11-4\, 〒810-0004
CATEGORIES:トップ画面に表示する
END:VEVENT
BEGIN:VEVENT
DTSTART;VALUE=DATE:20201123
DTEND;VALUE=DATE:20201124
DTSTAMP:20260421T114739
CREATED:20200105T105608Z
LAST-MODIFIED:20201009T112625Z
UID:2359-1606089600-1606175999@beats.stars.ne.jp
SUMMARY:Aldious Tour 2020 “Unlash” 公演延期
DESCRIPTION:Aldious \n以下にチケットの払戻に関してご案内させていただきます。\n 払い戻し方法は、チケットの受け取り方法や、支払い方法により異なります。\n 詳細は下記をご覧ください。\n また、払い戻し期間を過ぎてしまいますと、払い戻しができなくなりますので、ご注意下さい。 \n ■【ローソンチケット】 にてご購入のお客様\n 払戻期間：2020年10月2日(金)10:00 ～ 2020年10月18日(日)23:59 \n 上記の期間内に、お買い求めいただきましたローソン・ミニストップ店舗にて払戻をいたします。\n お手元のチケットと各種手数料券をお持ちの上、ローソン・ミニストップ店内設置Loppiにて払戻のお手続きをお願い致します。\n ※期間外の払戻はできません。期限を過ぎますと払戻手続きはできなくなります。\n ※チケットまたは、各種手数料券を紛失または破棄されてしまっている場合は、一切払戻はできませんので、予めご了承ください。\n ※配送料は払戻対象外となりますので、ご了承ください。 \n Loppi払戻操作方法は、下記URLからご確認ください。\n http://l-tike.com/oc/lt/haraimodoshi/ \n ＜お問合せ＞ローソンチケット：0570-000-777 (10:00～18:00) \n\n ■【チケットぴあ】 にてご購入のお客様\n 払い戻し期間は会場により異なりますのでご注意ください。\n 払い戻しについて、下記URLから該当の払戻し方法の説明ページにお進み下さい。\n http://t.pia.jp/guide/refund.jsp（PC/携帯共通）\n ※払戻し期間以外は、払戻し手続きができませんのでご注意下さい。 \n\n ■【イープラス】 にてご購入のお客様\n 払い戻し期間は会場により異なりますのでご注意ください。\n 払い戻しについて、下記URLから該当の公演を検索してご確認下さい。\n https://eplus.jp/sf/updated_events\n ※払戻し期間以外は、払戻し手続きができませんのでご注意下さい。
URL:https://beats.stars.ne.jp/schedule/aldious-tour-2020-unlash
LOCATION:BEAT STATION\, 福岡市中央区渡辺通4-11-4\, 〒810-0004
END:VEVENT
BEGIN:VEVENT
DTSTART;VALUE=DATE:20201122
DTEND;VALUE=DATE:20201123
DTSTAMP:20260421T114739
CREATED:20200908T093210Z
LAST-MODIFIED:20200908T093210Z
UID:3038-1606003200-1606089599@beats.stars.ne.jp
SUMMARY:ハンブレッターズの“ライブハウスで見る”ラジオ 夜の部
DESCRIPTION:ハンブレッターズ \n  \nチケット一般発売\n9/12 10:00〜
URL:https://beats.stars.ne.jp/schedule/%e3%83%8f%e3%83%b3%e3%83%96%e3%83%ac%e3%83%83%e3%82%bf%e3%83%bc%e3%82%ba%e3%81%ae%e3%83%a9%e3%82%a4%e3%83%96%e3%83%8f%e3%82%a6%e3%82%b9%e3%81%a7%e8%a6%8b%e3%82%8b%e3%83%a9%e3%82%b8-2
LOCATION:BEAT STATION\, 福岡市中央区渡辺通4-11-4\, 〒810-0004
END:VEVENT
BEGIN:VEVENT
DTSTART;VALUE=DATE:20201122
DTEND;VALUE=DATE:20201123
DTSTAMP:20260421T114739
CREATED:20200908T093000Z
LAST-MODIFIED:20200908T093000Z
UID:3036-1606003200-1606089599@beats.stars.ne.jp
SUMMARY:ハンブレッターズの“ライブハウスで見る”ラジオ 夕方の部
DESCRIPTION:ハンブレッターズ \n  \nチケット一般発売\n9/12 10:00〜
URL:https://beats.stars.ne.jp/schedule/%e3%83%8f%e3%83%b3%e3%83%96%e3%83%ac%e3%83%83%e3%82%bf%e3%83%bc%e3%82%ba%e3%81%ae%e3%83%a9%e3%82%a4%e3%83%96%e3%83%8f%e3%82%a6%e3%82%b9%e3%81%a7%e8%a6%8b%e3%82%8b%e3%83%a9%e3%82%b8
LOCATION:BEAT STATION\, 福岡市中央区渡辺通4-11-4\, 〒810-0004
END:VEVENT
BEGIN:VEVENT
DTSTART;VALUE=DATE:20201120
DTEND;VALUE=DATE:20201121
DTSTAMP:20260421T114739
CREATED:20201021T083920Z
LAST-MODIFIED:20201117T041402Z
UID:3174-1605830400-1605916799@beats.stars.ne.jp
SUMMARY:DREAM MAKER LIVE TOUR 2020  #ありがとうつなぎ
DESCRIPTION: DREAM MAKER \n  \nご来場のお客様へのご案内文
URL:https://beats.stars.ne.jp/schedule/dream-maker-live-tour-2020-%e3%81%82%e3%82%8a%e3%81%8c%e3%81%a8%e3%81%86%e3%81%a4%e3%81%aa%e3%81%8e
LOCATION:BEAT STATION\, 福岡市中央区渡辺通4-11-4\, 〒810-0004
CATEGORIES:トップ画面に表示する
END:VEVENT
BEGIN:VEVENT
DTSTART;VALUE=DATE:20201117
DTEND;VALUE=DATE:20201118
DTSTAMP:20260421T114739
CREATED:20200920T092048Z
LAST-MODIFIED:20200920T092048Z
UID:3062-1605571200-1605657599@beats.stars.ne.jp
SUMMARY:CHAGE&ASKA完全コピーバンドconcert2020 『僕らの“熱い想い”』2日目
DESCRIPTION:CHAGE&ASKA完全コピーバンド \nCHAGE：キンジ\nASKA：K-ing  \nEG.Cho/清水康弘 \nBa/飯田洋平 \nDr/友池悠二 \nPf/ONY \nSynth/米倉雅紀 \n  \n※動画収録有
URL:https://beats.stars.ne.jp/schedule/chageaska%e5%ae%8c%e5%85%a8%e3%82%b3%e3%83%94%e3%83%bc%e3%83%90%e3%83%b3%e3%83%89concert2020-%e3%80%8e%e5%83%95%e3%82%89%e3%81%ae%e7%86%b1%e3%81%84%e6%83%b3%e3%81%84%e3%80%8f2
LOCATION:BEAT STATION\, 福岡市中央区渡辺通4-11-4\, 〒810-0004
END:VEVENT
BEGIN:VEVENT
DTSTART;VALUE=DATE:20201116
DTEND;VALUE=DATE:20201117
DTSTAMP:20260421T114739
CREATED:20200920T091704Z
LAST-MODIFIED:20200920T091704Z
UID:3060-1605484800-1605571199@beats.stars.ne.jp
SUMMARY:CHAGE&ASKA完全コピーバンドconcert2020 『僕らの“熱い想い”』1日目
DESCRIPTION:CHAGE&ASKA完全コピーバンド \nCHAGE：キンジ　 \nASKA：K-ing  \nEG.Cho/清水康弘 \nBa/飯田洋平 \nDr/友池悠二 \nPf/ONY\n Synth/米倉雅紀 \n\n※当日動画収録有
URL:https://beats.stars.ne.jp/schedule/chageaska%e5%ae%8c%e5%85%a8%e3%82%b3%e3%83%94%e3%83%bc%e3%83%90%e3%83%b3%e3%83%89concert2020-%e3%80%8e%e5%83%95%e3%82%89%e3%81%ae%e7%86%b1%e3%81%84%e6%83%b3%e3%81%84%e3%80%8f1
LOCATION:BEAT STATION\, 福岡市中央区渡辺通4-11-4\, 〒810-0004
END:VEVENT
BEGIN:VEVENT
DTSTART;VALUE=DATE:20201115
DTEND;VALUE=DATE:20201116
DTSTAMP:20260421T114739
CREATED:20201023T041214Z
LAST-MODIFIED:20201023T041214Z
UID:3201-1605398400-1605484799@beats.stars.ne.jp
SUMMARY:RENT THANKS
DESCRIPTION:
URL:https://beats.stars.ne.jp/schedule/rent-thanks-29
LOCATION:BEAT STATION\, 福岡市中央区渡辺通4-11-4\, 〒810-0004
END:VEVENT
BEGIN:VEVENT
DTSTART;VALUE=DATE:20201114
DTEND;VALUE=DATE:20201115
DTSTAMP:20260421T114739
CREATED:20201023T041148Z
LAST-MODIFIED:20201023T041148Z
UID:3199-1605312000-1605398399@beats.stars.ne.jp
SUMMARY:RENT THANKS
DESCRIPTION:
URL:https://beats.stars.ne.jp/schedule/rent-thanks-28
LOCATION:BEAT STATION\, 福岡市中央区渡辺通4-11-4\, 〒810-0004
END:VEVENT
BEGIN:VEVENT
DTSTART;VALUE=DATE:20201108
DTEND;VALUE=DATE:20201109
DTSTAMP:20260421T114739
CREATED:20201022T095244Z
LAST-MODIFIED:20201022T095244Z
UID:3195-1604793600-1604879999@beats.stars.ne.jp
SUMMARY:FREAK NEW EP [4-5-6] release live  2部
DESCRIPTION:FREAK \n  \n\n\n【チケットお申し込み】\n2020年10月15日(木)12:00～販売開始\n先着順にてご購入となります。\n売り切れ次第、販売終了となります。 \n\n●二部来場チケット\nhttps://t.livepocket.jp/e/9egkw \n\n【オンラインチケット】\n￥2\,200 \n■二部　19：00〜\nhttps://twitcasting.tv/freakofficial1/shopcart/32173 \n※ご来場者様への、新型コロナウイルス感染症対策につきましては、以下となっております。 \n・保健所の定める規定、調査に基づきライブ会場の収容人数を制限したチケット販売枚数となっております。 \n・来場者様全員のマクク着用、手指の消毒、入場時の検温を行わせていただきます。 \n・イベント開催中も会場の換気、消毒等行わせていただく場合があります。
URL:https://beats.stars.ne.jp/schedule/freak-new-ep-4-5-6-release-live-2%e9%83%a8
END:VEVENT
BEGIN:VEVENT
DTSTART;VALUE=DATE:20201108
DTEND;VALUE=DATE:20201109
DTSTAMP:20260421T114739
CREATED:20201022T095035Z
LAST-MODIFIED:20201022T095035Z
UID:3193-1604793600-1604879999@beats.stars.ne.jp
SUMMARY:FREAK NEW EP [4-5-6] release live  1部
DESCRIPTION:FREAK \n  \n【チケットお申し込み】\n2020年10月15日(木)12:00～販売開始\n先着順にてご購入となります。\n売り切れ次第、販売終了となります。 \n\n●一部来場チケット\nhttps://t.livepocket.jp/e/bm1zi \n  \n【オンラインチケット】\n￥2\,200 \n■一部　15：00〜\nhttps://twitcasting.tv/freakofficial1/shopcart/32172 \n  \n※ご来場者様への、新型コロナウイルス感染症対策につきましては、以下となっております。 \n・保健所の定める規定、調査に基づきライブ会場の収容人数を制限したチケット販売枚数となっております。 \n・来場者様全員のマクク着用、手指の消毒、入場時の検温を行わせていただきます。 \n・イベント開催中も会場の換気、消毒等行わせていただく場合があります。
URL:https://beats.stars.ne.jp/schedule/freak-new-ep-4-5-6-release-live-1%e9%83%a8
LOCATION:BEAT STATION\, 福岡市中央区渡辺通4-11-4\, 〒810-0004
END:VEVENT
BEGIN:VEVENT
DTSTART;VALUE=DATE:20201107
DTEND;VALUE=DATE:20201108
DTSTAMP:20260421T114739
CREATED:20201012T061423Z
LAST-MODIFIED:20201107T001214Z
UID:3149-1604707200-1604793599@beats.stars.ne.jp
SUMMARY:地方4都市ツアー「オーディション」in 福岡
DESCRIPTION:鶯籠
URL:https://beats.stars.ne.jp/schedule/%e5%9c%b0%e6%96%b94%e9%83%bd%e5%b8%82%e3%83%84%e3%82%a2%e3%83%bc%e3%80%8c%e3%82%aa%e3%83%bc%e3%83%87%e3%82%a3%e3%82%b7%e3%83%a7%e3%83%b3%e3%80%8din-%e7%a6%8f%e5%b2%a1
LOCATION:BEAT STATION\, 福岡市中央区渡辺通4-11-4\, 〒810-0004
END:VEVENT
BEGIN:VEVENT
DTSTART;VALUE=DATE:20201107
DTEND;VALUE=DATE:20201108
DTSTAMP:20260421T114739
CREATED:20200715T044454Z
LAST-MODIFIED:20201107T110721Z
UID:2905-1604707200-1604793599@beats.stars.ne.jp
SUMMARY:MIURA FUGA LIVE TOUR 2020〜Stay Together〜 振替公演延期
DESCRIPTION:三浦 風雅 \n 
URL:https://beats.stars.ne.jp/schedule/miura-fuga-live-tour-2020%e3%80%9cstay-together%e3%80%9c-%e6%8c%af%e6%9b%bf%e5%85%ac%e6%bc%94
LOCATION:BEAT STATION\, 福岡市中央区渡辺通4-11-4\, 〒810-0004
CATEGORIES:トップ画面に表示する
END:VEVENT
BEGIN:VEVENT
DTSTART;VALUE=DATE:20201105
DTEND;VALUE=DATE:20201106
DTSTAMP:20260421T114739
CREATED:20201021T092445Z
LAST-MODIFIED:20201021T092445Z
UID:3180-1604534400-1604620799@beats.stars.ne.jp
SUMMARY:LEZARD LAST ONEMAN TOUR 振替公演
DESCRIPTION:LEZARD \n  \n※4月19日(日)、5月10日(日)、7月21日(火)の振替公演\nまた会場もQueblickから変更となっております。 \n  \nチケット一般発売 10/24 10:00〜
URL:https://beats.stars.ne.jp/schedule/lezard-last-oneman-tour-%e6%8c%af%e6%9b%bf%e5%85%ac%e6%bc%94-2
LOCATION:BEAT STATION\, 福岡市中央区渡辺通4-11-4\, 〒810-0004
CATEGORIES:トップ画面に表示する
END:VEVENT
BEGIN:VEVENT
DTSTART;VALUE=DATE:20201104
DTEND;VALUE=DATE:20201105
DTSTAMP:20260421T114739
CREATED:20201021T092024Z
LAST-MODIFIED:20201021T092509Z
UID:3177-1604448000-1604534399@beats.stars.ne.jp
SUMMARY:LEZARD LAST ONEMAN TOUR 振替公演
DESCRIPTION:LEZARD \n  \n※4月18日(土)、5月9日(土)、7月20日(月) の振替公演\n また会場もQueblickより変更となっております。 \n  \nチケット一般発売 10/24 10:00〜
URL:https://beats.stars.ne.jp/schedule/lezard-last-oneman-tour-%e6%8c%af%e6%9b%bf%e5%85%ac%e6%bc%94
LOCATION:BEAT STATION\, 福岡市中央区渡辺通4-11-4\, 〒810-0004
CATEGORIES:トップ画面に表示する
END:VEVENT
BEGIN:VEVENT
DTSTART;VALUE=DATE:20201103
DTEND;VALUE=DATE:20201104
DTSTAMP:20260421T114739
CREATED:20201022T083557Z
LAST-MODIFIED:20201022T083557Z
UID:3187-1604361600-1604447999@beats.stars.ne.jp
SUMMARY:AQUAワンマンライブ「初CDリリースイベント」
DESCRIPTION:AQUA \n  \n  \n※3部通しチケット\n¥5\,000(各部1ドリンクオーダー)
URL:https://beats.stars.ne.jp/schedule/aqua%e3%83%af%e3%83%b3%e3%83%9e%e3%83%b3%e3%83%a9%e3%82%a4%e3%83%96%e3%80%8c%e5%88%9dcd%e3%83%aa%e3%83%aa%e3%83%bc%e3%82%b9%e3%82%a4%e3%83%99%e3%83%b3%e3%83%88%e3%80%8d
LOCATION:BEAT STATION\, 福岡市中央区渡辺通4-11-4\, 〒810-0004
CATEGORIES:トップ画面に表示する
END:VEVENT
BEGIN:VEVENT
DTSTART;VALUE=DATE:20201103
DTEND;VALUE=DATE:20201104
DTSTAMP:20260421T114739
CREATED:20201022T083821Z
LAST-MODIFIED:20201022T083821Z
UID:3191-1604361600-1604447999@beats.stars.ne.jp
SUMMARY:KAMISAMA-双-ワンマンライブ「新体制1ヶ月の成果を」
DESCRIPTION:KAMISAMA-双- \n  \n  \n※3部通しチケット\n¥5\,000(各部1ドリンクオーダー)
URL:https://beats.stars.ne.jp/schedule/kamisama-%e5%8f%8c-%e3%83%af%e3%83%b3%e3%83%9e%e3%83%b3%e3%83%a9%e3%82%a4%e3%83%96%e3%80%8c%e6%96%b0%e4%bd%93%e5%88%b61%e3%83%b6%e6%9c%88%e3%81%ae%e6%88%90%e6%9e%9c%e3%82%92%e3%80%8d
LOCATION:BEAT STATION\, 福岡市中央区渡辺通4-11-4\, 〒810-0004
CATEGORIES:トップ画面に表示する
END:VEVENT
BEGIN:VEVENT
DTSTART;VALUE=DATE:20201103
DTEND;VALUE=DATE:20201104
DTSTAMP:20260421T114739
CREATED:20201022T083317Z
LAST-MODIFIED:20201022T083317Z
UID:3184-1604361600-1604447999@beats.stars.ne.jp
SUMMARY:AdPrinCeワンマンライブ「再起をかけて」
DESCRIPTION:AdPrinCe \n  \n  \n※3部通しチケット\n￥5\,000(各部1ドリンクオーダー)
URL:https://beats.stars.ne.jp/schedule/adprince%e3%83%af%e3%83%b3%e3%83%9e%e3%83%b3%e3%83%a9%e3%82%a4%e3%83%96%e3%80%8c%e5%86%8d%e8%b5%b7%e3%82%92%e3%81%8b%e3%81%91%e3%81%a6%e3%80%8d
LOCATION:BEAT STATION\, 福岡市中央区渡辺通4-11-4\, 〒810-0004
CATEGORIES:トップ画面に表示する
END:VEVENT
BEGIN:VEVENT
DTSTART;VALUE=DATE:20201101
DTEND;VALUE=DATE:20201102
DTSTAMP:20260421T114739
CREATED:20201007T071757Z
LAST-MODIFIED:20201007T071757Z
UID:3138-1604188800-1604275199@beats.stars.ne.jp
SUMMARY:よかもんフェス 2020 秋のサーキットSP 2部
DESCRIPTION:IQプロジェクト研究生\n カラフルスクリーム\n 空想モーメントL+\n QunQun\n くるーず~CRUiSE!\n Cotton♡Candy\n パピマシェ\n パピロジェ \n チケット予約はこちらから\n https://tiget.net/events/106704
URL:https://beats.stars.ne.jp/schedule/%e3%82%88%e3%81%8b%e3%82%82%e3%82%93%e3%83%95%e3%82%a7%e3%82%b9-2020-%e7%a7%8b%e3%81%ae%e3%82%b5%e3%83%bc%e3%82%ad%e3%83%83%e3%83%88sp-2%e9%83%a8
LOCATION:BEAT STATION\, 福岡市中央区渡辺通4-11-4\, 〒810-0004
END:VEVENT
BEGIN:VEVENT
DTSTART;VALUE=DATE:20201101
DTEND;VALUE=DATE:20201102
DTSTAMP:20260421T114739
CREATED:20201007T071656Z
LAST-MODIFIED:20201007T071656Z
UID:3136-1604188800-1604275199@beats.stars.ne.jp
SUMMARY:よかもんフェス 2020 秋のサーキットSP 1部
DESCRIPTION:IQプロジェクト研究生\nカラフルスクリーム\n空想モーメントL+\nQunQun\nくるーず~CRUiSE!\nCotton♡Candy\nパピマシェ\nパピロジェ \nチケット予約はこちらから\nhttps://tiget.net/events/106704
URL:https://beats.stars.ne.jp/schedule/%e3%82%88%e3%81%8b%e3%82%82%e3%82%93%e3%83%95%e3%82%a7%e3%82%b9-2020-%e7%a7%8b%e3%81%ae%e3%82%b5%e3%83%bc%e3%82%ad%e3%83%83%e3%83%88sp-1%e9%83%a8
LOCATION:BEAT STATION\, 福岡市中央区渡辺通4-11-4\, 〒810-0004
END:VEVENT
BEGIN:VEVENT
DTSTART;VALUE=DATE:20201031
DTEND;VALUE=DATE:20201101
DTSTAMP:20260421T114739
CREATED:20200730T014023Z
LAST-MODIFIED:20200903T091308Z
UID:2917-1604102400-1604188799@beats.stars.ne.jp
SUMMARY:“more local” release tour『feel more local』
DESCRIPTION:DENIMS \n\n  \n  \n \n チケット一般発売 8/1 10:00〜
URL:https://beats.stars.ne.jp/schedule/%e3%80%8edenims-oneman-tour-2020%e3%80%8f%e4%bb%ae
LOCATION:BEAT STATION\, 福岡市中央区渡辺通4-11-4\, 〒810-0004
CATEGORIES:トップ画面に表示する
END:VEVENT
BEGIN:VEVENT
DTSTART;VALUE=DATE:20201030
DTEND;VALUE=DATE:20201031
DTSTAMP:20260421T114739
CREATED:20200610T033944Z
LAST-MODIFIED:20200903T091917Z
UID:2818-1604016000-1604102399@beats.stars.ne.jp
SUMMARY:FRIEND TOUR 2020 公演延期
DESCRIPTION:NAMBA69
URL:https://beats.stars.ne.jp/schedule/friend-tour-2020
LOCATION:BEAT STATION\, 福岡市中央区渡辺通4-11-4\, 〒810-0004
CATEGORIES:トップ画面に表示する
END:VEVENT
BEGIN:VEVENT
DTSTART;VALUE=DATE:20201029
DTEND;VALUE=DATE:20201030
DTSTAMP:20260421T114739
CREATED:20200506T030844Z
LAST-MODIFIED:20200812T063514Z
UID:2741-1603929600-1604015999@beats.stars.ne.jp
SUMMARY:ラックライフ「アオイハル」 Release Tour  −何よりも青くあれ−　振替公演中止
DESCRIPTION:ラックライフ \nGUEST:片平里菜\n  \n  \nラックライフ 「アオイハル」 Release Tour−何よりも青くあれ− \n対バンTOUR及び札幌公演開催中止のお知らせ \n9月より開催を予定しておりました『ラックライフ 「アオイハル」 Release Tour−何よりも青くあれ−』対バンTOUR、札幌3公演につきまして、新型コロナウイルス対策の基本的対処方針をもとに開催の可否を協議させていただきました。 \nメンバー・スタッフ一同、感染防止策を拡充させながら開催に向けた準備を進めて参りましたが、未だ終息の見通しが立っていない状況の中で、ご来場されるお客様とそのご家族・GUESTバンドの皆様・メンバー・そして公演に関わる全てのスタッフ等の健康と安全を最優先に考慮した結果『ラックライフ 「アオイハル」 Release Tour−何よりも青くあれ−』対バンTOURの開催を断念いたしました。\n 公演開催を楽しみにお待ちいただいていたお客様にはこのようなご報告となってしまいました事、深くお詫びを申し上げます。 \n尚、チケットの払戻方法につきましては準備が整い次第、ご案内して参りますので今しばらくお待ちください。 \n＜中止・払い戻し対象公演＞ \n◼︎2020年6月28日（日）FUKUOKA BEAT STATION \n→《振替》2020年10月29日（木）福岡BEAT STATION ［GUEST］片平里菜 \n[お問合わせ]BEA TEL：092-712-4221(月・水・金 12:00～17:00) \n<チケットの払い戻しに関しまして> \n・払い戻しに関しましては、改めてオフィシャルサイトにてお知らせいたしますのでいましばらくお待ちください。\n ・電子チケットでご購入のお客様は、発券の有無に関わらずお申込み時のメールアドレス、電話番号が使用できる状態を維持し、変更しないようご注意ください。\n ・紙チケットでご購入のお客様は、お手持ちのチケットは払い戻しの際に必要になりますので、大切にお持ちください。 \n不便ご迷惑をお掛けいたしますが、ご理解ご協力の程　何卒宜しくお願い申し上げます。 \n最後に、現在感染されている方々の一日も早い回復と皆様の安全をお祈り申し上げます。 \nラックライフ \nラックライフスタッフ一同 \n 
URL:https://beats.stars.ne.jp/schedule/%e3%83%a9%e3%83%83%e3%82%af%e3%83%a9%e3%82%a4%e3%83%95%e3%80%8c%e3%82%a2%e3%82%aa%e3%82%a4%e3%83%8f%e3%83%ab%e3%80%8d-release-tour-%e2%88%92%e4%bd%95%e3%82%88%e3%82%8a%e3%82%82%e9%9d%92%e3%81%8f
LOCATION:BEAT STATION\, 福岡市中央区渡辺通4-11-4\, 〒810-0004
CATEGORIES:トップ画面に表示する
END:VEVENT
BEGIN:VEVENT
DTSTART;VALUE=DATE:20201027
DTEND;VALUE=DATE:20201028
DTSTAMP:20260421T114739
CREATED:20200821T105916Z
LAST-MODIFIED:20201023T040943Z
UID:2981-1603756800-1603843199@beats.stars.ne.jp
SUMMARY:Survive Said The Prophet  〜Inside Your Head Tour -this might be the last-〜
DESCRIPTION:◆パブリックビューイング、各地当日券販売のお知らせ\nチケット代　3200円(2D付)※\nパブリックビューイング来場者限定特典のサイン入りポスター付き\n※配信チケットをお持ちの方も、お持ちでない方も同様の金額となります。\n\n販売時間18:00〜予定\n\n当日券は、パブリックビューイングのみご観覧頂けるチケットとなります。\n事前の抽選受付では、配信チケットも併せてご購入頂くことを必須とさせて\n頂いておりましたが、当日券には配信チケットは必要ございません。\nアーカイブ配信の視聴をご希望の方は、別途配信チケットをご購入頂く必要が\nございますので、予めご了承下さい。\n \n\n\n ◆配信チケット(先着制) \nチケット代 ¥2\,000\n 受付期間：10/5(月)10:00～10/28(水)18:00\n 受付URL：https://eplus.jp/sstp-st/ \n※アーカイブに関しては後日公開 \n  \n※国の定めたガイドラインに添った座席数での開催(開催月時点)\n ※新型コロナウイルス感染症対策を万全に講じた会場運営を行います。\n ※対策マニュアルは近日中に公開を予定しております。 \n※枚数制限：1枚\n ※危険⾏為・迷惑⾏為の禁⽌\n ※小学生以下入場不可、中学生以上チケット必要\n ※入場時IDチェックを行う可能性あり、購入者以外の入場はご遠慮ください。\n ※開催時の情勢により、客席のレイアウト、レギュレーションなど変更になる可能性がございますのでご了承ください。 \n 
URL:https://beats.stars.ne.jp/schedule/survive-said-the-prophet-%e3%80%9cinside-your-head-tour-this-might-be-the-last-%e3%80%9c
LOCATION:BEAT STATION\, 福岡市中央区渡辺通4-11-4\, 〒810-0004
CATEGORIES:トップ画面に表示する
END:VEVENT
BEGIN:VEVENT
DTSTART;VALUE=DATE:20201025
DTEND;VALUE=DATE:20201026
DTSTAMP:20260421T114739
CREATED:20200914T083006Z
LAST-MODIFIED:20200914T083130Z
UID:3046-1603584000-1603670399@beats.stars.ne.jp
SUMMARY:『VOO DOO TOUR?』振替公演 夜の部
DESCRIPTION:ドミコ \n■福岡公演につきましては、お手持ちのチケットの整理番号により、夕方公演と夜公演に振り分けをさせていただいております。\n 下記にてご確認をお願いいたします。\n ■夕方■\n 開場17:00 / 開演17:30 → 整理番号1〜100番のお客様\n ■夜■\n 開場20:00 / 開演20:30 → 整理番号100番以降のお客様 \n 振替公演に都合がつかないお客様に関しましては払い戻しをさせていただきます。\n こちらをご確認の上、必ず払い戻し期間内にお手続きをお願いいたします。 \n 〜福岡公演へご来場のお客様へのご案内〜\n ・今回の公演を行うにあたり一人でも多くのお客様にお越し頂けるよう協議を重ねました結果、1日2回公演での開催とさせて頂きます。\n ・開場、開演時間が変更となっております。必ずご自身の整理番号をご確認の上、ご来場くださいますようお願い申し上げます。\n ・政府および自治体、関係各所の感染予防ガイドラインに則り、スタンディングではなく椅子席でのご案内となる可能性がございます。予めご了承ください。\n ・すでに多くのお客様にチケットをご購入頂いており公演を開催するにあたり感染予防ガイドラインに則った収容キャパシティへ収める為、又、この度の日程変更等に伴い、残念ながらご来場のかなわないお客様には払い戻しを実施致します。(万一感染 予防ガイドラインに則った収容キャパシティに収まらない場合、再度延期もしくは中止とさせて頂く可能性がございます)\n ・振替公演へご来場をご希望のお客様は、お手持ちの整理番号がそのまま有効となります。\n ・紛失されないよう大切に保管していただき、振替公演当日必ずチケットをご持参ください。\n ・チケットの紛失やご来場時にチケットをお持ちでない場合は、ご入場をお断りする場合がございます。くれぐれもご注意ください。\n ・LINEチケットでご購入のお客様は、LINEアカウントを削除しないようにご注意ください。\n ・感染状況により公演開催が困難と判断した場合には、再度延期もしくは中止とさせて頂く可能性もございます。
URL:https://beats.stars.ne.jp/schedule/%e3%80%8evoo-doo-tour%e3%80%8f%e6%8c%af%e6%9b%bf%e5%85%ac%e6%bc%94-%e5%a4%9c%e3%81%ae%e9%83%a8
LOCATION:BEAT STATION\, 福岡市中央区渡辺通4-11-4\, 〒810-0004
CATEGORIES:トップ画面に表示する
END:VEVENT
BEGIN:VEVENT
DTSTART;VALUE=DATE:20201025
DTEND;VALUE=DATE:20201026
DTSTAMP:20260421T114739
CREATED:20200529T032019Z
LAST-MODIFIED:20200914T083024Z
UID:2810-1603584000-1603670399@beats.stars.ne.jp
SUMMARY:『VOO DOO TOUR?』振替公演 夕方の部
DESCRIPTION:ドミコ \n■福岡公演につきましては、お手持ちのチケットの整理番号により、夕方公演と夜公演に振り分けをさせていただいております。\n 下記にてご確認をお願いいたします。\n ■夕方■\n 開場17:00 / 開演17:30 → 整理番号1〜100番のお客様\n ■夜■\n 開場20:00 / 開演20:30 → 整理番号100番以降のお客様 \n 振替公演に都合がつかないお客様に関しましては払い戻しをさせていただきます。\n こちらをご確認の上、必ず払い戻し期間内にお手続きをお願いいたします。 \n 〜福岡公演へご来場のお客様へのご案内〜\n ・今回の公演を行うにあたり一人でも多くのお客様にお越し頂けるよう協議を重ねました結果、1日2回公演での開催とさせて頂きます。\n ・開場、開演時間が変更となっております。必ずご自身の整理番号をご確認の上、ご来場くださいますようお願い申し上げます。\n ・政府および自治体、関係各所の感染予防ガイドラインに則り、スタンディングではなく椅子席でのご案内となる可能性がございます。予めご了承ください。\n ・すでに多くのお客様にチケットをご購入頂いており公演を開催するにあたり感染予防ガイドラインに則った収容キャパシティへ収める為、又、この度の日程変更等に伴い、残念ながらご来場のかなわないお客様には払い戻しを実施致します。(万一感染 予防ガイドラインに則った収容キャパシティに収まらない場合、再度延期もしくは中止とさせて頂く可能性がございます)\n ・振替公演へご来場をご希望のお客様は、お手持ちの整理番号がそのまま有効となります。\n ・紛失されないよう大切に保管していただき、振替公演当日必ずチケットをご持参ください。\n ・チケットの紛失やご来場時にチケットをお持ちでない場合は、ご入場をお断りする場合がございます。くれぐれもご注意ください。\n ・LINEチケットでご購入のお客様は、LINEアカウントを削除しないようにご注意ください。\n ・感染状況により公演開催が困難と判断した場合には、再度延期もしくは中止とさせて頂く可能性もございます。 \n  \n 
URL:https://beats.stars.ne.jp/schedule/%e3%80%8evoo-doo-tour%e3%80%8f%e6%8c%af%e6%9b%bf%e5%85%ac%e6%bc%94
LOCATION:BEAT STATION\, 福岡市中央区渡辺通4-11-4\, 〒810-0004
CATEGORIES:トップ画面に表示する
END:VEVENT
BEGIN:VEVENT
DTSTART;VALUE=DATE:20201022
DTEND;VALUE=DATE:20201023
DTSTAMP:20260421T114739
CREATED:20200415T063920Z
LAST-MODIFIED:20200919T055739Z
UID:2681-1603324800-1603411199@beats.stars.ne.jp
SUMMARY:當山みれい LIVE HOUSE TOUR 2020 振替公演延期
DESCRIPTION:當山みれい  \n 平素より當山みれいを応援して頂き、誠にありがとうございます。 \n 現在の国内における新型コロナウイルス感染状況を鑑み、\n お客様の安全を考慮して関係各所協議をした結果、ライブハウスで開催を予定しておりました、\n 10月・11月公演は再度開催延期、仙台公演のみ会場都合により中止にすることになりました。\n 公演を心待ちにしてくださっていた皆様には大変申し訳ございませんが、\n 何卒ご理解ご協力を賜りますようよろしくお願い致します。 \n 延期対象公演は以下となります。\n ・2020/10/14(水) Electric Lady Land【愛知】　＜4/17(金)振替公演＞\n ・2020/10/16(金) am Hall【大阪】　＜4/18(土)振替公演＞\n ・2020/10/22(木) BEAT STATION【福岡】　＜4/3(金)振替公演＞\n ・2020/11/10(火) Veats Shibuya【東京】　＜4/26(日)振替公演＞ \n 中止公演は以下となります。\n ・2020/11/6(金) darwin【宮城】 ＜4/10(金)振替公演＞ \n 振替日程並びにチケットの払戻方法に関しては、現在調整中となりますので\n 追ってお知らせいたします。\n お手元のチケットは振替公演及びチケット払戻にて必要となりますので大切に保管してください。 \n 再度の開催変更により、皆様にご迷惑をおかけすることを深くお詫び申し上げますと共に、\n 一刻も早い終息と、皆様の安全を心よりお祈り申し上げます。 \n 【公演に関するお問合せ】\n H.I.P. 03-3475-9999 https://www.hipjpn.co.jp\n ※新型コロナウイルス感染拡大防止対策の一環として、オペレーターによる受付を休止または受付時間を変更している場合がございます。詳細はH.I.P. HPにてご確認をお願いいたします。
URL:https://beats.stars.ne.jp/schedule/%e7%95%b6%e5%b1%b1%e3%81%bf%e3%82%8c%e3%81%84-live-house-tour-2020-%e6%8c%af%e6%9b%bf%e5%85%ac%e6%bc%94
LOCATION:BEAT STATION\, 福岡市中央区渡辺通4-11-4\, 〒810-0004
CATEGORIES:トップ画面に表示する
END:VEVENT
BEGIN:VEVENT
DTSTART;VALUE=DATE:20201021
DTEND;VALUE=DATE:20201022
DTSTAMP:20260421T114739
CREATED:20201001T121519Z
LAST-MODIFIED:20201012T104831Z
UID:3100-1603238400-1603324799@beats.stars.ne.jp
SUMMARY:CHOICE
DESCRIPTION:観たいアーティストを“CHOICE”する\n LIVE HOUSE Queblick pre.無観客無料生配信サービス！！ \n \n 特設サイトにてライセンスキーを発行！ \n ※無料で視聴できますが、ライセンスキーの取得が必要となりますので、お忘れなく！！ \nライセンスキーの取得は下記より\n ↓ \nhttps://good-place.live/pages/choice
URL:https://beats.stars.ne.jp/schedule/choice
LOCATION:BEAT STATION\, 福岡市中央区渡辺通4-11-4\, 〒810-0004
CATEGORIES:トップ画面に表示する
ORGANIZER;CN="Queblick":MAILTO:info@queblick.com
END:VEVENT
BEGIN:VEVENT
DTSTART;VALUE=DATE:20201018
DTEND;VALUE=DATE:20201019
DTSTAMP:20260421T114739
CREATED:20201002T111556Z
LAST-MODIFIED:20201004T071421Z
UID:3111-1602979200-1603065599@beats.stars.ne.jp
SUMMARY:SunSeaGo presents SunSeaGo ONE MAN LIVE 2020 " SURVIVAL "
DESCRIPTION:SunSeaGo  \n チケット(PassMarket)\n ¥3\,500(1ドリンク込)\n https://passmarket.yahoo.co.jp/event/show/detail/0191xq118ayxn.html\n ※10/3 20:00 販売開始 \n\n 配信\n 【２部】有料チケット ¥2\,000(BASE)\n https://sunseagoshop.thebase.in/\n ※10/3 20:00 販売開始
URL:https://beats.stars.ne.jp/schedule/sunseago-presents-sunseago-one-man-live-2020-survival
CATEGORIES:トップ画面に表示する
END:VEVENT
END:VCALENDAR