BEGIN:VCALENDAR
VERSION:2.0
PRODID:-//福岡のライブハウス BEAT STATION - ECPv6.10.3//NONSGML v1.0//EN
CALSCALE:GREGORIAN
METHOD:PUBLISH
X-WR-CALNAME:福岡のライブハウス BEAT STATION
X-ORIGINAL-URL:https://beats.stars.ne.jp
X-WR-CALDESC:福岡のライブハウス BEAT STATION のイベント
REFRESH-INTERVAL;VALUE=DURATION:PT1H
X-Robots-Tag:noindex
X-PUBLISHED-TTL:PT1H
BEGIN:VTIMEZONE
TZID:Asia/Tokyo
BEGIN:STANDARD
TZOFFSETFROM:+0900
TZOFFSETTO:+0900
TZNAME:JST
DTSTART:20190101T000000
END:STANDARD
END:VTIMEZONE
BEGIN:VEVENT
DTSTART;VALUE=DATE:20190623
DTEND;VALUE=DATE:20190624
DTSTAMP:20260423T074931
CREATED:20190510T070217Z
LAST-MODIFIED:20190510T070534Z
UID:1639-1561248000-1561334399@beats.stars.ne.jp
SUMMARY:SCARS OF MOMENT主催 『ARE YOU BURNING?-07- 美女と野獣と金髪2019』
DESCRIPTION:SCARS OF MOMENT\n Art In Storm\n NOAHTIC\n TSP(東京)\n D_Drive(大阪)\n 大山まき(大阪)
URL:https://beats.stars.ne.jp/schedule/scars-of-moment%e4%b8%bb%e5%82%ac-%e3%80%8eare-you-burning-07-%e7%be%8e%e5%a5%b3%e3%81%a8%e9%87%8e%e7%8d%a3%e3%81%a8%e9%87%91%e9%ab%aa2019%e3%80%8f
LOCATION:BEAT STATION\, 福岡市中央区渡辺通4-11-4\, 〒810-0004
CATEGORIES:トップ画面に表示する
END:VEVENT
BEGIN:VEVENT
DTSTART;VALUE=DATE:20190622
DTEND;VALUE=DATE:20190623
DTSTAMP:20260423T074931
CREATED:20190122T084042Z
LAST-MODIFIED:20190508T055803Z
UID:1370-1561161600-1561247999@beats.stars.ne.jp
SUMMARY:the dresscodes TOUR 2019
DESCRIPTION:ドレスコード \n\nチケット一般発売 3/2 10:00〜
URL:https://beats.stars.ne.jp/schedule/the-dresscodes-tour-2019
LOCATION:BEAT STATION\, 福岡市中央区渡辺通4-11-4\, 〒810-0004
CATEGORIES:トップ画面に表示する
END:VEVENT
BEGIN:VEVENT
DTSTART;VALUE=DATE:20190621
DTEND;VALUE=DATE:20190622
DTSTAMP:20260423T074931
CREATED:20190620T105402Z
LAST-MODIFIED:20190620T105402Z
UID:1735-1561075200-1561161599@beats.stars.ne.jp
SUMMARY:アコースティックライブ
DESCRIPTION:松山堂クロトリアン\nArt in Storm
URL:https://beats.stars.ne.jp/schedule/%e3%82%a2%e3%82%b3%e3%83%bc%e3%82%b9%e3%83%86%e3%82%a3%e3%83%83%e3%82%af%e3%83%a9%e3%82%a4%e3%83%96
LOCATION:BEAT STATION\, 福岡市中央区渡辺通4-11-4\, 〒810-0004
END:VEVENT
BEGIN:VEVENT
DTSTART;VALUE=DATE:20190616
DTEND;VALUE=DATE:20190617
DTSTAMP:20260423T074931
CREATED:20190417T092750Z
LAST-MODIFIED:20190612T114012Z
UID:1569-1560643200-1560729599@beats.stars.ne.jp
SUMMARY:HARVEST Special
DESCRIPTION:KAZRU\n Natural Radio Station\n BRIDGET\n FREAK\n Fuma\n Good Coming\n 星屑ロンリネス\n Monday Dirty Jokes\n BOX OF CHOCOLATES\n WORLD LAUGH
URL:https://beats.stars.ne.jp/schedule/harvest-special
LOCATION:BEAT STATION\, 福岡市中央区渡辺通4-11-4\, 〒810-0004
CATEGORIES:トップ画面に表示する
END:VEVENT
BEGIN:VEVENT
DTSTART;VALUE=DATE:20190615
DTEND;VALUE=DATE:20190616
DTSTAMP:20260423T074931
CREATED:20190426T115040Z
LAST-MODIFIED:20190426T115040Z
UID:1626-1560556800-1560643199@beats.stars.ne.jp
SUMMARY:世界初・人間輸血：すき焼きソング!上を向いて野茂200。
DESCRIPTION:６月１５日（土） \n世界初・人間輸血：すき焼きソング!上を向いて野茂200。\nWorld’s first blood transfusion between the man! \nwith Nomo wins 200 & The Sukiyaki Song\, A billboard ranking 1\n \n18:00 / 18:30\n前2\,000/当2\,500＋D代\n\n<出演>\nさはら\nPSB\nritchie703sp(小倉)\nCROWDIA(熊本)\n銃爪-HIKIGANE-\nGxTxB
URL:https://beats.stars.ne.jp/schedule/%e4%b8%96%e7%95%8c%e5%88%9d%e3%83%bb%e4%ba%ba%e9%96%93%e8%bc%b8%e8%a1%80%ef%bc%9a%e3%81%99%e3%81%8d%e7%84%bc%e3%81%8d%e3%82%bd%e3%83%b3%e3%82%b0%e4%b8%8a%e3%82%92%e5%90%91%e3%81%84%e3%81%a6%e9%87%8e
LOCATION:BEAT STATION\, 福岡市中央区渡辺通4-11-4\, 〒810-0004
CATEGORIES:トップ画面に表示する
END:VEVENT
BEGIN:VEVENT
DTSTART;VALUE=DATE:20190614
DTEND;VALUE=DATE:20190615
DTSTAMP:20260423T074931
CREATED:20190417T092505Z
LAST-MODIFIED:20190417T092505Z
UID:1567-1560470400-1560556799@beats.stars.ne.jp
SUMMARY:LEGO BIG MORL “ Cat Walk “ TOUR 2019 
DESCRIPTION:LEGO BIG MORL\n \n \n \n \nチケット一般発売：4/20
URL:https://beats.stars.ne.jp/schedule/lego-big-morl-cat-walk-tour-2019
LOCATION:BEAT STATION\, 福岡市中央区渡辺通4-11-4\, 〒810-0004
END:VEVENT
BEGIN:VEVENT
DTSTART;VALUE=DATE:20190612
DTEND;VALUE=DATE:20190613
DTSTAMP:20260423T074931
CREATED:20190422T090321Z
LAST-MODIFIED:20190508T055738Z
UID:1593-1560297600-1560383999@beats.stars.ne.jp
SUMMARY:co-star presents "The Party" tour 2019
DESCRIPTION:メンバー \n Guitar: Sho Kamijo\, Shu Fujiyama \n Bass: Kenshi Takimoto\, Isamu Mori \n keyboards: Kaz Kato\, Penny-K \n Drums:Toshiyuki Takao \n DJ:DJ Daishizen \n Special Guest Vocal Mihiro：吉野晃一 \n 数多くのトップアーティストを支える最強サポートミュージシャンが集結。 \n その名もco-star(コースター)。 \n co-starが豪華客演陣を迎え、オリジナルアルバムをリリース！ \n そしてその参加アーティストと共に全国をまわるリリースツアーが決定！ \n 最高峰を体感せよ！！！ \n\n チケット販売リンク\n https://t.livepocket.jp/e/qpeqf \n co-starホームページ\n https://co-star.info/
URL:https://beats.stars.ne.jp/schedule/co-star-presents-the-party-tour-2019
LOCATION:BEAT STATION\, 福岡市中央区渡辺通4-11-4\, 〒810-0004
CATEGORIES:トップ画面に表示する
END:VEVENT
BEGIN:VEVENT
DTSTART;VALUE=DATE:20190609
DTEND;VALUE=DATE:20190610
DTSTAMP:20260423T074931
CREATED:20190417T090748Z
LAST-MODIFIED:20190417T090748Z
UID:1565-1560038400-1560124799@beats.stars.ne.jp
SUMMARY:indigo la End ONEMAN TOUR 2019 「街路樹にて」
DESCRIPTION:indigo la End
URL:https://beats.stars.ne.jp/schedule/indigo-la-end-oneman-tour-2019-%e3%80%8c%e8%a1%97%e8%b7%af%e6%a8%b9%e3%81%ab%e3%81%a6%e3%80%8d
LOCATION:BEAT STATION\, 福岡市中央区渡辺通4-11-4\, 〒810-0004
END:VEVENT
BEGIN:VEVENT
DTSTART;VALUE=DATE:20190608
DTEND;VALUE=DATE:20190609
DTSTAMP:20260423T074931
CREATED:20190526T050431Z
LAST-MODIFIED:20190601T081008Z
UID:1675-1559952000-1560038399@beats.stars.ne.jp
SUMMARY:2019ワンマンツアー「神様の気まぐれ」
DESCRIPTION: the Raid. \n 
URL:https://beats.stars.ne.jp/schedule/2019%e3%83%af%e3%83%b3%e3%83%9e%e3%83%b3%e3%83%84%e3%82%a2%e3%83%bc%e3%80%8c%e7%a5%9e%e6%a7%98%e3%81%ae%e6%b0%97%e3%81%be%e3%81%90%e3%82%8c%e3%80%8d-2
LOCATION:BEAT STATION\, 福岡市中央区渡辺通4-11-4\, 〒810-0004
END:VEVENT
BEGIN:VEVENT
DTSTART;VALUE=DATE:20190607
DTEND;VALUE=DATE:20190608
DTSTAMP:20260423T074931
CREATED:20190526T050208Z
LAST-MODIFIED:20190601T081039Z
UID:1673-1559865600-1559951999@beats.stars.ne.jp
SUMMARY:2019ワンマンツアー「神様の気まぐれ」
DESCRIPTION:the Raid.
URL:https://beats.stars.ne.jp/schedule/2019%e3%83%af%e3%83%b3%e3%83%9e%e3%83%b3%e3%83%84%e3%82%a2%e3%83%bc%e3%80%8c%e7%a5%9e%e6%a7%98%e3%81%ae%e6%b0%97%e3%81%be%e3%81%90%e3%82%8c%e3%80%8d
LOCATION:BEAT STATION\, 福岡市中央区渡辺通4-11-4\, 〒810-0004
END:VEVENT
BEGIN:VEVENT
DTSTART;VALUE=DATE:20190605
DTEND;VALUE=DATE:20190606
DTSTAMP:20260423T074931
CREATED:20190413T091530Z
LAST-MODIFIED:20190604T053500Z
UID:1530-1559692800-1559779199@beats.stars.ne.jp
SUMMARY:湖月じゃナイル：Spicy or Mild\, Taste so good! 
DESCRIPTION:湖月じゃナイル：Spicy or Mild\, Taste so good! \n 17:00 / 17:30\n 2\,000 / 2\,500+1D \n ＊アコースティックライブだけども、いつもと違う雰囲気で、\n ブルージーなスタイルや、男気溢れる熱唱や、アンプラグドスタイルのアコースティックバンドなど、弾き語りだけではない\n 魅力いっぱいでお送りします。 \n ＜出演＞\n 70’s birds(山口)\n DAIKI\n 「Azurely Bonds」(エージャリーボンズ)\n スラッコ(スラップ・スティック・カフェ：アコースティック)\n Clarté(クラルテ)\n Ta:KaZIVA
URL:https://beats.stars.ne.jp/schedule/1530
CATEGORIES:トップ画面に表示する
END:VEVENT
BEGIN:VEVENT
DTSTART;VALUE=DATE:20190602
DTEND;VALUE=DATE:20190603
DTSTAMP:20260423T074931
CREATED:20190526T045814Z
LAST-MODIFIED:20190526T045814Z
UID:1670-1559433600-1559519999@beats.stars.ne.jp
SUMMARY:「Live Tour 2019 -DEEPER-」
DESCRIPTION:「Live Tour 2019 -DEEPER-」 \nしゅーず \n\n16:30/17:00\n3\,500
URL:https://beats.stars.ne.jp/schedule/%e3%80%8clive-tour-2019-deeper-%e3%80%8d
LOCATION:BEAT STATION\, 福岡市中央区渡辺通4-11-4\, 〒810-0004
END:VEVENT
BEGIN:VEVENT
DTSTART;VALUE=DATE:20190601
DTEND;VALUE=DATE:20190602
DTSTAMP:20260423T074931
CREATED:20190417T085618Z
LAST-MODIFIED:20190417T085618Z
UID:1563-1559347200-1559433599@beats.stars.ne.jp
SUMMARY:Penguin Go a Road 2019
DESCRIPTION:PENGUIN RESEARCH
URL:https://beats.stars.ne.jp/schedule/penguin-go-a-road-2019
LOCATION:BEAT STATION\, 福岡市中央区渡辺通4-11-4\, 〒810-0004
END:VEVENT
BEGIN:VEVENT
DTSTART;VALUE=DATE:20190531
DTEND;VALUE=DATE:20190601
DTSTAMP:20260423T074931
CREATED:20190417T084242Z
LAST-MODIFIED:20190526T045213Z
UID:1559-1559260800-1559347199@beats.stars.ne.jp
SUMMARY:「TOMOE 2019」
DESCRIPTION:tacica \nTHE NOVEMBERS \nPeople In The Box
URL:https://beats.stars.ne.jp/schedule/%e3%80%8ctomoe-2019%e3%80%8d
LOCATION:BEAT STATION\, 福岡市中央区渡辺通4-11-4\, 〒810-0004
END:VEVENT
BEGIN:VEVENT
DTSTART;VALUE=DATE:20190526
DTEND;VALUE=DATE:20190527
DTSTAMP:20260423T074931
CREATED:20190417T083816Z
LAST-MODIFIED:20190417T083816Z
UID:1557-1558828800-1558915199@beats.stars.ne.jp
SUMMARY:ONE N' ONLY～EBiSSH×SBC～ Dark Knight
DESCRIPTION:ONE N’ ONLY
URL:https://beats.stars.ne.jp/schedule/one-n-only%ef%bd%9eebisshxsbc%ef%bd%9e-dark-knight
LOCATION:BEAT STATION\, 福岡市中央区渡辺通4-11-4\, 〒810-0004
END:VEVENT
BEGIN:VEVENT
DTSTART;VALUE=DATE:20190525
DTEND;VALUE=DATE:20190526
DTSTAMP:20260423T074931
CREATED:20190417T083430Z
LAST-MODIFIED:20190417T083430Z
UID:1555-1558742400-1558828799@beats.stars.ne.jp
SUMMARY:愛 am BEST\, too tour 2019～イエス！ここが家ッス！～
DESCRIPTION:大塚愛
URL:https://beats.stars.ne.jp/schedule/%e6%84%9b-am-best-too-tour-2019%ef%bd%9e%e3%82%a4%e3%82%a8%e3%82%b9%ef%bc%81%e3%81%93%e3%81%93%e3%81%8c%e5%ae%b6%e3%83%83%e3%82%b9%ef%bc%81%ef%bd%9e
LOCATION:BEAT STATION\, 福岡市中央区渡辺通4-11-4\, 〒810-0004
END:VEVENT
BEGIN:VEVENT
DTSTART;VALUE=DATE:20190524
DTEND;VALUE=DATE:20190525
DTSTAMP:20260423T074931
CREATED:20190417T082957Z
LAST-MODIFIED:20190417T082957Z
UID:1553-1558656000-1558742399@beats.stars.ne.jp
SUMMARY:青SHUN学園主催『青春☆ワンダーランド in 福岡‼ vol\,４（前夜祭）』
DESCRIPTION:青SHUN学園（福岡）\nSAY-LA（東京）\n桃知みなみ（東京）\nQunQun（福岡）\nくるーず～CRUiSE!～（福岡）\n浅草RainboWブリッジ（全国）\nTeamくれれっ娘！（北海道）\nS☆UTHERN CROSS（鹿児島）\n九州女子翼（福岡）\n空想モーメント（福岡）\nCherish（福岡）\nリミテッド（福岡）\n他。
URL:https://beats.stars.ne.jp/schedule/%e9%9d%92shun%e5%ad%a6%e5%9c%92%e4%b8%bb%e5%82%ac%e3%80%8e%e9%9d%92%e6%98%a5%e2%98%86%e3%83%af%e3%83%b3%e3%83%80%e3%83%bc%e3%83%a9%e3%83%b3%e3%83%89-in-%e7%a6%8f%e5%b2%a1%e2%80%bc-vol%ef%bc%94
LOCATION:BEAT STATION\, 福岡市中央区渡辺通4-11-4\, 〒810-0004
END:VEVENT
BEGIN:VEVENT
DTSTART;VALUE=DATE:20190519
DTEND;VALUE=DATE:20190520
DTSTAMP:20260423T074931
CREATED:20190417T082757Z
LAST-MODIFIED:20190508T055656Z
UID:1550-1558224000-1558310399@beats.stars.ne.jp
SUMMARY:神風センセーション リベンジワンマン「THENCE」
DESCRIPTION:神風センセーション
URL:https://beats.stars.ne.jp/schedule/%e7%a5%9e%e9%a2%a8%e3%82%bb%e3%83%b3%e3%82%bb%e3%83%bc%e3%82%b7%e3%83%a7%e3%83%b3-%e3%83%aa%e3%83%99%e3%83%b3%e3%82%b8%e3%83%af%e3%83%b3%e3%83%9e%e3%83%b3%e3%80%8cthence%e3%80%8d
LOCATION:BEAT STATION\, 福岡市中央区渡辺通4-11-4\, 〒810-0004
CATEGORIES:トップ画面に表示する
END:VEVENT
BEGIN:VEVENT
DTSTART;VALUE=DATE:20190512
DTEND;VALUE=DATE:20190513
DTSTAMP:20260423T074931
CREATED:20190417T082101Z
LAST-MODIFIED:20190417T082101Z
UID:1548-1557619200-1557705599@beats.stars.ne.jp
SUMMARY:CREATE 解散ONEMAN LIVE『LAST RECREATION』
DESCRIPTION:CREATE
URL:https://beats.stars.ne.jp/schedule/create-%e8%a7%a3%e6%95%a3oneman-live%e3%80%8elast-recreation%e3%80%8f
LOCATION:BEAT STATION\, 福岡市中央区渡辺通4-11-4\, 〒810-0004
END:VEVENT
BEGIN:VEVENT
DTSTART;VALUE=DATE:20190511
DTEND;VALUE=DATE:20190512
DTSTAMP:20260423T074931
CREATED:20190417T081902Z
LAST-MODIFIED:20190417T081902Z
UID:1546-1557532800-1557619199@beats.stars.ne.jp
SUMMARY:M@ru PRESENTS CROSS ROCKS vol.31
DESCRIPTION:黒×白 \nLAST NAME\n鋼我忍法帖 其ノ参 \nCross ROCKS faith\nここでpepeして。\nmaru with spread beaver\nThe HYPER JAMs
URL:https://beats.stars.ne.jp/schedule/mru-presents-cross-rocks-vol-31
LOCATION:BEAT STATION\, 福岡市中央区渡辺通4-11-4\, 〒810-0004
END:VEVENT
BEGIN:VEVENT
DTSTART;VALUE=DATE:20190506
DTEND;VALUE=DATE:20190507
DTSTAMP:20260423T074931
CREATED:20190417T081655Z
LAST-MODIFIED:20190417T081655Z
UID:1544-1557100800-1557187199@beats.stars.ne.jp
SUMMARY:long time no see
DESCRIPTION:Starlights in the Water\nTAKURO’s INSPIRAL\nCrossZ’ellier\nMIX UP\nKiKi\nKISS SCENE
URL:https://beats.stars.ne.jp/schedule/long-time-no-see
LOCATION:BEAT STATION\, 福岡市中央区渡辺通4-11-4\, 〒810-0004
END:VEVENT
BEGIN:VEVENT
DTSTART;VALUE=DATE:20190505
DTEND;VALUE=DATE:20190506
DTSTAMP:20260423T074931
CREATED:20190423T074211Z
LAST-MODIFIED:20190423T080128Z
UID:1606-1557014400-1557100799@beats.stars.ne.jp
SUMMARY:Kyushu Girls Wing vol\,4~新元号スペシャル~
DESCRIPTION:アップアップガールズ(仮)\nREBIRTH\nパピロジェ\nカラフルスクリーム\nkolme\n原田珠々華\nCROWN POP\nlyrical school\n空想モーメントL+\nパピマシェ\nワンダーウィード\nHello youth\nQunQun\nくるーず〜CRUiSE!\n夢みるアドレセンス\n九州女子翼
URL:https://beats.stars.ne.jp/schedule/kyushu-girls-wing-vol4%e6%96%b0%e5%85%83%e5%8f%b7%e3%82%b9%e3%83%9a%e3%82%b7%e3%83%a3%e3%83%ab
LOCATION:BEAT STATION\, 福岡市中央区渡辺通4-11-4\, 〒810-0004
CATEGORIES:トップ画面に表示する
END:VEVENT
BEGIN:VEVENT
DTSTART;VALUE=DATE:20190503
DTEND;VALUE=DATE:20190504
DTSTAMP:20260423T074931
CREATED:20190417T081409Z
LAST-MODIFIED:20190417T081409Z
UID:1542-1556841600-1556927999@beats.stars.ne.jp
SUMMARY:めいちゃんワンマンライブ5 ツアー組んでみたんですがどうですか？
DESCRIPTION:めいちゃん
URL:https://beats.stars.ne.jp/schedule/%e3%82%81%e3%81%84%e3%81%a1%e3%82%83%e3%82%93%e3%83%af%e3%83%b3%e3%83%9e%e3%83%b3%e3%83%a9%e3%82%a4%e3%83%965-%e3%83%84%e3%82%a2%e3%83%bc%e7%b5%84%e3%82%93%e3%81%a7%e3%81%bf%e3%81%9f%e3%82%93%e3%81%a7
LOCATION:BEAT STATION\, 福岡市中央区渡辺通4-11-4\, 〒810-0004
END:VEVENT
BEGIN:VEVENT
DTSTART;VALUE=DATE:20190502
DTEND;VALUE=DATE:20190503
DTSTAMP:20260423T074931
CREATED:20190119T090117Z
LAST-MODIFIED:20190410T085153Z
UID:1365-1556755200-1556841599@beats.stars.ne.jp
SUMMARY:Be Coming it! -ビーカミ・バンドバトル！2019 < お花見：コピバン・バトル！atビートステーション。
DESCRIPTION:Be Coming it! -ビーカミ・バンドバトル！2019 < コピバン応援新学期：新社会人：援助企画・\n お花見：コピバン・バトル！atビートステーション。 > \n ＊コピバン対象のバンドバトルです。\n 新年号スタートイベントのコピバンバトル二日目は、\n 以前に優勝したバンドによるグランドバトル！\n 見応え十分です。 \n ＜バトル概要＞\n ■場所：福岡ビートステーション。\n ◾️期日：2019年5月２日。\n ■各日１位バンドは100％キャッシュバック。(結果ノルマ無し)\n ■各日２位バンドは50％キャッシュバック。(結果ノルマ半分)\n ■各日とも入賞上位２組が権利。\n ■上位２組が同率１位の場合は２組とも100％バック。(１位・２位ではなくダブル１位とします。)\n ■１位が１組、２位が同率２組の場合は２組とも50％バック。(１位１組・２位２組の３組入賞とします。)\n ■オリジナル曲での出場資格は無し、オリジナル曲演奏した時点で失格とします。(笑)\n ■洋楽・邦楽は問いません。\n ■勝敗は観客投票２バンド選択により決定。\n ■当日全組演奏終了後に結果発表。\n ■オープニングSE等も演奏時間に含まれます。 \n 〈出演〉\n ●きっちゅ！\n ●jam PJ\n ●ZIGGY FUKUOKA
URL:https://beats.stars.ne.jp/schedule/be-coming-it-%e3%83%93%e3%83%bc%e3%82%ab%e3%83%9f%e3%83%bb%e3%83%90%e3%83%b3%e3%83%89%e3%83%90%e3%83%88%e3%83%ab%ef%bc%812019-%e3%81%8a%e8%8a%b1%e8%a6%8b%ef%bc%9a%e3%82%b3%e3%83%94%e3%83%90-2
CATEGORIES:トップ画面に表示する
END:VEVENT
BEGIN:VEVENT
DTSTART;VALUE=DATE:20190501
DTEND;VALUE=DATE:20190502
DTSTAMP:20260423T074931
CREATED:20190119T085826Z
LAST-MODIFIED:20190423T041847Z
UID:1362-1556668800-1556755199@beats.stars.ne.jp
SUMMARY:Be Coming it! -ビーカミ・バンドバトル！2019 <  お花見：コピバン・バトル！atビートステーション。 > 
DESCRIPTION:Be Coming it! -ビーカミ・バンドバトル！2019 < コピバン応援新学期：新社会人：援助企画・\n お花見：コピバン・バトル！atビートステーション。 > \n ＊コピバン対象のバンドバトルです。 \n ＜バトル概要＞\n ■場所：福岡ビートステーション。\n ◾️期日：2019年5月1日。\n ■各日１位バンドは100％キャッシュバック。(結果ノルマ無し)\n ■各日２位バンドは50％キャッシュバック。(結果ノルマ半分)\n ■各日とも入賞上位２組が権利。\n ■上位２組が同率１位の場合は２組とも100％バック。(１位・２位ではなくダブル１位とします。)\n ■１位が１組、２位が同率２組の場合は２組とも50％バック。(１位１組・２位２組の３組入賞とします。)\n ■オリジナル曲での出場資格は無し、オリジナル曲演奏した時点で失格とします。(笑)\n ■洋楽・邦楽は問いません。\n ■勝敗は観客投票２バンド選択により決定。\n ■当日全組演奏終了後に結果発表。\n ■オープニングSE等も演奏時間に含まれます。 \n ＜出演＞\n ●なぞのくさ(熊本)\n ●ゼブラ・ハイマッキー\n ●aicoraとピンキースカイ\n ●FMO(フクオカ・マジック・オーケストラ)\n ●ドスまどらーず
URL:https://beats.stars.ne.jp/schedule/be-coming-it-%e3%83%93%e3%83%bc%e3%82%ab%e3%83%9f%e3%83%bb%e3%83%90%e3%83%b3%e3%83%89%e3%83%90%e3%83%88%e3%83%ab%ef%bc%812019-%e3%81%8a%e8%8a%b1%e8%a6%8b%ef%bc%9a%e3%82%b3%e3%83%94%e3%83%90
CATEGORIES:トップ画面に表示する
END:VEVENT
BEGIN:VEVENT
DTSTART;VALUE=DATE:20190430
DTEND;VALUE=DATE:20190501
DTSTAMP:20260423T074931
CREATED:20190302T061231Z
LAST-MODIFIED:20190508T055624Z
UID:1451-1556582400-1556668799@beats.stars.ne.jp
SUMMARY:平成ラストスタンド、ゆく年くる年、 アコースティックサウンドで綴る、去り行く平成へのオマージュと来たる新年号への期待へ！
DESCRIPTION:平成ラストスタンド、ゆく年くる年、\nアコースティックサウンドで綴る、\n去り行く平成へのオマージュと来たる新年号への期待へ！ \n開場14:40 / 開演15:00\n前2\,000/当2\,500＋D代。 \n＜出演＞\n●GLAXY\n●さはら\n●ヤスニシオ(熊本)\n●北風と太陽\n●DAIKI\n●ダミアンwithヴァンパイア(佐賀)\n●TRIBAL RED\n●joebeth（熊本）\n● 妖女 with yoccy\n●Clarté(クラルテ)\n全10組
URL:https://beats.stars.ne.jp/schedule/%e5%b9%b3%e6%88%90%e3%83%a9%e3%82%b9%e3%83%88%e3%82%b9%e3%82%bf%e3%83%b3%e3%83%89%e3%80%81%e3%82%86%e3%81%8f%e5%b9%b4%e3%81%8f%e3%82%8b%e5%b9%b4%e3%80%81-%e3%82%a2%e3%82%b3%e3%83%bc%e3%82%b9%e3%83%86
END:VEVENT
BEGIN:VEVENT
DTSTART;VALUE=DATE:20190429
DTEND;VALUE=DATE:20190430
DTSTAMP:20260423T074931
CREATED:20190115T075915Z
LAST-MODIFIED:20190115T075915Z
UID:1348-1556496000-1556582399@beats.stars.ne.jp
SUMMARY:THE FOREVER YOUNG “俺が肩を抱いてやるからツアー”
DESCRIPTION:THE FOREVER YOUNG \n  \n  \n\nチケット一般発売 2/2〜
URL:https://beats.stars.ne.jp/schedule/the-forever-young-%e4%bf%ba%e3%81%8c%e8%82%a9%e3%82%92%e6%8a%b1%e3%81%84%e3%81%a6%e3%82%84%e3%82%8b%e3%81%8b%e3%82%89%e3%83%84%e3%82%a2%e3%83%bc
LOCATION:BEAT STATION\, 福岡市中央区渡辺通4-11-4\, 〒810-0004
END:VEVENT
BEGIN:VEVENT
DTSTART;VALUE=DATE:20190428
DTEND;VALUE=DATE:20190429
DTSTAMP:20260423T074931
CREATED:20190421T090355Z
LAST-MODIFIED:20190421T090355Z
UID:1590-1556409600-1556495999@beats.stars.ne.jp
SUMMARY:LIVE STATION
DESCRIPTION:phase2\nザクロ\nNITROBOX\n10.8℃の世界線\nRaspberry Dream
URL:https://beats.stars.ne.jp/schedule/live-station
LOCATION:BEAT STATION\, 福岡市中央区渡辺通4-11-4\, 〒810-0004
END:VEVENT
BEGIN:VEVENT
DTSTART;VALUE=DATE:20190427
DTEND;VALUE=DATE:20190428
DTSTAMP:20260423T074931
CREATED:20190307T122623Z
LAST-MODIFIED:20190307T122623Z
UID:1491-1556323200-1556409599@beats.stars.ne.jp
SUMMARY:SWISH TOUR 2019 〜Spring Edition〜
DESCRIPTION:IVVY\nCOLOR CREATION\nTHE BEAT GARDEN \nDREAM MAKER\nBANQUET\nFIZZY POP（ナチュラル炭酸)\nFREAK \nMADKID\nUNIONE
URL:https://beats.stars.ne.jp/schedule/swish-tour-2019-%e3%80%9cspring-edition%e3%80%9c
LOCATION:BEAT STATION\, 福岡市中央区渡辺通4-11-4\, 〒810-0004
END:VEVENT
BEGIN:VEVENT
DTSTART;VALUE=DATE:20190426
DTEND;VALUE=DATE:20190427
DTSTAMP:20260423T074931
CREATED:20181228T112822Z
LAST-MODIFIED:20190508T055618Z
UID:1263-1556236800-1556323199@beats.stars.ne.jp
SUMMARY:カッペONEMAN TOUR カッパじゃなくて、カッペです。 inaカッペツアー～九州編～
DESCRIPTION:カッペ
URL:https://beats.stars.ne.jp/schedule/%e3%82%ab%e3%83%83%e3%83%9aoneman-tour-%e3%82%ab%e3%83%83%e3%83%91%e3%81%98%e3%82%83%e3%81%aa%e3%81%8f%e3%81%a6%e3%80%81%e3%82%ab%e3%83%83%e3%83%9a%e3%81%a7%e3%81%99%e3%80%82-ina%e3%82%ab%e3%83%83
LOCATION:BEAT STATION\, 福岡市中央区渡辺通4-11-4\, 〒810-0004
END:VEVENT
END:VCALENDAR