BEGIN:VCALENDAR
VERSION:2.0
PRODID:-//福岡のライブハウス BEAT STATION - ECPv6.10.3//NONSGML v1.0//EN
CALSCALE:GREGORIAN
METHOD:PUBLISH
X-WR-CALNAME:福岡のライブハウス BEAT STATION
X-ORIGINAL-URL:https://beats.stars.ne.jp
X-WR-CALDESC:福岡のライブハウス BEAT STATION のイベント
REFRESH-INTERVAL;VALUE=DURATION:PT1H
X-Robots-Tag:noindex
X-PUBLISHED-TTL:PT1H
BEGIN:VTIMEZONE
TZID:Asia/Tokyo
BEGIN:STANDARD
TZOFFSETFROM:+0900
TZOFFSETTO:+0900
TZNAME:JST
DTSTART:20200101T000000
END:STANDARD
END:VTIMEZONE
BEGIN:VEVENT
DTSTART;VALUE=DATE:20201021
DTEND;VALUE=DATE:20201022
DTSTAMP:20260421T073907
CREATED:20201001T121519Z
LAST-MODIFIED:20201012T104831Z
UID:3100-1603238400-1603324799@beats.stars.ne.jp
SUMMARY:CHOICE
DESCRIPTION:観たいアーティストを“CHOICE”する\n LIVE HOUSE Queblick pre.無観客無料生配信サービス！！ \n \n 特設サイトにてライセンスキーを発行！ \n ※無料で視聴できますが、ライセンスキーの取得が必要となりますので、お忘れなく！！ \nライセンスキーの取得は下記より\n ↓ \nhttps://good-place.live/pages/choice
URL:https://beats.stars.ne.jp/schedule/choice
LOCATION:BEAT STATION\, 福岡市中央区渡辺通4-11-4\, 〒810-0004
CATEGORIES:トップ画面に表示する
ORGANIZER;CN="Queblick":MAILTO:info@queblick.com
END:VEVENT
BEGIN:VEVENT
DTSTART;VALUE=DATE:20201018
DTEND;VALUE=DATE:20201019
DTSTAMP:20260421T073907
CREATED:20201002T111556Z
LAST-MODIFIED:20201004T071421Z
UID:3111-1602979200-1603065599@beats.stars.ne.jp
SUMMARY:SunSeaGo presents SunSeaGo ONE MAN LIVE 2020 " SURVIVAL "
DESCRIPTION:SunSeaGo  \n チケット(PassMarket)\n ¥3\,500(1ドリンク込)\n https://passmarket.yahoo.co.jp/event/show/detail/0191xq118ayxn.html\n ※10/3 20:00 販売開始 \n\n 配信\n 【２部】有料チケット ¥2\,000(BASE)\n https://sunseagoshop.thebase.in/\n ※10/3 20:00 販売開始
URL:https://beats.stars.ne.jp/schedule/sunseago-presents-sunseago-one-man-live-2020-survival
CATEGORIES:トップ画面に表示する
END:VEVENT
BEGIN:VEVENT
DTSTART;VALUE=DATE:20201018
DTEND;VALUE=DATE:20201019
DTSTAMP:20260421T073907
CREATED:20201002T111532Z
LAST-MODIFIED:20201004T071240Z
UID:3107-1602979200-1603065599@beats.stars.ne.jp
SUMMARY:SunSeaGo presents " otonari -music festival- "
DESCRIPTION:SunSeaGo\nNatural Radio Station\n香奈\n那珂川仁美\n星屑ロンリネス\n THE REMAIN \n\n チケット(PassMarket)\n ¥3\,500(1ドリンク込)\n 【１部】\n https://passmarket.yahoo.co.jp/event/show/detail/01er3m118axeq.html\n ※10/3 20:00 販売開始 \n  \n\n 配信\n 【１部】\n https://www.youtube.com/channel/UCx5E8cObhTUzoA8AQL-gxJQ
URL:https://beats.stars.ne.jp/schedule/sunseago-presents-otonari-music-festival
LOCATION:BEAT STATION\, 福岡市中央区渡辺通4-11-4\, 〒810-0004
CATEGORIES:トップ画面に表示する
END:VEVENT
BEGIN:VEVENT
DTSTART;VALUE=DATE:20201016
DTEND;VALUE=DATE:20201017
DTSTAMP:20260421T073907
CREATED:20200805T115435Z
LAST-MODIFIED:20201016T060001Z
UID:2927-1602806400-1602892799@beats.stars.ne.jp
SUMMARY:アコースティックWARS/十人十色:生存競争！ The survival war for Life competition
DESCRIPTION:AzurelyBonds\n\n\nTRIBAL RED\nHITORI-GUY\n\n\nダミアンwithヴァンパイア\n\n\nえみやん\n\n  \n配信はコチラから\n https://youtu.be/FpbROMPf59I
URL:https://beats.stars.ne.jp/schedule/%e3%82%a2%e3%82%b3%e3%83%bc%e3%82%b9%e3%83%86%e3%82%a3%e3%83%83%e3%82%afwars-%e5%8d%81%e4%ba%ba%e5%8d%81%e8%89%b2%e7%94%9f%e5%ad%98%e7%ab%b6%e4%ba%89%ef%bc%81-the-survival-war-for-life-competition
LOCATION:BEAT STATION\, 福岡市中央区渡辺通4-11-4\, 〒810-0004
CATEGORIES:トップ画面に表示する
END:VEVENT
BEGIN:VEVENT
DTSTART;VALUE=DATE:20201014
DTEND;VALUE=DATE:20201015
DTSTAMP:20260421T073907
CREATED:20200401T100349Z
LAST-MODIFIED:20200903T092203Z
UID:2641-1602633600-1602719999@beats.stars.ne.jp
SUMMARY:四星球メディカルミラクルワンマンツアー 振替公演 会場変更
DESCRIPTION:四星球 \n  \n※本公演は会場がZepp FUKUOKAに変更となっております。\nご来場のお客様はお間違えない様お気をつけください。
URL:https://beats.stars.ne.jp/schedule/%e5%9b%9b%e6%98%9f%e7%90%83%e3%83%a1%e3%83%87%e3%82%a3%e3%82%ab%e3%83%ab%e3%83%9f%e3%83%a9%e3%82%af%e3%83%ab%e3%83%af%e3%83%b3%e3%83%9e%e3%83%b3%e3%83%84%e3%82%a2%e3%83%bc-%e6%8c%af%e6%9b%bf%e5%85%ac
LOCATION:BEAT STATION\, 福岡市中央区渡辺通4-11-4\, 〒810-0004
CATEGORIES:トップ画面に表示する
END:VEVENT
BEGIN:VEVENT
DTSTART;VALUE=DATE:20201011
DTEND;VALUE=DATE:20201012
DTSTAMP:20260421T073907
CREATED:20200826T052334Z
LAST-MODIFIED:20201004T070803Z
UID:2998-1602374400-1602460799@beats.stars.ne.jp
SUMMARY:Akira Takasaki and Friends　二部
DESCRIPTION:Akira Takasaki and Friends \n  \n  \n※スタンディング公演となります。\n ご入場の際は検温、アルコール消毒、マスク着用をお願いいたします。\n 体調の悪い方はご入場をお断りさせていただく場合がございます。 \nチケット発売日\n 9/5(土)　10:00〜
URL:https://beats.stars.ne.jp/schedule/akira-takasaki-and-friends%e3%80%80%e4%ba%8c%e9%83%a8
LOCATION:BEAT STATION\, 福岡市中央区渡辺通4-11-4\, 〒810-0004
CATEGORIES:トップ画面に表示する
END:VEVENT
BEGIN:VEVENT
DTSTART;VALUE=DATE:20201011
DTEND;VALUE=DATE:20201012
DTSTAMP:20260421T073907
CREATED:20200824T083351Z
LAST-MODIFIED:20201004T070733Z
UID:2990-1602374400-1602460799@beats.stars.ne.jp
SUMMARY:Akira Takasaki and Friends　一部
DESCRIPTION:Akira Takasaki and Friends \n  \n  \n※スタンディング公演となります。\n ご入場の際は検温、アルコール消毒、マスク着用をお願いいたします。\n 体調の悪い方はご入場をお断りさせていただく場合がございます。 \nチケット発売日\n 9/5(土)　10:00〜
URL:https://beats.stars.ne.jp/schedule/akira-takasaki-and-friends
LOCATION:BEAT STATION\, 福岡市中央区渡辺通4-11-4\, 〒810-0004
CATEGORIES:トップ画面に表示する
END:VEVENT
BEGIN:VEVENT
DTSTART;VALUE=DATE:20201004
DTEND;VALUE=DATE:20201005
DTSTAMP:20260421T073907
CREATED:20200930T081444Z
LAST-MODIFIED:20200930T081444Z
UID:3097-1601769600-1601855999@beats.stars.ne.jp
SUMMARY:FUKUOKA BEAT FESTA 2部
DESCRIPTION:蜂蜜★皇帝\nhusky\n MINGO!×MINGO!\n プランクスターズ\n空想モーメントL＋\nElfinlly\n低燃費少女 \nチケットはこちら！\n2部 ※キャンセル分 https://tiget.net/events/104105
URL:https://beats.stars.ne.jp/schedule/fukuoka-beat-festa-2%e9%83%a8
LOCATION:BEAT STATION\, 福岡市中央区渡辺通4-11-4\, 〒810-0004
CATEGORIES:トップ画面に表示する
END:VEVENT
BEGIN:VEVENT
DTSTART;VALUE=DATE:20201004
DTEND;VALUE=DATE:20201005
DTSTAMP:20260421T073907
CREATED:20200930T081113Z
LAST-MODIFIED:20200930T081113Z
UID:3094-1601769600-1601855999@beats.stars.ne.jp
SUMMARY:FUKUOKA BEAT FESTA 1部
DESCRIPTION:AQUA\nKAMISAMAー双ー\nカルミア\n低燃費少女\nMINGO！×MINGO！\nCOLORLESS\nブランクスターズ \n  \nチケットはこちら！\nhttps://tiget.net/events/104103
URL:https://beats.stars.ne.jp/schedule/fukuoka-beat-festa-1%e9%83%a8
LOCATION:BEAT STATION\, 福岡市中央区渡辺通4-11-4\, 〒810-0004
CATEGORIES:トップ画面に表示する
END:VEVENT
BEGIN:VEVENT
DTSTART;VALUE=DATE:20201004
DTEND;VALUE=DATE:20201005
DTSTAMP:20260421T073907
CREATED:20200930T080004Z
LAST-MODIFIED:20200930T080639Z
UID:3088-1601769600-1601855999@beats.stars.ne.jp
SUMMARY:PERFECT Ⅲ
DESCRIPTION:ElfinLily\n husky\n 蜂蜜⭐︎皇帝\n  \n  \nチケットはこちら！\n https://tiget.net/events/104223
URL:https://beats.stars.ne.jp/schedule/perfect-%e2%85%a2
LOCATION:BEAT STATION\, 福岡市中央区渡辺通4-11-4\, 〒810-0004
CATEGORIES:トップ画面に表示する
END:VEVENT
BEGIN:VEVENT
DTSTART;VALUE=DATE:20200923
DTEND;VALUE=DATE:20200924
DTSTAMP:20260421T073907
CREATED:20200708T031949Z
LAST-MODIFIED:20200904T091838Z
UID:2884-1600819200-1600905599@beats.stars.ne.jp
SUMMARY:“ツアーオブバンドスター”
DESCRIPTION:ハルカミライ \n  \n※チケット一般発売(予定)\n 9/5(土) 10:00〜 \n※全公演スタンディングを予定しておりますが、状況により収容人数の縮小や、着席での観覧へ変更となる場合がございます。\n また、通常と公演内容が異なる場合がございます。予めご了承ください。 \n【チケットトレードサービス実施のお知らせ】 \n残念ながらご都合がつかずご来場できなくなってしまった場合にチケットを出品し、まだチケットを持っていない購入希望者が定価で申込可能なチケットトレードサービスを実施致します。  \n対象公演 \n・9.15 名古屋DIAMOND HALL \n・9.23 福岡BEAT STATION \n実施日程：9.9[wed] 18:00～各公演日4日前11:59 \n対象受付：CD封入先行／オフィシャル先行／一般発売 でご購入のチケット\n ▼トレードサービスの詳細は以下よりご確認をお願い致します。 https://eplus.jp/sf/guide/tixplus-trade…
URL:https://beats.stars.ne.jp/schedule/%e3%83%84%e3%82%a2%e3%83%bc%e3%82%aa%e3%83%96%e3%83%90%e3%83%b3%e3%83%89%e3%82%b9%e3%82%bf%e3%83%bc
LOCATION:BEAT STATION\, 福岡市中央区渡辺通4-11-4\, 〒810-0004
CATEGORIES:トップ画面に表示する
END:VEVENT
BEGIN:VEVENT
DTSTART;VALUE=DATE:20200922
DTEND;VALUE=DATE:20200923
DTSTAMP:20260421T073907
CREATED:20200905T010315Z
LAST-MODIFIED:20200905T010315Z
UID:3033-1600732800-1600819199@beats.stars.ne.jp
SUMMARY:弐周年記念 6都市ツアー「声明」振替公演
DESCRIPTION:鶯籠 \n\n \n※9/6の振替公演となっております。 \n※入場は【A】⇒【B】⇒【C】から始まる整理番号順\n※全席着座\n※ライブ中の撮影可（静止画のみ可 / 動画撮影･音声録音は禁止）\n（動画撮影･音声録音を発見次第、デンプシー・ロール） \n▼入場方法について\ncoming soon \n▼タイムテーブル\n14:50 // 入場整列開始\n15:30 // 開場\n16:30 // 開演（90分）\n18:00 // CLOSE\n18:30 // 物販（90分）※メンバーは参加せず。 \n▼ライブ中の撮影について\n※ライブ中の撮影可（静止画のみ）\n※動画の撮影･音声の録音は一切不可\n※カメラの上げっぱなし不可 \n▼入場者特典\n※お土産（特殊なスタイルで）
URL:https://beats.stars.ne.jp/schedule/%e5%bc%90%e5%91%a8%e5%b9%b4%e8%a8%98%e5%bf%b5-6%e9%83%bd%e5%b8%82%e3%83%84%e3%82%a2%e3%83%bc%e3%80%8c%e5%a3%b0%e6%98%8e%e3%80%8d%e6%8c%af%e6%9b%bf%e5%85%ac%e6%bc%94
LOCATION:BEAT STATION\, 福岡市中央区渡辺通4-11-4\, 〒810-0004
END:VEVENT
BEGIN:VEVENT
DTSTART;VALUE=DATE:20200921
DTEND;VALUE=DATE:20200922
DTSTAMP:20260421T073907
CREATED:20200815T075134Z
LAST-MODIFIED:20200921T084503Z
UID:2963-1600646400-1600732799@beats.stars.ne.jp
SUMMARY:「鋼鉄(ﾊｶﾞﾈ)のロック魂❗Ⅺ」 I am serious Hasta la vista\, baby.~本気だよ、地獄で会おうぜ！ベイビー~
DESCRIPTION:イベント日程中、一番激しい戦いかも？\n アイドルバンド、ハードロック、V系ロックなど、多種多様！\n ぜひご来場ください。 \naicora(佐賀)\n MEISTER\n PSB\n キズナビト(熊本) \n  \n※出演予定でしたHeavy Metal Hippies(熊本)はキャンセルとなっております。\n ご了承ください。
URL:https://beats.stars.ne.jp/schedule/2963
LOCATION:BEAT STATION\, 福岡市中央区渡辺通4-11-4\, 〒810-0004
CATEGORIES:トップ画面に表示する
END:VEVENT
BEGIN:VEVENT
DTSTART;VALUE=DATE:20200920
DTEND;VALUE=DATE:20200921
DTSTAMP:20260421T073907
CREATED:20200815T071139Z
LAST-MODIFIED:20200826T073602Z
UID:2958-1600560000-1600646399@beats.stars.ne.jp
SUMMARY:「鋼鉄(ﾊｶﾞﾈ)のロック魂❗Ⅺ」  フォースと共に在れ（May The 4th Be With You）
DESCRIPTION:福岡、熊本、北九州の三つ巴対決、ハードロック、アンプラグド、ヘヴィーメタル、ニューウェーブ・オブ・クラシック・ポップロック等、ミックスジュースかバラエティ豊かな１日！ \nCROWDIA\n岡部聡\nTRIBAL RED\nSlap Stick Cafe\nThe Secret Mon☆\nShelly(北九州)
URL:https://beats.stars.ne.jp/schedule/%e3%80%8c%e9%8b%bc%e9%89%84%ef%be%8a%ef%bd%b6%ef%be%9e%ef%be%88%e3%81%ae%e3%83%ad%e3%83%83%e3%82%af%e9%ad%82%e2%9d%97%e2%85%aa%e3%80%8d-%e3%83%95%e3%82%a9%e3%83%bc%e3%82%b9%e3%81%a8%e5%85%b1
LOCATION:BEAT STATION\, 福岡市中央区渡辺通4-11-4\, 〒810-0004
CATEGORIES:トップ画面に表示する
END:VEVENT
BEGIN:VEVENT
DTSTART;VALUE=DATE:20200919
DTEND;VALUE=DATE:20200920
DTSTAMP:20260421T073907
CREATED:20200815T064201Z
LAST-MODIFIED:20200826T073500Z
UID:2955-1600473600-1600559999@beats.stars.ne.jp
SUMMARY:鋼鉄(ﾊｶﾞﾈ)のロック魂❗Ⅺ」  second to none〜〜二番はいらない、欲しいのは１
DESCRIPTION:second to none〜〜二番はいらない、欲しいのは１\n 求めるのは常に１位、二番は用事無し。\n イベント二日目はまるで、インヴェージョン・オブ・クマモン状態！熊本勢の侵略戦争状態。地元勢のさはらは今回バンドスタイルで対抗！ \n\n TERA VOLTAGE(熊本)\n さはら\n Lavish\n 杏
URL:https://beats.stars.ne.jp/schedule/%e9%8b%bc%e9%89%84%ef%be%8a%ef%bd%b6%ef%be%9e%ef%be%88%e3%81%ae%e3%83%ad%e3%83%83%e3%82%af%e9%ad%82%e2%9d%97%e2%85%aa%e3%80%8d-second-to-none%e3%80%9c%e3%80%9c%e4%ba%8c%e7%95%aa%e3%81%af%e3%81%84
LOCATION:BEAT STATION\, 福岡市中央区渡辺通4-11-4\, 〒810-0004
CATEGORIES:トップ画面に表示する
END:VEVENT
BEGIN:VEVENT
DTSTART;VALUE=DATE:20200918
DTEND;VALUE=DATE:20200919
DTSTAMP:20260421T073907
CREATED:20200815T054244Z
LAST-MODIFIED:20200826T073417Z
UID:2952-1600387200-1600473599@beats.stars.ne.jp
SUMMARY:「鋼鉄(ﾊｶﾞﾈ)のロック魂❗Ⅺ」 Let's get started 〜さあ、始めよう！〜
DESCRIPTION:2020年度の鋼のロック魂！スタート！\n 通年通り、開幕戦はアンプラグド＆アコースティックの猛者で開幕。\n しかし、ただの弾き語りではない出演者の競演だ。 \n\n HITORI-GUY \n DAIKI\n ゆり\n 北風と太陽\n スナック
URL:https://beats.stars.ne.jp/schedule/%e3%80%8c%e9%8b%bc%e9%89%84%ef%be%8a%ef%bd%b6%ef%be%9e%ef%be%88%e3%81%ae%e3%83%ad%e3%83%83%e3%82%af%e9%ad%82%e2%9d%97%e2%85%aa%e3%80%8d-lets-get-started-%e3%80%9c%e3%81%95%e3%81%82%e3%80%81
LOCATION:BEAT STATION\, 福岡市中央区渡辺通4-11-4\, 〒810-0004
CATEGORIES:トップ画面に表示する
END:VEVENT
BEGIN:VEVENT
DTSTART;VALUE=DATE:20200913
DTEND;VALUE=DATE:20200914
DTSTAMP:20260421T073907
CREATED:20200813T130314Z
LAST-MODIFIED:20200814T034456Z
UID:2943-1599955200-1600041599@beats.stars.ne.jp
SUMMARY:挫・人間  TOUR 2020〜さような来世！風と共に去りヌンティウス〜 振替公演
DESCRIPTION:挫・人間\n  \n平素より挫・人間を応援して頂き、誠にありがとうございます。 \n9/10（木）福岡Queblick公演に関しまして、感染リスクを減らしソーシャル・ディスタンスを保ちつつ開催するために再びの延期および会場を変更させていただきます。 \nお客様には度重なる予定の変更により大変ご迷惑をお掛けいたしますが、安心して楽しめる環境を提供するためとご理解いただけますようお願い申し上げます。 \nまたご来場に際し、感染防止策として以下の事項にご協力ください。 \n※当日はマスクの着用 \n※会場内でお客様同士の会話を極力控える \n※公演当日の検温時に37.5度以上の方はご入場をお断りする場合がございます。 \n※また、2週間以内に体調不良があった方は自主的にご辞退ください。 \n9月10日（木）福岡Queblick→9月13日（日）福岡BEAT STATION \n開場/開演変更：18:30/19:00→14:00/14:30 \n感染された方々の回復と、みなさまの安全をお祈り申しあげます。 \nサバイブして元気に再会できることを楽しみにしています！\n  \n 挫・人間　メンバー\n 有限会社スプートニクラボ  スタッフ一同 \n  \n振替公演にご来場頂けないお客様へは、チケットの払い戻しを行います。 \n※振替公演へご来場のお客様は、チケットがそのまま有効となります。 \n入場は、5月15日および7月28日のチケットをお持ちの方からの入場となります。 \n＜払い戻し期間：8/19(水)10:00～9/10(木)23:59＞ \n※上記払い戻し期間は必ずお守りください。期限を過ぎると対応致しかねます。 \n※半券が切られた状態のチケットは払い戻し対象外となります。 \n■ローソンチケットでご購入の方 \nチケットをお引取りいただきましたコンビニ（ローソンorミニストップ店舗）であれば、どの店舗でも払い戻し可能となります。\n ・払戻しの際、対象公演のチケットが必要になりますので必ずご持参下さい。\n 払戻し方法の詳細は、下記URLにてご確認ください\n https://l-tike.com/oc/lt/haraimodoshi/ \nお問い合わせ：ローソンチケット https://faq.l-tike.com/ \n■イープラスでご購入の方 \n今回はｅ＋（イープラス）へのチケット返送をもって払戻しとなります。 \nまた、半券のついた未使用のチケットのみが払戻しの対象となります。 \n公演をご覧になった場合や、半券がない場合は、ご返送いただきましても払戻しできません。予めご了承ください。 \n【払戻方法】　 \n下記ＵＲＬより払戻詳細をご確認のうえ、必ず期間内にご返送ください。　 \n◆チケットをｅ＋へご返送ください　https://eplus.jp/sf/refund2/b-type \nお問合せ：イープラス http://support.eplus.jp/ \n■チケットぴあでご購入の方 \n払戻方法は、チケットの受取方法や支払方法などにより異なります。下記URLよりどの払戻方法になるのか確認をお願いいたします。\n http://t.pia.jp/guide/refund.html\n お問い合わせ: チケットぴあ http://t.pia.jp/help/index.jsp
URL:https://beats.stars.ne.jp/schedule/%e6%8c%ab%e3%83%bb%e4%ba%ba%e9%96%93-tour-2020%e3%80%9c%e3%81%95%e3%82%88%e3%81%86%e3%81%aa%e6%9d%a5%e4%b8%96%ef%bc%81%e9%a2%a8%e3%81%a8%e5%85%b1%e3%81%ab%e5%8e%bb%e3%82%8a%e3%83%8c%e3%83%b3%e3%83%86
LOCATION:BEAT STATION\, 福岡市中央区渡辺通4-11-4\, 〒810-0004
END:VEVENT
BEGIN:VEVENT
DTSTART;VALUE=DATE:20200912
DTEND;VALUE=DATE:20200913
DTSTAMP:20260421T073907
CREATED:20200826T102843Z
LAST-MODIFIED:20200826T102843Z
UID:3007-1599868800-1599955199@beats.stars.ne.jp
SUMMARY:M@ru PRESENTS CROSS ROCKS vol.38
DESCRIPTION:the brilliant maruo\n(No)is.\n復活の斬鉄拳\n \n \n 
URL:https://beats.stars.ne.jp/schedule/mru-presents-cross-rocks-vol-38
LOCATION:BEAT STATION\, 福岡市中央区渡辺通4-11-4\, 〒810-0004
END:VEVENT
BEGIN:VEVENT
DTSTART;VALUE=DATE:20200908
DTEND;VALUE=DATE:20200909
DTSTAMP:20260421T073907
CREATED:20200521T085013Z
LAST-MODIFIED:20200521T085013Z
UID:2782-1599523200-1599609599@beats.stars.ne.jp
SUMMARY:Halo at 四畳半 ワンマンツアー2020 “無垢なる祈りの宿し方” 振替公演
DESCRIPTION:Halo at 四畳半 \n\n2020年6月11日(木) 福岡公演のチケットをお持ちの方の振替日程 ※3月8日(日)の振替公演 \n他公演のチケットをお持ちのお客様はご入場いただけませんので、お気をつけください。 \n【チケット払戻のご案内】\n振替公演にご来場いただく事ができないお客様に関しまして、下記の通りチケットの払い戻しをさせていただきます。 \n  \n払戻受付開始日時・払戻方法は、ご購入されたプレイガイドによって異なりますので、下記内容をご確認の上、お間違えのないようお願いいたします。\n※払い戻し期限を過ぎますと払い戻し手続きはできなくなります。予めご了承ください。\n※払い戻しは､ご購入されたご本人様に対してのみとさせていただきます｡\n※半券が切り離されたチケットは払い戻しできませんので、ご注意ください。\n※返金までにお時間をいただいております。予めご了承ください。\n———————————————————————————————– \n  \n■イープラスにてご購入されたお客様\n払戻期間：5月15日(金)10:00～5月31日(日)23:59 \n  \n払戻方法は、チケットの受取方法や支払方法により異なります。\n払戻方法詳細については下記の払戻方法チャートを確認してください。 \n  \n＜払戻方法確認チャート>\nhttp://eplus.jp/page/eplus/refund2/index.html \n  \n質問に答えながらご自身の状況を確認してください。 適切な払戻方法をご覧になれます。 \n  \nお問い合わせ：http://support.eplus.jp/ \n  \n———————————————————————————————– \n  \n■ローソンチケットにてご購入されたお客様\n払戻期間：5月15日(金)10:00～5月31日(日)23:59 \n  \nお手元のチケットと各種手数料券をお持ちの上、お近くのローソン・ミニストップ店舗で払い戻しをいたします。\n※チケットを発券していないお客様は、払戻期間中にお持ちの予約番号でチケット発券手続きをお願いいたします。\nお手数ですが、上記払い戻し期間内にローソン・ミニストップ店舗にチケットをご持参の上、\nLoppiから払い戻しのお手続きをお願い致します。\n＊ローソン店舗検索はこちら　→ http://store.lawson.co.jp/\n＊ミニストップ店舗検索はこちら　→ https://shop.ministop.co.jp/ms/\n＊ローソンチケットでの払い戻しに関してはこちら　→ http://l-tike.com/oc/lt/haraimodoshi/ \n  \n【各種手数料券について】\n各種手数料も払い戻し致します。払い戻し対象は、先行サービス料、店頭発券手数料、システム利用料となります。（配送料は払い戻し対象外となります）\n払い戻し時には、チケットと一緒にお渡しした、各種手数料券が必要となります。\nチケットまたは、各種手数料券を紛失または破棄されてしまっている場合は、\n一切払い戻しはできませんので、予めご了承ください。 \n  \nお問い合わせ：https://l-tike.com/contact/ \n  \n——————————————————————— \n  \n■LINEチケットにてご購入されたお客様\n払戻期間：5月15日(金)10:00～5月31日(日)23:59 \n  \n払い戻しについて：https://help2.line.me/ticketapp/web/categoryId/20005226/sp?lang=ja \n  \n●払戻方法は「LINEチケットinfo」公式アカウントにて、LINEのトーク上でご案内をさせていただきます。\n●各種手数料は先行サービス料、システム利用料も払い戻しいたします。 \n  \nお問い合わせ：LINEチケット公式アカウント https://line.me/R/ti/p/%40lineticket_jp を友だち追加し、トーク上でご質問をお願いいたします。 \n  \n——————————————————————— \n  \n■チケットぴあにてご購入されたお客様\n払戻期間：5月15日(金)10:00～5月31日(日)23:59 \n  \n払戻方法は、チケットの受取方法や支払方法などにより異なります。\n下記URLより、払戻方法のご確認をお願いいたします。\n⇒http://t.pia.jp/guide/refund.html \n  \nお問い合わせ：http://t.pia.jp/info/info-200407.html
URL:https://beats.stars.ne.jp/schedule/halo-at-%e5%9b%9b%e7%95%b3%e5%8d%8a-%e3%83%af%e3%83%b3%e3%83%9e%e3%83%b3%e3%83%84%e3%82%a2%e3%83%bc2020-%e7%84%a1%e5%9e%a2%e3%81%aa%e3%82%8b%e7%a5%88%e3%82%8a%e3%81%ae%e5%ae%bf%e3%81%97-3
LOCATION:BEAT STATION\, 福岡市中央区渡辺通4-11-4\, 〒810-0004
CATEGORIES:トップ画面に表示する
END:VEVENT
BEGIN:VEVENT
DTSTART;VALUE=DATE:20200906
DTEND;VALUE=DATE:20200907
DTSTAMP:20260421T073907
CREATED:20200901T042214Z
LAST-MODIFIED:20200908T091353Z
UID:3018-1599350400-1599436799@beats.stars.ne.jp
SUMMARY:弐周年記念 6都市ツアー「声明」 公演延期
DESCRIPTION:鶯籠\n \n \n\n台風10号の接近による影響を考慮し、安全確保の為、誠に残念ですが、開催延期の判断とさせていただく事となりました。延期による振替日時・開催会場に関しては下記の通りとなります。 \n【振替公演詳細】\n▶ 開催日：9月22日（火/祝）\n▶ 開場開演：15:30/16:30\n▶ 会場：BEAT STATION（福岡）\n▶ 公演詳細（https://toricago.info/schedule/detail/index/4027） \n既に前売チケットをご購入いただいている場合は、振替公演もそのまま有効ですので、延期公演当日、入場時にチケットカウンターにてお示しください。またチケット払い戻しをご希望の場合は、当ホームページのCONTACTページ（https://toricago.info/form/contact/）より下記情報を入力の上、お手数では御座いますがご連絡をいただきます様、お願い申し上げます。 \n・申込番号\n・お名前 \n尚、払い戻しにおける返金方法につきましては下記の通りとなります。 \n▼ クレジットカード決済\nクレジットカード決済取消 \n▼ 携帯キャリア決済、コンビニ決済\nCASH POSTを通じての振込み、またはローソン店舗での受取り \n************************ \n公演開催の可否にあたり、アナウンスが遅くなりました事を深くお詫び申し上げます。メンバー・スタッフ一同、大変楽しみにしていた福岡遠征故、中止となり非常に残念ですが、9/22（火/祝）のスケジュールが確保ができた事により、振替公演の早期実現が可能となりました。
URL:https://beats.stars.ne.jp/schedule/%e5%bc%90%e5%91%a8%e5%b9%b4%e8%a8%98%e5%bf%b5-6%e9%83%bd%e5%b8%82%e3%83%84%e3%82%a2%e3%83%bc%e3%80%8c%e5%a3%b0%e6%98%8e%e3%80%8d
LOCATION:BEAT STATION\, 福岡市中央区渡辺通4-11-4\, 〒810-0004
END:VEVENT
BEGIN:VEVENT
DTSTART;VALUE=DATE:20200906
DTEND;VALUE=DATE:20200907
DTSTAMP:20260421T073907
CREATED:20200508T091644Z
LAST-MODIFIED:20200527T044110Z
UID:2746-1599350400-1599436799@beats.stars.ne.jp
SUMMARY:H.U.E. TOUR 公演延期
DESCRIPTION:NOISEMAKER \n 【メンバーコメント】 \n開催出来る小さな可能性に賭けたい、その想いでのツアー発表でしたが、\n協議を重ねた結果、この期間にライブを行うのは得策ではないという判断に至りました。\nチケットを確保してくれた皆さんには、度重なる中止や延期、\n払い戻しなどの負担をかけてしまって本当に申し訳ない気持ちでいっぱいです。\n中止ではなく延期であり、ファイナルシリーズ（東名阪札公演）はまだ希望を捨てずに\n予定通り開催に向けて動いて行きます。\n勿論、情勢を確認しながら正しい判断をしていきたいと思います。\n諦めの悪いバンドですが、僕らの前へ動こうとする行動が、\n一見バカげて見えたとしても、NOISEMAKERというバンドが何処へ向かおうとし、\nどのライブハウスでどの街や人々と作り上げようとしていたのか。\nそんな道筋やストーリーをこれからも知って欲しいし、\nその行動が皆さんにとっての少しの希望やポジティブなもの、\n良いニュースになれてたらとても嬉しいです。\n音楽を必要としてる人達に、ライブでまた会える日を心より楽しみにしています。\nそして皆さんのご健康と安全を願ってます。\n― NOISEMAKER ―
URL:https://beats.stars.ne.jp/schedule/h-u-e-tour
LOCATION:BEAT STATION\, 福岡市中央区渡辺通4-11-4\, 〒810-0004
CATEGORIES:トップ画面に表示する
END:VEVENT
BEGIN:VEVENT
DTSTART;VALUE=DATE:20200903
DTEND;VALUE=DATE:20200904
DTSTAMP:20260421T073907
CREATED:20200803T083234Z
LAST-MODIFIED:20200803T083234Z
UID:2925-1599091200-1599177599@beats.stars.ne.jp
SUMMARY:RENT THANKS
DESCRIPTION:
URL:https://beats.stars.ne.jp/schedule/rent-thanks-27
END:VEVENT
BEGIN:VEVENT
DTSTART;VALUE=DATE:20200830
DTEND;VALUE=DATE:20200831
DTSTAMP:20260421T073907
CREATED:20200530T032441Z
LAST-MODIFIED:20200806T064923Z
UID:2813-1598745600-1598831999@beats.stars.ne.jp
SUMMARY:「5 Sheep Last Tour」振替公演
DESCRIPTION:メリー \n ※お手持ちの3/29(日)公演、4/13(月)振替公演、8/23(日)再振替公演のチケット及び整理番号にて、上記振替公演にご参加いただけます。 \n\n  \n 
URL:https://beats.stars.ne.jp/schedule/%e3%80%8c5-sheep-last-tour%e3%80%8d%e6%8c%af%e6%9b%bf%e5%85%ac%e6%bc%94
LOCATION:BEAT STATION\, 福岡市中央区渡辺通4-11-4\, 〒810-0004
CATEGORIES:トップ画面に表示する
END:VEVENT
BEGIN:VEVENT
DTSTART;VALUE=DATE:20200829
DTEND;VALUE=DATE:20200830
DTSTAMP:20260421T073907
CREATED:20200117T035923Z
LAST-MODIFIED:20200803T082343Z
UID:2416-1598659200-1598745599@beats.stars.ne.jp
SUMMARY:PUNK ROCK GENERATION vol.31 公演延期
DESCRIPTION:MIX UP\n スーパーサンダース(富士) \n DISCRUNCH(佐賀) \n the whisper(久留米) \n SET☆B(久留米) \n チームホスピタル
URL:https://beats.stars.ne.jp/schedule/punk-rock-generation-vol-31
CATEGORIES:トップ画面に表示する
END:VEVENT
BEGIN:VEVENT
DTSTART;VALUE=DATE:20200823
DTEND;VALUE=DATE:20200824
DTSTAMP:20260421T073907
CREATED:20200410T021634Z
LAST-MODIFIED:20200530T032112Z
UID:2667-1598140800-1598227199@beats.stars.ne.jp
SUMMARY:5 Sheep Last Tour 振替公演 再延期
DESCRIPTION:メリー \n\n メリー「5 Sheep Last Tour」全日程再延期のお知らせ \n 平素よりメリーをご支援いただき、誠にありがとうございます。 今般の新型コロナウイルス感染症の影響等を鑑み、開催予定で準備しておりました「5 Sheep Last Tour」全16公演を再延期することが 決定致しました。 \n 【再延期対象公演】\n 福岡 BEAT STATION\n 2020年3月29日(日)→2020年4月13日(月)→2020/8/23(日) 　→再延期 \n 開催間近の発表となり公演を楽しみにされていた皆様におかれましては、ご迷惑をお掛けしまして申し訳ございません。\n 尚、「5 Sheep Last Tour」再延期公演に関しましては健一を含む5人で全日程を行います。現在、再振替公演の日程を調整しております。\n 決まり次第、改めて公式サイト等で発表致します。 \n ご購入のチケット(電子/紙共に)は、再振替公演にてそのまま有効となります。\n 期限内に発券の上、再振替公演日まで大切にお持ちください。\n チケットの紛失、忘れ等の場合は無効となりますのでご注意ください。  \n 【払戻しにつきまして】\n 公演延期に伴い、払戻し対応をさせていただきます。\n 尚、度重なる延期となる中、今後発表致します再振替公演に残念ながらご来場が叶わなく払戻しを希望される方のうち、ご返金を希望されない方に、「5 Sheep Last Tour」各公演への思いと感謝の気持ちを返礼として、メンバーがデザインを考案したグッズと、ご指定いただいたメンバーによる直筆メッセージカードをお送りすることとなりました。\n 悔しくも約束した時間と場所でのLIVEは実現できませんでしたが、また必ずLIVE会場で会えることを祈り、その空間で伝えようとした想いを込めてお送りさせていただきます。\n ※該当公演のチケットを複数枚ご購入の方は、一部の払戻しも可能です。\n ※各プレイガイドで購入されたチケットの払戻し(ご返金)方法については、随時公式サイトにてご案内致します。 \n ◆ご返金をご希望の方\n ＜CORE 先行チケットをお持ちの方＞\n 詳細が決定し次第、CORE 及びチケットインフォメーションセンタ ーよりメールにてご案内致します。 \n ＜プレイガイドにてご購入されたチケットをお持ちの方＞ \n 受付期間が決定し次第、公式サイトにてご案内致します。 \n ◆オリジナルグッズをご希望の方 \n ＜すべてのチケットをお持ちの方＞\n 詳細が決定し次第、ご案内致します。 \n ◆CORE 先行チケットのうち、赤坂・仙台・松山・福岡・熊谷公演チケットの払戻しお手続きを済まされた方(=チケットを郵送済みの方)\n ご返金かオリジナルグッズへの変更のご希望を改めて申請いただきますので、5月中旬に発送を予定しておりました郵便振替払出証書の発行および発送はございません。\n 再申請の方法につきましては、近日中に発表させていただきます。\n また再振替公演へのご参加を希望される場合は、大変お手数ですが今後予定しております再販売をご利用下さいますよう、お願い致します。  \n 下記、返礼のグッズ詳細となります。\n 各メンバープロデュース T シャツ+直筆メッセージカード\n ※ご希望のメンバー、Tシャツサイズ、カラーをお選びいただけます。\n ※Tシャツデザイン、カラー、サイズ等の詳細は後日改めて発表させていただきます。\n ※チケット 1 枚につき 1 セットを返礼としてお送り致します。 \n 尚、今後発表致します再延期公演のチケットにつきましては、払戻し分のチケット再発売を予定しております。\n 詳細は後日発表させていただきます。 (2020.5.12)  \n ※本公演は3月29日(日)・4月13日(月)の振替公演です。\n  \n＜払い戻し＞\n5/30(土)10:00〜6/7(日)23:59 \n＜再発売＞\n6/15(月)10:00〜 \nhttps://www.bea-net.com/information/merry3.html
URL:https://beats.stars.ne.jp/schedule/5-sheep-last-tour-%e6%8c%af%e6%9b%bf%e5%85%ac%e6%bc%94
LOCATION:BEAT STATION\, 福岡市中央区渡辺通4-11-4\, 〒810-0004
CATEGORIES:トップ画面に表示する
END:VEVENT
BEGIN:VEVENT
DTSTART;VALUE=DATE:20200822
DTEND;VALUE=DATE:20200823
DTSTAMP:20260421T073907
CREATED:20200818T130023Z
LAST-MODIFIED:20200818T130023Z
UID:2972-1598054400-1598140799@beats.stars.ne.jp
SUMMARY:M@ru PRESENTS CROSS ROCKS VOL.37.5
DESCRIPTION:Absoluteφ\nGARAK-GENERATION\nLove again
URL:https://beats.stars.ne.jp/schedule/mru-presents-cross-rocks-vol-37-5
LOCATION:BEAT STATION\, 福岡市中央区渡辺通4-11-4\, 〒810-0004
CATEGORIES:トップ画面に表示する
END:VEVENT
BEGIN:VEVENT
DTSTART;VALUE=DATE:20200816
DTEND;VALUE=DATE:20200817
DTSTAMP:20260421T073907
CREATED:20200714T054124Z
LAST-MODIFIED:20200714T054124Z
UID:2898-1597536000-1597622399@beats.stars.ne.jp
SUMMARY:【Acoustic One Man Live in Fukuoka 】二部
DESCRIPTION:FREAK \n\n  \n\n ●FC有料先行7/10～7/15 通常チケットのみ \n ●一般販売7/25～・通常チケット・オンラインチケット詳細はHPへhttps://freak.flag.gg/news/261
URL:https://beats.stars.ne.jp/schedule/%e3%80%90acoustic-one-man-live-in-fukuoka-%e3%80%91%e4%ba%8c%e9%83%a8
LOCATION:BEAT STATION\, 福岡市中央区渡辺通4-11-4\, 〒810-0004
END:VEVENT
BEGIN:VEVENT
DTSTART;VALUE=DATE:20200816
DTEND;VALUE=DATE:20200817
DTSTAMP:20260421T073907
CREATED:20200714T053936Z
LAST-MODIFIED:20200714T053936Z
UID:2896-1597536000-1597622399@beats.stars.ne.jp
SUMMARY:【Acoustic One Man Live in Fukuoka 】一部
DESCRIPTION:FREAK \n\n  \n ●FC有料先行7/10～7/15 通常チケットのみ  \n ●一般販売7/25～・通常チケット・オンラインチケット詳細はHPへhttps://freak.flag.gg/news/261
URL:https://beats.stars.ne.jp/schedule/%e3%80%90acoustic-one-man-live-in-fukuoka-%e3%80%91%e4%b8%80%e9%83%a8
LOCATION:BEAT STATION\, 福岡市中央区渡辺通4-11-4\, 〒810-0004
END:VEVENT
BEGIN:VEVENT
DTSTART;VALUE=DATE:20200815
DTEND;VALUE=DATE:20200816
DTSTAMP:20260421T073907
CREATED:20200803T082710Z
LAST-MODIFIED:20200815T020440Z
UID:2923-1597449600-1597535999@beats.stars.ne.jp
SUMMARY:ONLINE LIVE ONEMAN It's 翔Time
DESCRIPTION:翔 \n配信ライブとなります
URL:https://beats.stars.ne.jp/schedule/rent-thanks-26
CATEGORIES:トップ画面に表示する
END:VEVENT
BEGIN:VEVENT
DTSTART;VALUE=DATE:20200809
DTEND;VALUE=DATE:20200810
DTSTAMP:20260421T073907
CREATED:20200516T030409Z
LAST-MODIFIED:20200701T052422Z
UID:2758-1596931200-1597017599@beats.stars.ne.jp
SUMMARY:ukka NEXT STAGE TOUR 2020 振替公演 【二部】公演中止
DESCRIPTION:ukka \n「ukka NEXT STAGE TOUR 2020」7/23神奈川～9/11東京キネマ倶楽部公演中止・払い戻しのお知らせ \nいつもukkaを応援していただき、誠にありがとうございます。 \nこの度、新型コロナウイルス感染状況および日本政府や関係機関等の方針を顧み、検討を重ねました結果、ご来場になる皆様、並びに出演者・スタッフ等イベントに関わる全ての方の健康と安全を最優先に考え、誠に残念ではございますが、「ukka NEXT STAGE TOUR 2020」下記公演の開催を中止させていただくことに致しました。尚、12月25日(金)かつしかシンフォニーヒルズ モーツァルトホール公演は開催予定です。 \n＜中止・払い戻し対象公演＞\n・2020年7月23日(木祝) 神奈川 / 横浜ベイホール　1部・2部 \n・2020年7月25日(土) 宮城 / 仙台darwin　1部・2部 \n・2020年8月8日(土) 愛知 / RAD HALL　1部・2部 \n・2020年8月9日(日) 福岡 / BEAT STATION　1部・2部 \n・2020年8月10日(月祝)大阪 / ESAKA MUSE　1部・2部 \n・2020年9月11日(金) 東京 / 東京キネマ倶楽部　1部・2部 \n上記公演中止に伴い、お手持ちの「ukka NEXT STAGE TOUR 2020」チケットは、ご購入頂いた各プレイガイドにて払い戻しを承ります。 \n\nチケット購入方法により手続きが異なりますので、下記事項をご確認の上、お手続きをお願いいたします。\n\n【チケット払い戻し期間】\n　7月2日(木) 10:00～7月31日(金)  23:59\n\n払い戻し期間を過ぎますと、払い戻しは出来なくなりますのでご注意ください。\n※宮城・福岡・東京キネマ倶楽部公演につきましては、払い戻し受付期間中【～7/31(金)23:59まで】となります。\n\n\nオフィシャル先行 / チケットぴあで購入のお客様\nお客様のお引取り方法をご確認の上、\n下記URLより該当の払い戻し方法の説明ページにお進みください。\nhttp://t.pia.jp/guide/refund.jsp \n払い戻しに関するお問合せ：チケットぴあ http://t.pia.jp/help/ \nイープラスにてご購入のお客様 \n●ファミリーマート・セブンイレブン発券の場合 \n＊購入いただいた店舗にて払い戻しを行います。 \n※払い戻し期間を過ぎますと、払い戻しは出来なくなりますのでご注意ください。 \n●配送受取の場合 \n2020年7月31日（金）必着にて郵送受付 \n※チケットの郵送先住所など詳しくは下記チャート（イープラスＨＰ）でご確認下さい。 \n  \n＊払い戻し方法詳細は下記のアドレスからご確認下さい。 \n【スマートフォン・ＰＣ】https://eplus.jp/refund1/ \n※払い戻し受付期間を過ぎますと、払い戻しは出来なくなりますのでご注意下さい。 \n払い戻しに関するお問合せ：http://support.eplus.jp/ \nローソンチケットにてご購入のお客様　 \n1.チケット、2.各種手数料券をご持参の上、ローソン・ミニストップの店頭にて、\nチケット代金・各種手数料（一部払い戻し対象外となります。）の払い戻し手続きをお願いいたします。\n※チケットをお引取りいただいたコンビニであれば、どの店舗でも払戻しが可能です。（ローソンでご購入の場合はローソンで、ミニストップでご購入の場合はミニストップ店頭での払戻しとなります。）\n店内設置のLoppiより払戻しの操作を行ってください。(24時間対応)。 \n払い戻しの際、チケット・各種手数料券は回収させていただきます。\n詳細は下記リンク先より、ご確認ください。\nhttp://l-tike.com/oc/lt/haraimodoshi/ \n払い戻しに関するお問合せ：ローソンチケット https://faq.l-tike.com/ \nH.I.P.プラチナム会員先行にてご購入のお客様 \n●ファミリーマート・セブンイレブン発券の場合 \n＊購入いただいた店舗にて払い戻しを行います。 \n※払い戻し期間を過ぎますと、払い戻しは出来なくなりますのでご注意ください。 \n●配送受取の場合 \n2020年7月31日（金）必着にて郵送受付 \n※チケットの郵送先住所など詳しくは下記チャート（イープラスＨＰ）でご確認下さい。 \n  \n＊払い戻し方法詳細は下記のアドレスからご確認下さい。 \n【スマートフォン・ＰＣ】https://eplus.jp/refund1/ \n※払い戻し受付期間を過ぎますと、払い戻しは出来なくなりますのでご注意下さい。 \n払い戻しに関するお問合せhttp://w1.onlineticket.jp/hip/web/faq/index.html　 \n　　　　　　→会員種別を選択　→(ページ下部) >>お問合せフォーム \n【公演に関するお問合せ】H.I.P. 03-3475-9999 （平日10：00～18：00） \n※新型コロナウイルス感染拡大防止対策の一環として、オペレーターによる受付を休止または受付時間を変更している場合がございます。詳しくは以下URLよりご確認をお願いいたします。 \nhttps://www.hipjpn.co.jp
URL:https://beats.stars.ne.jp/schedule/ukka-next-stage-tour-2020-%e6%8c%af%e6%9b%bf%e5%85%ac%e6%bc%94-%e3%80%90%e4%ba%8c%e9%83%a8%e3%80%91
LOCATION:BEAT STATION\, 福岡市中央区渡辺通4-11-4\, 〒810-0004
CATEGORIES:トップ画面に表示する
END:VEVENT
END:VCALENDAR