BEGIN:VCALENDAR
VERSION:2.0
PRODID:-//福岡のライブハウス BEAT STATION - ECPv6.10.3//NONSGML v1.0//EN
CALSCALE:GREGORIAN
METHOD:PUBLISH
X-WR-CALNAME:福岡のライブハウス BEAT STATION
X-ORIGINAL-URL:https://beats.stars.ne.jp
X-WR-CALDESC:福岡のライブハウス BEAT STATION のイベント
REFRESH-INTERVAL;VALUE=DURATION:PT1H
X-Robots-Tag:noindex
X-PUBLISHED-TTL:PT1H
BEGIN:VTIMEZONE
TZID:Asia/Tokyo
BEGIN:STANDARD
TZOFFSETFROM:+0900
TZOFFSETTO:+0900
TZNAME:JST
DTSTART:20200101T000000
END:STANDARD
END:VTIMEZONE
BEGIN:VEVENT
DTSTART;VALUE=DATE:20200405
DTEND;VALUE=DATE:20200406
DTSTAMP:20260421T230530
CREATED:20200329T054402Z
LAST-MODIFIED:20200401T153032Z
UID:2623-1586044800-1586131199@beats.stars.ne.jp
SUMMARY:ヒーローの生と死！Hero's life and death 公演中止
DESCRIPTION:KISS SCENE\n ElfinLily\n ルナリウム\n 白金アイドル塾\n きつねでコンコン！\n 空想モーメントL＋\n AQUA\n ティアライン \n  \n福岡市より19日までの土日外出自粛の要請を受けまして、弊社主催によるイベントを自粛させていただきます。\n公演を楽しみにお待ちいただいておりましたお客様には大変ご迷惑をおかけいたしますが\nご理解・ご容赦賜りますよう何卒よろしくお願い致します。
URL:https://beats.stars.ne.jp/schedule/%e3%83%92%e3%83%bc%e3%83%ad%e3%83%bc%e3%81%ae%e7%94%9f%e3%81%a8%e6%ad%bb%ef%bc%81heros-life-and-death
LOCATION:BEAT STATION\, 福岡市中央区渡辺通4-11-4\, 〒810-0004
END:VEVENT
BEGIN:VEVENT
DTSTART;VALUE=DATE:20200404
DTEND;VALUE=DATE:20200405
DTSTAMP:20260421T230530
CREATED:20191210T105938Z
LAST-MODIFIED:20200422T092230Z
UID:2296-1585958400-1586044799@beats.stars.ne.jp
SUMMARY:Dreamin' Night Tour 2020 公演延期
DESCRIPTION:Yogee New Waves \n  \n\n Guest:D.A.N.\n  \n【払い戻し期間】 \n＜チケットぴあ・イープラス・ローソンチケットでご購入のお客様＞ \n■4月24日(金)10:00〜5月31日(日) 23:59まで \n＜LINE TICKETでご購入のお客様＞ \n■4月28日(火) 10:00〜5月31日(日) 23:59まで \n※上記払い戻し期限は必ずお守り下さい。期日を過ぎますと、払い戻しを致しかねますので予めご了承ください。  \n※一部店舗では払い戻しを当日対応出来ない場合もございますので予めご了承ください。  \n【チケットぴあにてご購入のお客様】  \nチケットをご持参の上、購入または受け取りされた店頭 (セブン-イレブン/ファミリーマート/ぴあ店舗) にて 払い戻しをさせて頂きます。 \n※セブン-イレブンは 24 時間営業です。  \nファミリーマートは毎週火曜・水曜 am2:30~5:30 はメンテナンスの為対応できません。  \n各店舗により営業時間が異なりますのでご注意ください。 \n ※購入したコンビニが近くにない場合等は、払い戻し期限までに郵送で「チケットぴあ」へお送りください。 \n ■払い戻し方法の詳細は下記 URL にてご確認ください。  \nhttp://t.pia.jp/guide/refund.jsp \n■Cloak 引き取りを選択され、まだ発券されていない場合は下記 URL にてご確認ください。  \nhttp://t.pia.jp/guide/refund03.jsp  \nお問い合わせ: チケットぴあ ヘルプページ　http://t.pia.jp/help/index.jsp   \n  \n【イープラスにてご購入のお客様】  \n払い戻し方法は、下記 URL よりご確認ください。 \n■公演延期の場合 https://eplus.jp/sf/refund2 お問い合わせ:イープラスお客さまサポート http://support.eplus.jp  \n【ローソンチケットでご購入のお客様】  \nお手元のチケットをご持参の上、購入または受け取りされたローソン・ミニストップ店頭にて払い戻しをさせて頂きます。 ※配送受取の場合は、お近くのローソン・ミニストップ店舗で払い戻しをさせて頂きます。 \n■払い戻し方法の詳細は下記 URL にてご確認ください。  \nhttps://l-tike.com/oc/lt/haraimodoshi/  \nお問い合わせ:ローソンチケット https://faq.l-tike.com/ \n【LINE TICKET にてご購入のお客様】  \n払い戻し方法は、「LINE チケット info」のトーク画面から案内が届きますので、指定の期間内に振込先をご登録ください。 期間内にご登録のない場合、払い戻しの対応が出来ませんのでご注意ください。 なお、分配などをした場合はチケット購入者ではなく、そのチケットの保有者に払い戻しの通知が届きます。  \n■払い戻し方法の詳細は下記 URL にてご確認ください。 https://help2.line.me/ticketapp/web/categoryId/20005226/pc?lang=ja 
URL:https://beats.stars.ne.jp/schedule/dreamin-nirht-tour-2020
LOCATION:BEAT STATION\, 福岡市中央区渡辺通4-11-4\, 〒810-0004
CATEGORIES:トップ画面に表示する
END:VEVENT
BEGIN:VEVENT
DTSTART;VALUE=DATE:20200403
DTEND;VALUE=DATE:20200404
DTSTAMP:20260421T230530
CREATED:20200124T031541Z
LAST-MODIFIED:20200415T063549Z
UID:2428-1585872000-1585958399@beats.stars.ne.jp
SUMMARY:當山みれい LIVE HOUSE TOUR 2020　公演延期
DESCRIPTION:當山みれい \n  \n當山みれい LIVE HOUSE TOUR 2020＜振替公演・払い戻しのご案内＞ \nいつも當山みれいを応援いただき、ありがとうございます。 \n先日、新型コロナウイルス感染症対策本部における政府からの公演自粛の要請方針に従い、 \n延期をご案内させていただきましたが、下記スケジュールにて振替日程が決定しました。 \n「當山みれい　LIVE HOUSE TOUR 2020 」 \n中止日程：2020年4月3日（金）→振替日程:2020年10月22日（木） \n会場：福岡 BEAT STATION　　　→振替会場：福岡 BEAT STATION  \nopen 18:30 / start 19:00        →open 18:30 / start 19:00 \n※開場・開演時間が変更になります。 \nお手持ちのチケットは、そのまま指定の振替公演に有効となりますので、大切にお持ち下さい。 \n振替公演にご来場いただく事が出来ないお客様には、払い戻しを承ります。 \n■払い戻しについて \nご購入先によって払い戻し方法が異なりますので、下記事項をご確認の上、手続きをお願いいたします。 \nなお、払い戻し期限は必ずお守り下さい。 \n期日を過ぎますと、払い戻しを致しかねますので予めご了承ください。 \n＜払い戻し期間：2020年5月16日(土)10:00～7月31日(金)23:59まで＞ \n【モバイル会員先行/オフィシャル先行/Instagram先行/チケットぴあにてご購入のお客様】  \n下記URLより払い戻し方法をご確認の上、お手続きください。 \nhttp://t.pia.jp/guide/refund.jsp \n払い戻しに関するお問合せ：チケットぴあ http://t.pia.jp/help/ \n【イープラスにてご購入のお客様】\n ●ファミリーマート・セブンイレブン発券の場合 \n※購入いただいた店舗にて払い戻しを行います。 \n※払い戻し期間を過ぎますと、払い戻しは出来なくなりますのでご注意ください。 \n●配送受取の場合 \n2020年7月31日（金）必着にて郵送受付 \n※チケットの郵送先住所など詳しくは下記チャート（イープラスＨＰ）でご確認下さい。 \n＊払い戻し方法詳細は下記のアドレスからご確認下さい。 \n【スマートフォン・ＰＣ】https://eplus.jp/refund2/ \n※払い戻し受付期間を過ぎますと、払い戻しは出来なくなりますのでご注意下さい。 \n払い戻しに関するお問合せ：イープラス http://support.eplus.jp/ \n【ローソンチケットにてご購入のお客様】 \n①チケット、②各種手数料券をご持参の上、ローソン・ミニストップの店頭にて、 \nチケット代金・各種手数料（一部払い戻し対象外となります。）の払い戻し手続きをお願いいたします。 \n※チケットをお引取りいただいたコンビニであれば、どの店舗でも払戻しが可能です。（ローソンでご購入の場合はローソンで、ミニストップでご購入の場合はミニストップ店頭での払戻しとなります。） \n店内設置のLoppiより払戻しの操作を行ってください。(24時間対応)。 \n  \n払い戻しの際、チケット・各種手数料券は回収させていただきます。 \n詳細は下記リンク先より、ご確認ください。 \nhttp://l-tike.com/oc/lt/haraimodoshi/ \n  \n払い戻しに関するお問合せ：ローソンチケット https://faq.l-tike.com/ \n【手売り販売にてご購入のお客様】 \nチケットを手売り購入したお客様はチケット返送をもって払戻しとなります。 \n※2020年7月31日（金）必着にて郵送受付 \n＜払戻し方法＞ \n必ず簡易書留または配達証明にて2020年7月31日(金)必着で下記住所にお送りください。 \n———- \n送付先：〒150-0001 \n東京都渋谷区神宮前3-34-6　４階 \n（株）H.I.P. 當山みれい公演払戻し係 \n———- \n送付いただくもの： \n１． お手持ちの未使用のチケット \n２． お客様のお名前、ご住所、ご連絡先、振込先の銀行名、支店名、口座番号、口座名義（カタカナ）を書いたメモ \n※『半券』がもぎられているチケットの払戻しはできませんのでご注意ください。 \n※必着期限を過ぎますと払戻しが出来なくなりますのでご注意ください。 \n※簡易書留または配達証明以外で返送されたものにつきましての未着は、一切責任を負えませんのでご注意ください。 \n※お振込み時の名義は「ウッズインターナショナルネットワーク」となります。 \n手売りチケット払戻しに関するお問合せ：H.I.P. 03-3475-9999（平日10:00～18:00） \n※新型コロナウイルスの感染拡大に伴いまして、 \n2020年5月6日までお客様お問い合わせ窓口のオペレーター対応を休業とさせていただくこととなりました。 \nご不便とご迷惑をお掛けし誠に申し訳ございませんが、何卒ご理解賜りますようお願い申し上げます。 \nまた、今後窓口休業期間が延長する可能性もございますのでご了承ください。 \n詳しくは以下URLよりご確認をお願いいたします。 \nhttps://www.hipjpn.co.jp/archives/news/200413 \n【公演に関するお問い合わせ】 \nH.I.P. 03-3475-9999 （平日10：00～18：00） https://www.hipjpn.co.jp \n※新型コロナウイルスの感染拡大に伴いまして、 \n2020年5月6日までお客様お問い合わせ窓口のオペレーター対応を休業とさせていただくこととなりました。 \nご不便とご迷惑をお掛けし誠に申し訳ございませんが、何卒ご理解賜りますようお願い申し上げます。 \nまた、今後窓口休業期間が延長する可能性もございますのでご了承ください。 \n詳しくは以下URLよりご確認をお願いいたします。 \nhttps://www.hipjpn.co.jp/archives/news/200413
URL:https://beats.stars.ne.jp/schedule/%e7%95%b6%e5%b1%b1%e3%81%bf%e3%82%8c%e3%81%84-live-house-tour-2020
LOCATION:BEAT STATION\, 福岡市中央区渡辺通4-11-4\, 〒810-0004
CATEGORIES:トップ画面に表示する
END:VEVENT
BEGIN:VEVENT
DTSTART;VALUE=DATE:20200329
DTEND;VALUE=DATE:20200330
DTSTAMP:20260421T230530
CREATED:20200218T044251Z
LAST-MODIFIED:20200410T020948Z
UID:2485-1585440000-1585526399@beats.stars.ne.jp
SUMMARY:「5 Sheep Last Tour」公演延期
DESCRIPTION:メリー \n 払い戻し等はこちらを参照ください \nhttps://www.bea-net.com/information/merry.html \n ●発売日：3/28（土）10:00〜
URL:https://beats.stars.ne.jp/schedule/%e3%80%8c5-sheep-last-tour%e3%80%8d
LOCATION:BEAT STATION\, 福岡市中央区渡辺通4-11-4\, 〒810-0004
CATEGORIES:トップ画面に表示する
END:VEVENT
BEGIN:VEVENT
DTSTART;VALUE=DATE:20200328
DTEND;VALUE=DATE:20200329
DTSTAMP:20260421T230530
CREATED:20200211T061337Z
LAST-MODIFIED:20200313T061137Z
UID:2467-1585353600-1585439999@beats.stars.ne.jp
SUMMARY:公演中止
DESCRIPTION:
URL:https://beats.stars.ne.jp/schedule/rent-thanks-24
LOCATION:BEAT STATION\, 福岡市中央区渡辺通4-11-4\, 〒810-0004
END:VEVENT
BEGIN:VEVENT
DTSTART;VALUE=DATE:20200327
DTEND;VALUE=DATE:20200328
DTSTAMP:20260421T230530
CREATED:20191206T062439Z
LAST-MODIFIED:20200319T015401Z
UID:2285-1585267200-1585353599@beats.stars.ne.jp
SUMMARY:神はサイコロを振らない Live Tour 2020 “理 -kotowari-” 公演延期
DESCRIPTION:神はサイコロを振らない \n  \n \n延期公演はINSA様ですので、お間違えない様お気をつけ下さい。
URL:https://beats.stars.ne.jp/schedule/%e7%a5%9e%e3%81%af%e3%82%b5%e3%82%a4%e3%82%b3%e3%83%ad%e3%82%92%e6%8c%af%e3%82%89%e3%81%aa%e3%81%84-live-tour-2020-%e7%90%86-kotowari
LOCATION:BEAT STATION\, 福岡市中央区渡辺通4-11-4\, 〒810-0004
CATEGORIES:トップ画面に表示する
END:VEVENT
BEGIN:VEVENT
DTSTART;VALUE=DATE:20200325
DTEND;VALUE=DATE:20200326
DTSTAMP:20260421T230530
CREATED:20200111T074800Z
LAST-MODIFIED:20200320T083746Z
UID:2380-1585094400-1585180799@beats.stars.ne.jp
SUMMARY:BugLug 10th Anniversary Que Sera Sera  公演延期
DESCRIPTION:BugLug \n GUEST: RAZOR
URL:https://beats.stars.ne.jp/schedule/buglug-10th-anniversary-que-sera-sera
LOCATION:BEAT STATION\, 福岡市中央区渡辺通4-11-4\, 〒810-0004
CATEGORIES:トップ画面に表示する
END:VEVENT
BEGIN:VEVENT
DTSTART;VALUE=DATE:20200322
DTEND;VALUE=DATE:20200323
DTSTAMP:20260421T230530
CREATED:20191117T053315Z
LAST-MODIFIED:20200315T071036Z
UID:2241-1584835200-1584921599@beats.stars.ne.jp
SUMMARY:「つぼみ大革命初全国ツアー〜バーンっていってガーンって突破〜」公演中止
DESCRIPTION:つぼみ大革命\n  \n  \nチケットの払い戻しはオフィシャルホームページでご確認ください。\nhttps://yoshimoto.funity.jp/2020/03/11/post-11302/
URL:https://beats.stars.ne.jp/schedule/%e3%80%8c%e3%81%a4%e3%81%bc%e3%81%bf%e5%a4%a7%e9%9d%a9%e5%91%bd%e5%88%9d%e5%85%a8%e5%9b%bd%e3%83%84%e3%82%a2%e3%83%bc%e3%80%9c%e3%83%90%e3%83%bc%e3%83%b3%e3%81%a3%e3%81%a6%e3%81%84%e3%81%a3%e3%81%a6
LOCATION:BEAT STATION\, 福岡市中央区渡辺通4-11-4\, 〒810-0004
END:VEVENT
BEGIN:VEVENT
DTSTART;VALUE=DATE:20200321
DTEND;VALUE=DATE:20200322
DTSTAMP:20260421T230530
CREATED:20200312T061722Z
LAST-MODIFIED:20200313T061056Z
UID:2551-1584748800-1584835199@beats.stars.ne.jp
SUMMARY:アルカトラズ、脱獄と閉鎖
DESCRIPTION:北風と太陽\n knob\n AQUA
URL:https://beats.stars.ne.jp/schedule/%e3%82%a2%e3%83%ab%e3%82%ab%e3%83%88%e3%83%a9%e3%82%ba%e3%80%81%e8%84%b1%e7%8d%84%e3%81%a8%e9%96%89%e9%8e%96
LOCATION:BEAT STATION\, 福岡市中央区渡辺通4-11-4\, 〒810-0004
CATEGORIES:トップ画面に表示する
END:VEVENT
BEGIN:VEVENT
DTSTART;VALUE=DATE:20200320
DTEND;VALUE=DATE:20200321
DTSTAMP:20260421T230530
CREATED:20191212T082114Z
LAST-MODIFIED:20200313T101422Z
UID:2306-1584662400-1584748799@beats.stars.ne.jp
SUMMARY:ame_no_parade TOUR 2020 "BORDERLESS" 公演延期
DESCRIPTION:雨のパレード\n  \name_no_parade TOUR 2020 “BORDERLESS” 振替公演のご案内\n\n現在開催中の「ame_no_parade TOUR 2020 “BORDERLESS”」ですが、新型コロナウイルスの情勢により\n延期とさせていただきました、福岡公演の振替公演詳細と、振替公演に関するチケット払い戻し詳細が決まりましたのでご案内いたします。 \n【延期公演】\n■3月1日（日）東京 EX THEATER ROPPONGI　開場17:00 / 開演18:00\n■3月14日（土）大阪 なんばHatch　開場17:00 / 開演18:00\n■3月20日（金祝）福岡　BEAT STATION　開場17:30 / 開演18:00\n↓\n【振替公演日程】\n■4月24日（金）福岡　BEAT STATION　開場18:30 / 開演19:00\n■5月1日（金） 大阪 なんばHatch　開場18:30 / 開演19:30\n■5月20日（水）東京 EX THEATER ROPPONGI　開場18:30 / 開演19:30\n※開場・開演時間が変更になっております。ご注意ください。 \nお手持ちのチケットは、振替公演にてそのまま有効となりますので、振替公演日まで大切にお持ちください。チケットの紛失やご来場時のチケットをお持ちでない場合は、ご来場をお断りする場合がございます。くれぐれもご注意ください。 \n残念ながら振替公演にご来場が叶わないお客様には、下記日程でチケットの払い戻しをさせていただきます。\n【受付期間】3月17日（火）10:00 ～ 3月31日（火）23:59\n各公演や毎に払い戻し方法・期間が異なりますので、詳しくは下記【各公演に関するお問い合わせ】のホームページをご確認ください。\n＊半券がないものは無効となります。 \n4月10日（金）鹿児島公演は、現段階では通常通り実施させていただく方向で準備を行っており、今後も政府や関係機関等の発表や状況を注視しながら対応を進めて参ります。 \nご迷惑、お手数をおかけいたしますが、何卒ご了承いただきますようお願い申し上げます。 \n【東京公演に関するお問合せ】H.I.P. 03-3475-9999（平日10:00～18:00）\nhttps://www.hipjpn.co.jp/archives/58865\n【大阪公演に関するお問合せ】サウンドクリエーター 06-6357-4400（平日 12:00～17:00）\nhttps://www.sound-c.co.jp/news/detail/692/\n【福岡公演に関するお問合せ】キョードー西日本 0570-09-2424（日・祝以外 11:00〜17:00）\nhttp://www.kyodo-west.co.jp/information.php?info_id=736
URL:https://beats.stars.ne.jp/schedule/ame_no_parade-tour-2020-borderless
LOCATION:BEAT STATION\, 福岡市中央区渡辺通4-11-4\, 〒810-0004
END:VEVENT
BEGIN:VEVENT
DTSTART;VALUE=DATE:20200319
DTEND;VALUE=DATE:20200320
DTSTAMP:20260421T230530
CREATED:20200216T015406Z
LAST-MODIFIED:20200216T015406Z
UID:2476-1584576000-1584662399@beats.stars.ne.jp
SUMMARY:ATP 学祭 revenge
DESCRIPTION:
URL:https://beats.stars.ne.jp/schedule/atp-%e5%ad%a6%e7%a5%ad-revenge
LOCATION:BEAT STATION\, 福岡市中央区渡辺通4-11-4\, 〒810-0004
END:VEVENT
BEGIN:VEVENT
DTSTART;VALUE=DATE:20200315
DTEND;VALUE=DATE:20200316
DTSTAMP:20260421T230530
CREATED:20200116T054627Z
LAST-MODIFIED:20200310T093323Z
UID:2402-1584230400-1584316799@beats.stars.ne.jp
SUMMARY:リーガルリリーpresents「bedtime story」公演延期
DESCRIPTION:リーガルリリー \n※振替公演の日程及びチケットの払戻方法が決定いたしました。(2020.3.6更新) \n【振替公演】2020年5月26日(火) 福岡BEAT STATION 開場 18:30/開演 19:00\n※開場/開演時間が変更となっておりますので、ご注意ください。  \n振替公演にご都合が合わず参加出来ない方を対象としたチケット払戻しを受け付けさせて頂きます。\n詳しい払い戻し方法はこちらをご確認ください。\n※ご購入先により払い戻し期間が異なります。 \n——————\n～リーガルリリー presents「bedtime story」3/15福岡公演延期に関する大切なお知らせ ～ \nいつも、リーガルリリーを応援頂き有難うございます。\n全国ツアー、リーガルリリー presents「bedtime story」について大切なお知らせがございます。 \n  2020年2月26日発表の新型コロナウイルス感染症対策の基本方針に鑑み、 \n2020年3月15日(日) 福岡 BEAT STATION \n上記公演について、開催の延期を決定致しました。 \n延期日程につきましては現在調整中ですが、今後の状況を踏まえて、実施の有無は後日改めて当ホームペジにて御案内をさせて頂きます。 \n※上記に記載の2公演についての払い戻し詳細に関しましては、‪後日 改めて当ホームページにてご案内をさせて頂きます。\n‬ 電子チケット・紙チケットどちらも払い戻しの対象となりますので、お手持ちのチケットは、大切にお持ちください。 \nファンの皆様、公演を心待ちにしてくださっている皆様にはご心配とご迷惑をおかけいたしますが、\nご理解、ご協力のほど何卒よろしくお願い申し上げます。 \n2020年3月3日\nオフィス オーガスタ
URL:https://beats.stars.ne.jp/schedule/%e3%83%aa%e3%83%bc%e3%82%ac%e3%83%ab%e3%83%aa%e3%83%aa%e3%83%bcpresents%e3%80%8cbedtime-story%e3%80%8d
LOCATION:BEAT STATION\, 福岡市中央区渡辺通4-11-4\, 〒810-0004
CATEGORIES:トップ画面に表示する
END:VEVENT
BEGIN:VEVENT
DTSTART;VALUE=DATE:20200314
DTEND;VALUE=DATE:20200315
DTSTAMP:20260421T230530
CREATED:20191206T063246Z
LAST-MODIFIED:20200310T093142Z
UID:2288-1584144000-1584230399@beats.stars.ne.jp
SUMMARY:GARNiDELiA10th ANNIVERSARY stellacage tour 2020「star trail」 公演延期
DESCRIPTION:GARNiDELiA \n  \n新型コロナウイルス感染拡大に伴う福岡公演スケジュール変更のお知らせ\n\n 平素よりGARNiDELiA・メイリア・tokuを応援していただき、誠にありがとうございます。 \n 3/14(土)福岡県・FUKUOKA BEAT STATIONにて開催を予定しておりました、\n 「GARNiDELiA 10th ANNIVERSARY stellacage tour 2020「star trail」」公演ですが、\n 新型コロナウイルス感染拡大の状況を受けまして、ご来場頂くお客様の安全を第一に考慮致しました結果、\n 公演を延期とさせて頂くことと致しました。 \n お手持ちのチケットは整理番号を含め、そのまま振替公演にてご利用になれますので\n 大切に保管していただきますようお願い申し上げます。 \n ———————\n  \n振替公演日\n 6月4日(木)福岡県・FUKUOKA BEAT STATION OPEN 17：30／START18：30\n開場開演時間が変更となりますので、ご注意ください。 \n 尚、延期公演のご都合が合わないお客様につきましてはチケットの払い戻しを承ります。\n 払い戻し方法は、チケットの受取方法や支払方法により異なります。\n 払い戻し方法をご確認の上、お手続きください。 \n 【払い戻し期間】2020年3月23日(月)10：00～2020年3月31日(火)23：59迄\n ※上記期間外での払い戻し対応は、一切お受けできませんのでご注意ください。\n ※払い戻し終了時間はプレイガイドによって異なりますので、下記詳細をよくご確認の上、お早めにお手続きください。 \n  \nFC先行・イープラス最速抽選先行にてご購入のお客様\n＜イープラス＞\n 払戻方法確認チャート：https://eplus.jp/refund2/\n お問合せ イープラスhttp://support.eplus.jp/  \n  \nイープラスにてご購入のお客様\n払い戻し方法は、チケットの受取方法や支払方法により異なります。\n 下記より払い戻し方法をご確認の上、お手続きください。\n http://eplus.jp/refund2\n お問い合わせ：e+（イープラス）　http://eplus.jp/qa  \n  \nBEA-WEB先行、ローソンチケットにてご購入のお客様\nお手元のチケットをご持参の上、お買い求めになられた店舗のLoppiにて払い戻しを行います。\n ※配送受取の場合は、お近くのローソン・ミニストップ店舗で払い戻しさせて頂きます。\n 詳しくは下記をご参照ください。\n http://l-tike.com/oc/lt/haraimodoshi/\n お問合せ：ローソンチケット 0570-000-777（10:00～18:00）  \n  \nチケットぴあにてご購入のお客様\n払い戻し方法は、チケットの受取方法や支払方法により異なります。\n 下記より払い戻し方法をご確認の上、お手続きください。\n http://t.pia.jp/guide/refund.html\n お問合せ：チケットぴあ 0570-02-9111（10:00～18:00）  \n お問い合わせ\n BEA TEL 092-712-4221（月～金 11:00～18:00 第2・4土～15:00）
URL:https://beats.stars.ne.jp/schedule/garnidelia10th-anniversary-stellacage-tour-2020%e3%80%8cstar-trail%e3%80%8d
LOCATION:BEAT STATION\, 福岡市中央区渡辺通4-11-4\, 〒810-0004
CATEGORIES:トップ画面に表示する
END:VEVENT
BEGIN:VEVENT
DTSTART;VALUE=DATE:20200313
DTEND;VALUE=DATE:20200314
DTSTAMP:20260421T230530
CREATED:20200211T060213Z
LAST-MODIFIED:20200312T095002Z
UID:2464-1584057600-1584143999@beats.stars.ne.jp
SUMMARY:ABOUT MUSIC Presents "THINGS WE SAY SPECIAL" 公演中止
DESCRIPTION:
URL:https://beats.stars.ne.jp/schedule/about-music-presents-things-we-say-special-3
LOCATION:BEAT STATION\, 福岡市中央区渡辺通4-11-4\, 〒810-0004
CATEGORIES:トップ画面に表示する
END:VEVENT
BEGIN:VEVENT
DTSTART;VALUE=DATE:20200313
DTEND;VALUE=DATE:20200314
DTSTAMP:20260421T230530
CREATED:20200313T060841Z
LAST-MODIFIED:20200313T060841Z
UID:2570-1584057600-1584143999@beats.stars.ne.jp
SUMMARY:THINGS WE SAY SPECIAL "EXTRA"
DESCRIPTION:THINGS WE SAY SPECIAL “EXTRA”がBEAT STATIONにてエントランスフリー[投げ銭制]で開催！ \n週末CITY PLAY BOYZ、SHOTA-LOW、YOSUKEらがこの日の為に集結。急遽開催の為、拡散にご協力をお願いします！一夜限りのエクストラ、無理ない範囲でお越し下さい
URL:https://beats.stars.ne.jp/schedule/things-we-say-special-extra
CATEGORIES:トップ画面に表示する
END:VEVENT
BEGIN:VEVENT
DTSTART;VALUE=DATE:20200308
DTEND;VALUE=DATE:20200309
DTSTAMP:20260421T230530
CREATED:20191226T090542Z
LAST-MODIFIED:20200229T224935Z
UID:2333-1583625600-1583711999@beats.stars.ne.jp
SUMMARY:Halo at 四畳半 ワンマンツアー2020 “無垢なる祈りの宿し方” 公演延期
DESCRIPTION:Halo at 四畳半 \n\n平素よりHalo at 四畳半を応援していただき誠にありがとうございます。 \n  \n2020年02月29日(土) 高松 DIME\n2020年03月07日(土) 広島 SECOND CRUTCH\n2020年03月08日(日) 福岡 BEAT STATION \n  \nに予定しております「Halo at 四畳半 ワンマンツアー2020 “無垢なる祈りの宿し方”」につきまして、この度の新型コロナウイルスの感染拡大の状況を踏まえ、開催を延期とさせて頂く事となりました。 \n \n苦渋の選択でございましたが、検討の結果、未だ収束時期の見通しが立たない状況下においての公演の実施は難しいと判断させて頂きました。 \n \n楽しみに待っていて下さった来場者の皆様へこのようなご報告となってしまい誠に申し訳ございませんが、何卒ご理解の程宜しくお願い致します。 \n \n尚、当公演は振替公演、及び、希望者への払い戻しを実施させて頂きます。\n 詳細に関しましては、購入者の方へ近日中にご連絡させて頂きます。 \n \nまたその他の公演に関してましては、引き続き政府や関係諸機関等の発表を注視しながら、開催について検討し、追ってご案内させていただきます。 \n \n引き続き、皆様のご理解とご協力の程宜しくお願い致します。
URL:https://beats.stars.ne.jp/schedule/halo-at-%e5%9b%9b%e7%95%b3%e5%8d%8a-%e3%83%af%e3%83%b3%e3%83%9e%e3%83%b3%e3%83%84%e3%82%a2%e3%83%bc2020-%e7%84%a1%e5%9e%a2%e3%81%aa%e3%82%8b%e7%a5%88%e3%82%8a%e3%81%ae%e5%ae%bf%e3%81%97
LOCATION:BEAT STATION\, 福岡市中央区渡辺通4-11-4\, 〒810-0004
END:VEVENT
BEGIN:VEVENT
DTSTART;VALUE=DATE:20200307
DTEND;VALUE=DATE:20200308
DTSTAMP:20260421T230530
CREATED:20200124T062155Z
LAST-MODIFIED:20200228T032713Z
UID:2433-1583539200-1583625599@beats.stars.ne.jp
SUMMARY:BIM全国ワンマンツアー”NOT BUSY 2020”   公演延期のお知らせ 
DESCRIPTION:BIM / ビム  \nBIM全国ワンマンツアー”NOT BUSY 2020”   公演延期のお知らせ  \n  \n3月7日（土）FUKUOKA BEAT STATIONにて予定しておりました  \nBIM”NOT BUSY 2020”ツアーは新型肺炎の影響により、アーティスト本人、お客様の安全確保を考慮した上で、やむを得ず公演延期、振替とさせて頂きます。  \n現在アーティスト側と振替公演の日程の調整を始めており、振替日程の発表は3月3日(火)12:00を予定しております。  \nお手持ちのチケットは振替公演に そのまま有効となりますので、紛失されないよう大切に保管くださいますようお願いします。(LINEチケットでご購入のお客様は、LINEアカウントを削除しないようにご注意ください。)  \n  \nまた、払い戻しをご希望のお客様に関しましても、あらためて払い戻し方法を発表させていただきますので、大切に保管をお願い致します。  \n  \n今回の公演を楽しみに待っていてくださったお客さま、並びに関係者の皆さま方に深くお詫び申し上げます。  \n  \n総合問合わせ：SMASH 03-3444-6751 smash-jpn.com 
URL:https://beats.stars.ne.jp/schedule/bim%e5%85%a8%e5%9b%bd%e3%83%af%e3%83%b3%e3%83%9e%e3%83%b3%e3%83%84%e3%82%a2%e3%83%bcnot-busy-2020
LOCATION:BEAT STATION\, 福岡市中央区渡辺通4-11-4\, 〒810-0004
CATEGORIES:トップ画面に表示する
END:VEVENT
BEGIN:VEVENT
DTSTART;VALUE=DATE:20200306
DTEND;VALUE=DATE:20200307
DTSTAMP:20260421T230530
CREATED:20200114T070526Z
LAST-MODIFIED:20200301T040252Z
UID:2393-1583452800-1583539199@beats.stars.ne.jp
SUMMARY:よかろうもん 1st Tour 2020 全国に届けLove&Noodle 公演延期
DESCRIPTION:よかろうもん \nGuest:財部亮治
URL:https://beats.stars.ne.jp/schedule/%e3%82%88%e3%81%8b%e3%82%8d%e3%81%86%e3%82%82%e3%82%93-1st-tour-2020-%e5%85%a8%e5%9b%bd%e3%81%ab%e5%b1%8a%e3%81%91lovenoodle
LOCATION:BEAT STATION\, 福岡市中央区渡辺通4-11-4\, 〒810-0004
CATEGORIES:トップ画面に表示する
END:VEVENT
BEGIN:VEVENT
DTSTART;VALUE=DATE:20200303
DTEND;VALUE=DATE:20200304
DTSTAMP:20260421T230530
CREATED:20200303T070542Z
LAST-MODIFIED:20200303T070542Z
UID:2526-1583193600-1583279999@beats.stars.ne.jp
SUMMARY:HINA-FES 〜雛あられ・白酒・菱餅・チラシ寿司〜 福岡ビートステーション＜コミュケーション・ラウンジ・フロア＞
DESCRIPTION: \n\nDAIKI\n\n\n相馬スナフキン\n\n\n岡部聡\n\n\nmomi-ji\n\n\n松下剛\n\n\n \n\n \n\n 
URL:https://beats.stars.ne.jp/schedule/hina-fes-%e3%80%9c%e9%9b%9b%e3%81%82%e3%82%89%e3%82%8c%e3%83%bb%e7%99%bd%e9%85%92%e3%83%bb%e8%8f%b1%e9%a4%85%e3%83%bb%e3%83%81%e3%83%a9%e3%82%b7%e5%af%bf%e5%8f%b8%e3%80%9c-%e7%a6%8f%e5%b2%a1%e3%83%93
LOCATION:BEAT STATION\, 福岡市中央区渡辺通4-11-4\, 〒810-0004
CATEGORIES:トップ画面に表示する
END:VEVENT
BEGIN:VEVENT
DTSTART;VALUE=DATE:20200301
DTEND;VALUE=DATE:20200302
DTSTAMP:20260421T230530
CREATED:20200216T040213Z
LAST-MODIFIED:20200216T040213Z
UID:2478-1583020800-1583107199@beats.stars.ne.jp
SUMMARY:TDS 発表会 LIVE 2020
DESCRIPTION:
URL:https://beats.stars.ne.jp/schedule/tds-%e7%99%ba%e8%a1%a8%e4%bc%9a-live-2020
LOCATION:BEAT STATION\, 福岡市中央区渡辺通4-11-4\, 〒810-0004
CATEGORIES:トップ画面に表示する
END:VEVENT
BEGIN:VEVENT
DTSTART;VALUE=DATE:20200228
DTEND;VALUE=DATE:20200229
DTSTAMP:20260421T230530
CREATED:20200104T020624Z
LAST-MODIFIED:20200227T033304Z
UID:2349-1582848000-1582934399@beats.stars.ne.jp
SUMMARY:”HYPERTOUGHNESS” Release Tour 2020 公演延期
DESCRIPTION:Fear\, and Loathing in Las Vegas  \n“HYPERTOUGHNESS” Release Tour 2020 開催延期に関するお知らせ  \n  \nこの度の新型コロナウイルス感染拡大の状況を踏まえ  \n  \n2月28日（金）福岡BEAT STATION  \n2月29日(土)大分T.O.P.S BittsHALL  \n3月7日（土）BLUE LIVE広島  \n3月14日(土)高松MONSTER  \n  \n以上4公演につきまして、感染拡大防止の観点と、ご来場予定のお客様の安全を第一に考えた結果、開催を延期とさせて頂く事となりました。  \n振替公演につきましては只今関係各所と調整している最中ですが、詳細がまとまり次第随時ご案内させて頂きます。  \n  \nまた、4月以降の公演に関しましては、今後の政府や関係機関からの発表や指針をもとに検討し追ってご案内させて頂きます。  \n  \n開催を楽しみにしていて下さった皆様へは直前のご連絡となってしまい大変申し訳ございませんが、何卒ご理解の程、宜しくお願い致します。  \n  \nFear\, and Loathing in Las Vegas  \n  \n \n \n 
URL:https://beats.stars.ne.jp/schedule/hypertoughness-release-tour-2020
LOCATION:BEAT STATION\, 福岡市中央区渡辺通4-11-4\, 〒810-0004
CATEGORIES:トップ画面に表示する
END:VEVENT
BEGIN:VEVENT
DTSTART;VALUE=DATE:20200223
DTEND;VALUE=DATE:20200224
DTSTAMP:20260421T230530
CREATED:20191222T064328Z
LAST-MODIFIED:20200111T132249Z
UID:2316-1582416000-1582502399@beats.stars.ne.jp
SUMMARY:のんびり行こうぜ！100万ドルのイナ・バウアー I'll go freely. Ina Bauer of 1 million dollar
DESCRIPTION:宮本輝<Mr.HAGANE>\n CrossZ’ellier\n TRIBAL RED\n 優しさライセンス\n 紫電改(小倉)
URL:https://beats.stars.ne.jp/schedule/%e3%81%ae%e3%82%93%e3%81%b3%e3%82%8a%e8%a1%8c%e3%81%93%e3%81%86%e3%81%9c%ef%bc%81100%e4%b8%87%e3%83%89%e3%83%ab%e3%81%ae%e3%82%a4%e3%83%8a%e3%83%bb%e3%83%90%e3%82%a6%e3%82%a2%e3%83%bc-ill-go-freely
LOCATION:BEAT STATION\, 福岡市中央区渡辺通4-11-4\, 〒810-0004
CATEGORIES:トップ画面に表示する
END:VEVENT
BEGIN:VEVENT
DTSTART;VALUE=DATE:20200222
DTEND;VALUE=DATE:20200223
DTSTAMP:20260421T230530
CREATED:20200104T021646Z
LAST-MODIFIED:20200104T021646Z
UID:2352-1582329600-1582415999@beats.stars.ne.jp
SUMMARY:カル×ピン あえて真夏にしない強化合宿ツアー（合宿もしない) in福岡
DESCRIPTION:カル×ピン\nヒカル\n怪盗Pinky \n  \n \n\n先行物販整列14:50\n先行物販開始15:00
URL:https://beats.stars.ne.jp/schedule/%e3%82%ab%e3%83%abx%e3%83%94%e3%83%b3-%e3%81%82%e3%81%88%e3%81%a6%e7%9c%9f%e5%a4%8f%e3%81%ab%e3%81%97%e3%81%aa%e3%81%84%e5%bc%b7%e5%8c%96%e5%90%88%e5%ae%bf%e3%83%84%e3%82%a2%e3%83%bc%ef%bc%88
LOCATION:BEAT STATION\, 福岡市中央区渡辺通4-11-4\, 〒810-0004
CATEGORIES:トップ画面に表示する
END:VEVENT
BEGIN:VEVENT
DTSTART;VALUE=DATE:20200221
DTEND;VALUE=DATE:20200222
DTSTAMP:20260421T230530
CREATED:20191122T063521Z
LAST-MODIFIED:20191122T063521Z
UID:2256-1582243200-1582329599@beats.stars.ne.jp
SUMMARY:スペースシャワー列伝 JAPAN TOUR 2020
DESCRIPTION:KOTORI\nSuspended 4th\nズーカラデル\nハンブレッダーズ
URL:https://beats.stars.ne.jp/schedule/%e3%82%b9%e3%83%9a%e3%83%bc%e3%82%b9%e3%82%b7%e3%83%a3%e3%83%af%e3%83%bc%e5%88%97%e4%bc%9d-japan-tour-2020
LOCATION:BEAT STATION\, 福岡市中央区渡辺通4-11-4\, 〒810-0004
CATEGORIES:トップ画面に表示する
END:VEVENT
BEGIN:VEVENT
DTSTART;VALUE=DATE:20200218
DTEND;VALUE=DATE:20200219
DTSTAMP:20260421T230530
CREATED:20200216T014918Z
LAST-MODIFIED:20200216T014918Z
UID:2474-1581984000-1582070399@beats.stars.ne.jp
SUMMARY:XTRA 15th ANNIVERSARY
DESCRIPTION:Special Guest LIVE\n週末CITY PLAY BOYZ \nSpecial Guest Showcase\nFu/kewl\nafro jack classics \n学年ナンバー/ジャンルナンバー/\nBulldog主催のcrewbattle\nそして、OBOG showcase/\nSP guest showcase \nなどコンテンツが盛り沢山
URL:https://beats.stars.ne.jp/schedule/xtra-15th-anniversary
LOCATION:BEAT STATION\, 福岡市中央区渡辺通4-11-4\, 〒810-0004
END:VEVENT
BEGIN:VEVENT
DTSTART;VALUE=DATE:20200216
DTEND;VALUE=DATE:20200217
DTSTAMP:20260421T230530
CREATED:20200216T014158Z
LAST-MODIFIED:20200216T014158Z
UID:2471-1581811200-1581897599@beats.stars.ne.jp
SUMMARY:DNC GRAND CHAMPION SHIP 2019
DESCRIPTION:
URL:https://beats.stars.ne.jp/schedule/dnc-grand-champion-ship-2019
LOCATION:BEAT STATION\, 福岡市中央区渡辺通4-11-4\, 〒810-0004
CATEGORIES:トップ画面に表示する
END:VEVENT
BEGIN:VEVENT
DTSTART;VALUE=DATE:20200215
DTEND;VALUE=DATE:20200216
DTSTAMP:20260421T230530
CREATED:20191001T030929Z
LAST-MODIFIED:20191001T030929Z
UID:2123-1581724800-1581811199@beats.stars.ne.jp
SUMMARY:ラックライフ TOUR 2020 「Raise The Flag」
DESCRIPTION:ラックライフ \n\nチケット一般発売 12/18 10:00
URL:https://beats.stars.ne.jp/schedule/%e3%83%a9%e3%83%83%e3%82%af%e3%83%a9%e3%82%a4%e3%83%95-tour-2020-%e3%80%8craise-the-flag%e3%80%8d
LOCATION:BEAT STATION\, 福岡市中央区渡辺通4-11-4\, 〒810-0004
CATEGORIES:トップ画面に表示する
END:VEVENT
BEGIN:VEVENT
DTSTART;VALUE=DATE:20200214
DTEND;VALUE=DATE:20200215
DTSTAMP:20260421T230530
CREATED:20191227T100849Z
LAST-MODIFIED:20200111T132436Z
UID:2337-1581638400-1581724799@beats.stars.ne.jp
SUMMARY:汝・欲すは、死して、屍拾う者無し...２!
DESCRIPTION:Azurely Bonds　\n\nmomi-ji　\n\n\n德永貴司\n\n\nJACK.D BROWNE \n\n\n松下剛\n\n\nJohn Doe \n\n\n  \n\n 男だけが喜ぶのか？？？バレンタインデイのライブ。\n\n\nアコースティックで泣け！叫べ！笑え！落ち込め！
URL:https://beats.stars.ne.jp/schedule/%e6%b1%9d%e3%83%bb%e6%ac%b2%e3%81%99%e3%81%af%e3%80%81%e6%ad%bb%e3%81%97%e3%81%a6%e3%80%81%e5%b1%8d%e6%8b%be%e3%81%86%e8%80%85%e7%84%a1%e3%81%97-%ef%bc%92
LOCATION:BEAT STATION\, 福岡市中央区渡辺通4-11-4\, 〒810-0004
CATEGORIES:トップ画面に表示する
END:VEVENT
BEGIN:VEVENT
DTSTART;VALUE=DATE:20200211
DTEND;VALUE=DATE:20200212
DTSTAMP:20260421T230530
CREATED:20191011T051637Z
LAST-MODIFIED:20191011T051637Z
UID:2150-1581379200-1581465599@beats.stars.ne.jp
SUMMARY:LiveTour 2020～武道館を狙うたてがみの生えたウサギ～
DESCRIPTION:Non Stop Rabbit \nチケット一般発売：12/21 午前10時～
URL:https://beats.stars.ne.jp/schedule/livetour-2020%ef%bd%9e%e6%ad%a6%e9%81%93%e9%a4%a8%e3%82%92%e7%8b%99%e3%81%86%e3%81%9f%e3%81%a6%e3%81%8c%e3%81%bf%e3%81%ae%e7%94%9f%e3%81%88%e3%81%9f%e3%82%a6%e3%82%b5%e3%82%ae%ef%bd%9e
LOCATION:BEAT STATION\, 福岡市中央区渡辺通4-11-4\, 〒810-0004
END:VEVENT
BEGIN:VEVENT
DTSTART;VALUE=DATE:20200209
DTEND;VALUE=DATE:20200210
DTSTAMP:20260421T230530
CREATED:20190923T050617Z
LAST-MODIFIED:20190923T050617Z
UID:2104-1581206400-1581292799@beats.stars.ne.jp
SUMMARY:TOUR 2020“燦々”
DESCRIPTION:カネコアヤノ \n\nチケット一般発売 11/30
URL:https://beats.stars.ne.jp/schedule/tour-2020%e7%87%a6%e3%80%85
LOCATION:BEAT STATION\, 福岡市中央区渡辺通4-11-4\, 〒810-0004
CATEGORIES:トップ画面に表示する
END:VEVENT
END:VCALENDAR