BEGIN:VCALENDAR
VERSION:2.0
PRODID:-//福岡のライブハウス BEAT STATION - ECPv6.10.3//NONSGML v1.0//EN
CALSCALE:GREGORIAN
METHOD:PUBLISH
X-WR-CALNAME:福岡のライブハウス BEAT STATION
X-ORIGINAL-URL:https://beats.stars.ne.jp
X-WR-CALDESC:福岡のライブハウス BEAT STATION のイベント
REFRESH-INTERVAL;VALUE=DURATION:PT1H
X-Robots-Tag:noindex
X-PUBLISHED-TTL:PT1H
BEGIN:VTIMEZONE
TZID:Asia/Tokyo
BEGIN:STANDARD
TZOFFSETFROM:+0900
TZOFFSETTO:+0900
TZNAME:JST
DTSTART:20190101T000000
END:STANDARD
END:VTIMEZONE
BEGIN:VEVENT
DTSTART;VALUE=DATE:20191220
DTEND;VALUE=DATE:20191221
DTSTAMP:20260421T204303
CREATED:20191031T061105Z
LAST-MODIFIED:20191101T065809Z
UID:2204-1576800000-1576886399@beats.stars.ne.jp
SUMMARY:SHELTER CHILDREN pre. 「夜明けの旅人 -彼誰時-」
DESCRIPTION:10.8℃の世界線
URL:https://beats.stars.ne.jp/schedule/10-8%e2%84%83%e3%81%ae%e4%b8%96%e7%95%8c%e7%b7%9a%e3%80%80%e3%83%af%e3%83%b3%e3%83%9e%e3%83%b3%e3%83%a9%e3%82%a4%e3%83%96-%e3%80%8c%e5%a4%9c%e6%98%8e%e3%81%91%e3%81%ae%e6%97%85%e4%ba%ba-%e5%bd%bc
LOCATION:BEAT STATION\, 福岡市中央区渡辺通4-11-4\, 〒810-0004
CATEGORIES:トップ画面に表示する
END:VEVENT
BEGIN:VEVENT
DTSTART;VALUE=DATE:20191219
DTEND;VALUE=DATE:20191220
DTSTAMP:20260421T204303
CREATED:20190923T044058Z
LAST-MODIFIED:20190923T044058Z
UID:2096-1576713600-1576799999@beats.stars.ne.jp
SUMMARY:RICKIE GENE Christmas Live 2019
DESCRIPTION:Rickie-G \n  \n  \nクリスマスツアーチケット先行\n9月23日12:00〜10月6日23:59まで \n受付URL ： https://eplus.jp/rgcl2019/ (PC&スマホ) \nINFO：KYOTO MUSE\n           075-223-0389
URL:https://beats.stars.ne.jp/schedule/rickie-gene-christmas-live-2019
LOCATION:BEAT STATION\, 福岡市中央区渡辺通4-11-4\, 〒810-0004
END:VEVENT
BEGIN:VEVENT
DTSTART;VALUE=DATE:20191218
DTEND;VALUE=DATE:20191219
DTSTAMP:20260421T204303
CREATED:20191117T052920Z
LAST-MODIFIED:20191117T052920Z
UID:2239-1576627200-1576713599@beats.stars.ne.jp
SUMMARY:The Nutcracker of living thing pity  生類憐れみのクルミ割リ令
DESCRIPTION:12月18日（水）\n The Nutcracker of living thing pity \n生類憐れみのクルミ割リ令  \n＊2019年度のラストアコースティック・ライブ、お姉さん＋お兄さん＋おじ様まで、Jーポップ、ヴィジュアル、ブルース、ロックンロール、多種な出演者と出し物でお送りします。\n１年の締めくくりにどうぞ、お越しくださいませ。 \n＜出演＞ \n●Azurely Bonds\n ●momi-ji \n●knob \n●相馬スナフキン \n●tribal-RED \n●北風と太陽 \n●スナック
URL:https://beats.stars.ne.jp/schedule/the-nutcracker-of-living-thing-pity-%e7%94%9f%e9%a1%9e%e6%86%90%e3%82%8c%e3%81%bf%e3%81%ae%e3%82%af%e3%83%ab%e3%83%9f%e5%89%b2%e3%83%aa%e4%bb%a4
LOCATION:BEAT STATION\, 福岡市中央区渡辺通4-11-4\, 〒810-0004
CATEGORIES:トップ画面に表示する
END:VEVENT
BEGIN:VEVENT
DTSTART;VALUE=DATE:20191217
DTEND;VALUE=DATE:20191218
DTSTAMP:20260421T204303
CREATED:20190918T081102Z
LAST-MODIFIED:20190918T081102Z
UID:2077-1576540800-1576627199@beats.stars.ne.jp
SUMMARY:FREAK LIVE HOUSE TOUR 2019 [BRING BACK THE TIME]
DESCRIPTION:FREAK \n\nR&Bコーラスグループ、FREAKによるワンマンライブツアー \n2019年5月に地元福岡Zepp Fukuokaでのライブを成功させ、さらなる音楽的高みを目指すべく所属していたavexから独立を発表。独立してから最初のツアーとなる今回は地元九州全県、さらに大阪と東京のライブハウスをまわる「原点回帰」ともいえるツアー！ \n\nhttp://t.livepocket.jp/t/8gqqv\n※枚数制限:4枚\n※LivePocket-ticket-でのご購入となり、事前のユーザー登録が必要になります。\n　詳細はこちらにてご確認ください。（https://t.livepocket.jp/help/about）
URL:https://beats.stars.ne.jp/schedule/freak-live-house-tour-2019-bring-back-the-time
LOCATION:BEAT STATION\, 福岡市中央区渡辺通4-11-4\, 〒810-0004
CATEGORIES:トップ画面に表示する
END:VEVENT
BEGIN:VEVENT
DTSTART;VALUE=DATE:20191215
DTEND;VALUE=DATE:20191216
DTSTAMP:20260421T204303
CREATED:20190624T070146Z
LAST-MODIFIED:20190807T091151Z
UID:1743-1576368000-1576454399@beats.stars.ne.jp
SUMMARY:藤原さくら Twilight Tour 2019
DESCRIPTION:藤原さくら \n\n 一般発売：9月14日(土)10:00
URL:https://beats.stars.ne.jp/schedule/%e8%97%a4%e5%8e%9f%e3%81%95%e3%81%8f%e3%82%89-twilight-tour-2019
LOCATION:BEAT STATION\, 福岡市中央区渡辺通4-11-4\, 〒810-0004
END:VEVENT
BEGIN:VEVENT
DTSTART;VALUE=DATE:20191214
DTEND;VALUE=DATE:20191215
DTSTAMP:20260421T204303
CREATED:20190905T084022Z
LAST-MODIFIED:20190928T025831Z
UID:2007-1576281600-1576367999@beats.stars.ne.jp
SUMMARY:20th Anniversary Natural Born Sangstar 2019 〜The Voice
DESCRIPTION:Full Of Harmony \n\n 一般発売 10/26 10:00
URL:https://beats.stars.ne.jp/schedule/20th-anniversary-natural-born-sangstar-2019-%e3%80%9cthe-voice
LOCATION:BEAT STATION\, 福岡市中央区渡辺通4-11-4\, 〒810-0004
CATEGORIES:トップ画面に表示する
END:VEVENT
BEGIN:VEVENT
DTSTART;VALUE=DATE:20191208
DTEND;VALUE=DATE:20191209
DTSTAMP:20260421T204303
CREATED:20190908T105751Z
LAST-MODIFIED:20191208T031740Z
UID:2043-1575763200-1575849599@beats.stars.ne.jp
SUMMARY:キズONEMAN TOUR 「消滅」
DESCRIPTION:キズ \n 【一次先行】\n イープラス受付期間：2019/9/1(日)12:00～9/8(日)23:59\n 入金期間：2019/9/10(火)13:00～9/15(日)21:00 \n 【二次先行】\n イープラス受付期間：2019/9/12(木)12:00～9/16(月・祝)23:59\n 入金期間：2019/9/18(火)13:00～9/23(月・祝)21:00 \n 【一般発売】\n 2019/10/19
URL:https://beats.stars.ne.jp/schedule/%e3%82%ad%e3%82%baoneman-tour-%e3%80%8c%e6%b6%88%e6%bb%85%e3%80%8d
LOCATION:BEAT STATION\, 福岡市中央区渡辺通4-11-4\, 〒810-0004
CATEGORIES:トップ画面に表示する
END:VEVENT
BEGIN:VEVENT
DTSTART;VALUE=DATE:20191207
DTEND;VALUE=DATE:20191208
DTSTAMP:20260421T204303
CREATED:20190807T055115Z
LAST-MODIFIED:20190807T091217Z
UID:1871-1575676800-1575763199@beats.stars.ne.jp
SUMMARY:SPECIAL OTHERS ニューシングル(会場限定)とワースト盤第2弾(会場限定)を販売するツアー QUTIMA Ver.27
DESCRIPTION:SPECIAL OTHERS \n チケット一般発売 9/28
URL:https://beats.stars.ne.jp/schedule/special-others-%e3%83%8b%e3%83%a5%e3%83%bc%e3%82%b7%e3%83%b3%e3%82%b0%e3%83%ab%e4%bc%9a%e5%a0%b4%e9%99%90%e5%ae%9a%e3%81%a8%e3%83%af%e3%83%bc%e3%82%b9%e3%83%88%e7%9b%a4%e7%ac%ac2%e5%bc%be%e4%bc%9a
LOCATION:BEAT STATION\, 福岡市中央区渡辺通4-11-4\, 〒810-0004
END:VEVENT
BEGIN:VEVENT
DTSTART;VALUE=DATE:20191206
DTEND;VALUE=DATE:20191207
DTSTAMP:20260421T204303
CREATED:20191127T080035Z
LAST-MODIFIED:20191127T080035Z
UID:2266-1575590400-1575676799@beats.stars.ne.jp
SUMMARY:"THINGS WE SAY SPECIAL"
DESCRIPTION:  \nABOUT MUSICのライブシリーズ「THINGS WE SAY」のスペシャルバージョンが、12/6(金)福岡BEAT STATIONにて開催決定！ \n出演アーティストとしてアナウンスされるのは、これまでに5枚のアルバムをリリースし、名実ともに日本を代表するトラックメーカー/DJ/プロデューサーとなった”tofubeats”、星野源とのコラボに全国ツアーへの参加、そして紅白歌合戦への出演まで果たしHIP HOPの枠を超えて活躍の場を広げ続けるMPCプレイヤー/トラックメーカー”STUTS”、group_inouのトラックメーカーであり、2017年より本格的にソロ活動を始め、クラブからライブハウスまで垣根なくハードなダンスミュージックを鳴らす”imai”、福岡発の4人組ヒップホップグループであり、メンバーは音楽のみならずデザイン・チーム「cheese cheap shop」としても活動し、アパレル／デザイン／ラップ／ビート・メイキングまでフォローする若きクリエーター集団としての顔も持つ”週末CITY PLAY BOYZ”、DJにSUNSET LIVE 2019やBAYCAMP 2019に出演したSHOTA-LOWと6時間ロングセットを敢行し大盛況だったYOSUKE、VJには市川茂生が決定。 \n前売券はチケットぴあ、イープラス、Live Pocket、各SHOPにて大好評発売中。早期完売の可能性もあるため、ご購入はお早めに！ \n過去にはtofubeats、STUTS、iri、chelmico、VaVa、DENIMS、踊Foot Works、TENDOUJI、Qiezi Mabo、kiki vivi lily、Attractions、maco marets、KONCOS、JABBA DA FOOTBALL CLUB、TOSHIKI HAYASHI、Yelladigos、yonawo、MONO SAFARI、週末CITY PLAY BOYZらのジャンルを越えた多種多様なアーティストが出演し、開催の度にソールドアウトを記録するほど爆発的な盛り上がりを見せて来た”THINGS WE SAY SPECIAL”。今回の開催も盛り上がりは必至です。 \nなお、同日22:00よりKIETH FLACKにて”meets”がアフターパーティーとして開催！ \ntofubeats [DJ SET]、DISCO MAKAPU’U (川辺ヒロシ&サイトウ”JxJx”ジュン)、徳利、CE$などを迎え、地元からも最高のLIVE ACTやDJが多数出演し、KIETH FLACK 1&2Fで敢行！ \nジャンルやシーンの壁を超え、このTHINGS WE SAY SPECIALしか体感できない豪華共演は必見です！どうぞお見逃しなく！！ \n◼️詳細 \nABOUT MUSIC Presents \n“THINGS WE SAY SPECIAL” \n2019.12.06 FRI at FUKUOKA BEAT STATION \nOPEN 18:00 / CLOSE 22:00 (予定) \n[LIVE] \ntofubeats \nSTUTS \nimai \n週末CITY PLAY BOYZ \n[DJ] \nSHOTA-LOW (ABOUT MUSIC/PLAG) \nYOSUKE (SMOOVIN’/PLAG) \n[VJ] \n市川茂生 (PLAG) \n[TICKET] \n特別早割券 ¥3\,500 / 前売券 ¥4\,000 / 当日券 ¥4\,000 \n※入場順はプレイガイド→店頭チケットの整理番号順となります。 \n※前売券が完売した場合、当日券は発行致しません。 \n※ドリンク代別。 \n【一般発売】 \n▷プレイガイド \n・Live Pocket \n・チケットぴあ [P166-985] \n・e+(イープラス) \n▷SHOP \n・APPLE BUTTER STORE \n・FOOLS GOLD \n・NEU! ALBUM \n・POP \n・SQUASH IMAIZUMI \n・STEREO COFFEE \n・STOCK ROOM \n・TICRO MARKET \n・TRESOL \n[INFOMATION] \nABOUT MUSIC 092-982-8281 aboutmusic.jp \nInstagram&Twitter ＠aboutmusicjp
URL:https://beats.stars.ne.jp/schedule/things-we-say-special-3
LOCATION:BEAT STATION\, 福岡市中央区渡辺通4-11-4\, 〒810-0004
CATEGORIES:トップ画面に表示する
END:VEVENT
BEGIN:VEVENT
DTSTART;VALUE=DATE:20191205
DTEND;VALUE=DATE:20191206
DTSTAMP:20260421T204303
CREATED:20190905T083509Z
LAST-MODIFIED:20190911T094911Z
UID:2004-1575504000-1575590399@beats.stars.ne.jp
SUMMARY:Awesome talks -Nice Buddy Tour 2019-
DESCRIPTION:Awesome City Club \n  \nチケット一般発売 10/5\n【LINEチケット】https://ticket.line.me
URL:https://beats.stars.ne.jp/schedule/awesome-talks-nice-buddy-tour-2019
LOCATION:BEAT STATION\, 福岡市中央区渡辺通4-11-4\, 〒810-0004
END:VEVENT
BEGIN:VEVENT
DTSTART;VALUE=DATE:20191202
DTEND;VALUE=DATE:20191203
DTSTAMP:20260421T204303
CREATED:20191015T090203Z
LAST-MODIFIED:20191124T081743Z
UID:2157-1575244800-1575331199@beats.stars.ne.jp
SUMMARY:フロムニューエイジアツアー2019 - winter -
DESCRIPTION:新世代のアーティストが創り出す、新時代の音楽を。\n \n\nRude-α\nさなり\neill\nSASUKE\n \n10月26日(土)10:00〜 各プレイガイドにて発売開始\n 
URL:https://beats.stars.ne.jp/schedule/%e3%83%95%e3%83%ad%e3%83%a0%e3%83%8b%e3%83%a5%e3%83%bc%e3%82%a8%e3%82%a4%e3%82%b8%e3%82%a2%e3%83%84%e3%82%a2%e3%83%bc2019-winter
LOCATION:BEAT STATION\, 福岡市中央区渡辺通4-11-4\, 〒810-0004
END:VEVENT
BEGIN:VEVENT
DTSTART;VALUE=DATE:20191201
DTEND;VALUE=DATE:20200401
DTSTAMP:20260421T204303
CREATED:20191201T134103Z
LAST-MODIFIED:20191201T134103Z
UID:2275-1575158400-1585699199@beats.stars.ne.jp
SUMMARY:全館禁煙のお知らせ
DESCRIPTION: \n\n \n\n\n \n\n\nご来場の皆さま、関係各位には大変ご迷惑、ご無理をおかけいたしますが、何卒、ご理解、ご了承の程お願い申し上げます。\n\n\n \n\n\n詳細は画像をご確認下さいませ。\n\n\n今後ともよろしくお願い致します。
URL:https://beats.stars.ne.jp/schedule/%e5%85%a8%e9%a4%a8%e7%a6%81%e7%85%99%e3%81%ae%e3%81%8a%e7%9f%a5%e3%82%89%e3%81%9b
CATEGORIES:トップ画面に表示する
END:VEVENT
BEGIN:VEVENT
DTSTART;VALUE=DATE:20191201
DTEND;VALUE=DATE:20191202
DTSTAMP:20260421T204303
CREATED:20190827T071347Z
LAST-MODIFIED:20190827T071549Z
UID:1932-1575158400-1575244799@beats.stars.ne.jp
SUMMARY:TOUR BALLADS
DESCRIPTION:SANABAGUN. \n 一般発売日\n 2019年10月5日(土)10:00~
URL:https://beats.stars.ne.jp/schedule/tour-ballads
LOCATION:BEAT STATION\, 福岡市中央区渡辺通4-11-4\, 〒810-0004
END:VEVENT
BEGIN:VEVENT
DTSTART;VALUE=DATE:20191130
DTEND;VALUE=DATE:20191201
DTSTAMP:20260421T204303
CREATED:20190802T072427Z
LAST-MODIFIED:20190807T091239Z
UID:1854-1575072000-1575158399@beats.stars.ne.jp
SUMMARY:大石昌良の弾き語りラボ 2019
DESCRIPTION:大石昌良 \n\n チケット一般発売 9/21
URL:https://beats.stars.ne.jp/schedule/%e5%a4%a7%e7%9f%b3%e6%98%8c%e8%89%af%e3%81%ae%e5%bc%be%e3%81%8d%e8%aa%9e%e3%82%8a%e3%83%a9%e3%83%9c-2019
LOCATION:BEAT STATION\, 福岡市中央区渡辺通4-11-4\, 〒810-0004
END:VEVENT
BEGIN:VEVENT
DTSTART;VALUE=DATE:20191126
DTEND;VALUE=DATE:20191127
DTSTAMP:20260421T204303
CREATED:20190908T102451Z
LAST-MODIFIED:20190908T102451Z
UID:2037-1574726400-1574812799@beats.stars.ne.jp
SUMMARY:『20YEARS HOLY ALTER WAR – MIRROR BALLISM 』
DESCRIPTION:DC/PRG \n菊地成孔が主宰するDC/PRG。1999年にDATE COURSE PENTAGON ROYAL GARDEN名義で結成され、今年で20周年を迎える。全国ツアーは2015年以来、約4年ぶり。 \nチケット一般発売 10/5 10:00〜 \n 
URL:https://beats.stars.ne.jp/schedule/%e3%80%8e20years-holy-alter-war-mirror-ballism-%e3%80%8f
LOCATION:BEAT STATION\, 福岡市中央区渡辺通4-11-4\, 〒810-0004
END:VEVENT
BEGIN:VEVENT
DTSTART;VALUE=DATE:20191124
DTEND;VALUE=DATE:20191125
DTSTAMP:20260421T204303
CREATED:20191025T084320Z
LAST-MODIFIED:20191123T073308Z
UID:2186-1574553600-1574639999@beats.stars.ne.jp
SUMMARY:HARVEST Special
DESCRIPTION:拳幻と昴\n 百足\n 空音\n Natural Radio Station\n RAY\n 翔\n FREAK\n FUMA\n 5th Elements\n KAZRU \nO/A BASIL \n\n 10/27 チケット販売開始
URL:https://beats.stars.ne.jp/schedule/harvest-special-2
LOCATION:BEAT STATION\, 福岡市中央区渡辺通4-11-4\, 〒810-0004
END:VEVENT
BEGIN:VEVENT
DTSTART;VALUE=DATE:20191123
DTEND;VALUE=DATE:20191124
DTSTAMP:20260421T204303
CREATED:20191025T084706Z
LAST-MODIFIED:20191025T084706Z
UID:2189-1574467200-1574553599@beats.stars.ne.jp
SUMMARY:KAZRU ×iNiSiE〜10年の奇跡 そして〜
DESCRIPTION:KAZRU\niNiSiE
URL:https://beats.stars.ne.jp/schedule/kazru-xinisie%e3%80%9c10%e5%b9%b4%e3%81%ae%e5%a5%87%e8%b7%a1-%e3%81%9d%e3%81%97%e3%81%a6%e3%80%9c
LOCATION:BEAT STATION\, 福岡市中央区渡辺通4-11-4\, 〒810-0004
CATEGORIES:トップ画面に表示する
END:VEVENT
BEGIN:VEVENT
DTSTART;VALUE=DATE:20191122
DTEND;VALUE=DATE:20191123
DTSTAMP:20260421T204303
CREATED:20190910T045058Z
LAST-MODIFIED:20190911T094906Z
UID:2045-1574380800-1574467199@beats.stars.ne.jp
SUMMARY:シャムキャッツ デビュー10周年記念全国ワンマンツアー
DESCRIPTION:シャムキャッツ \n  \n \n\n【LINEチケット】https://ticket.line.me/ \nチケット一般発売 10/12
URL:https://beats.stars.ne.jp/schedule/%e3%82%b7%e3%83%a3%e3%83%a0%e3%82%ad%e3%83%a3%e3%83%83%e3%83%84-%e3%83%87%e3%83%93%e3%83%a5%e3%83%bc10%e5%91%a8%e5%b9%b4%e8%a8%98%e5%bf%b5%e5%85%a8%e5%9b%bd%e3%83%af%e3%83%b3%e3%83%9e%e3%83%b3
LOCATION:BEAT STATION\, 福岡市中央区渡辺通4-11-4\, 〒810-0004
END:VEVENT
BEGIN:VEVENT
DTSTART;VALUE=DATE:20191121
DTEND;VALUE=DATE:20191122
DTSTAMP:20260421T204303
CREATED:20190905T081937Z
LAST-MODIFIED:20190905T081937Z
UID:2002-1574294400-1574380799@beats.stars.ne.jp
SUMMARY:HEY-SMITH 16 MONKEYS TOUR
DESCRIPTION:HEY-SMITH \nGUEST:\nGOOD4NOTHING\nSIX LOUNGE\nハルカミライ
URL:https://beats.stars.ne.jp/schedule/hey-smith-16-monkeys-tour
LOCATION:BEAT STATION\, 福岡市中央区渡辺通4-11-4\, 〒810-0004
END:VEVENT
BEGIN:VEVENT
DTSTART;VALUE=DATE:20191119
DTEND;VALUE=DATE:20191121
DTSTAMP:20260421T204303
CREATED:20191001T104239Z
LAST-MODIFIED:20191001T104239Z
UID:2126-1574121600-1574294399@beats.stars.ne.jp
SUMMARY:Bar営業
DESCRIPTION:要1ドリンクオーダーをお願いします。 \n食べ物の持ち込みはOKです。\n一応簡単な料理も¥300であります！\n内容は前日の気分によるので、何があるかわかりません！
URL:https://beats.stars.ne.jp/schedule/bar%e5%96%b6%e6%a5%ad
LOCATION:BEAT STATION\, 福岡市中央区渡辺通4-11-4\, 〒810-0004
END:VEVENT
BEGIN:VEVENT
DTSTART;VALUE=DATE:20191117
DTEND;VALUE=DATE:20191118
DTSTAMP:20260421T204303
CREATED:20190716T111136Z
LAST-MODIFIED:20190807T091343Z
UID:1832-1573948800-1574035199@beats.stars.ne.jp
SUMMARY:D.A.N. TOUR 2019 "PERMANENT"
DESCRIPTION:D.A.N. \n  \nチケット一般発売 8/24
URL:https://beats.stars.ne.jp/schedule/d-a-n-tour-2019-permanent
LOCATION:BEAT STATION\, 福岡市中央区渡辺通4-11-4\, 〒810-0004
END:VEVENT
BEGIN:VEVENT
DTSTART;VALUE=DATE:20191116
DTEND;VALUE=DATE:20191117
DTSTAMP:20260421T204303
CREATED:20191004T101223Z
LAST-MODIFIED:20191116T004053Z
UID:2135-1573862400-1573948799@beats.stars.ne.jp
SUMMARY:「AVNTIS TOUR 2019 "old color"」【第2部】
DESCRIPTION:アバンティーズ
URL:https://beats.stars.ne.jp/schedule/%e3%80%8cavntis-tour-2019-old-color%e3%80%8d%e3%80%90%e7%ac%ac2%e9%83%a8%e3%80%91
LOCATION:BEAT STATION\, 福岡市中央区渡辺通4-11-4\, 〒810-0004
CATEGORIES:トップ画面に表示する
END:VEVENT
BEGIN:VEVENT
DTSTART;VALUE=DATE:20191116
DTEND;VALUE=DATE:20191117
DTSTAMP:20260421T204303
CREATED:20191004T100730Z
LAST-MODIFIED:20191116T004124Z
UID:2133-1573862400-1573948799@beats.stars.ne.jp
SUMMARY:「AVNTIS TOUR 2019 "old color"」【第1部】
DESCRIPTION:アバンティーズ
URL:https://beats.stars.ne.jp/schedule/%e3%80%8cavntis-tour-2019-old-color%e3%80%8d%e3%80%90%e7%ac%ac1%e9%83%a8%e3%80%91
LOCATION:BEAT STATION\, 福岡市中央区渡辺通4-11-4\, 〒810-0004
CATEGORIES:トップ画面に表示する
END:VEVENT
BEGIN:VEVENT
DTSTART;VALUE=DATE:20191115
DTEND;VALUE=DATE:20191116
DTSTAMP:20260421T204303
CREATED:20190905T081029Z
LAST-MODIFIED:20191025T042822Z
UID:1999-1573776000-1573862399@beats.stars.ne.jp
SUMMARY:『メランコリー x メランコリー』ツアー
DESCRIPTION:神聖かまってちゃん \n チケット一般発売 10/5 \n【LINEチケット】https://ticket.line.me
URL:https://beats.stars.ne.jp/schedule/%e3%80%8e%e3%83%a1%e3%83%a9%e3%83%b3%e3%82%b3%e3%83%aa%e3%83%bc-x-%e3%83%a1%e3%83%a9%e3%83%b3%e3%82%b3%e3%83%aa%e3%83%bc%e3%80%8f%e3%83%84%e3%82%a2%e3%83%bc
LOCATION:BEAT STATION\, 福岡市中央区渡辺通4-11-4\, 〒810-0004
END:VEVENT
BEGIN:VEVENT
DTSTART;VALUE=DATE:20191112
DTEND;VALUE=DATE:20191113
DTSTAMP:20260421T204303
CREATED:20190908T103803Z
LAST-MODIFIED:20190908T103803Z
UID:2039-1573516800-1573603199@beats.stars.ne.jp
SUMMARY:『Code Name～Zero～』
DESCRIPTION:
URL:https://beats.stars.ne.jp/schedule/%e3%80%8ecode-name%ef%bd%9ezero%ef%bd%9e%e3%80%8f
LOCATION:BEAT STATION\, 福岡市中央区渡辺通4-11-4\, 〒810-0004
END:VEVENT
BEGIN:VEVENT
DTSTART;VALUE=DATE:20191110
DTEND;VALUE=DATE:20191111
DTSTAMP:20260421T204303
CREATED:20190922T035221Z
LAST-MODIFIED:20190922T035221Z
UID:2084-1573344000-1573430399@beats.stars.ne.jp
SUMMARY:ワンマンツアー2019 "まほうランドへようこそ!"〜ガリ館長と不思議な遊園地〜
DESCRIPTION:魔法少女になり隊
URL:https://beats.stars.ne.jp/schedule/%e3%83%af%e3%83%b3%e3%83%9e%e3%83%b3%e3%83%84%e3%82%a2%e3%83%bc2019-%e3%81%be%e3%81%bb%e3%81%86%e3%83%a9%e3%83%b3%e3%83%89%e3%81%b8%e3%82%88%e3%81%86%e3%81%93%e3%81%9d%e3%80%9c%e3%82%ac%e3%83%aa
LOCATION:BEAT STATION\, 福岡市中央区渡辺通4-11-4\, 〒810-0004
END:VEVENT
BEGIN:VEVENT
DTSTART;VALUE=DATE:20191109
DTEND;VALUE=DATE:20191110
DTSTAMP:20260421T204303
CREATED:20190905T075615Z
LAST-MODIFIED:20191109T000809Z
UID:1994-1573257600-1573343999@beats.stars.ne.jp
SUMMARY:「26時のマスカレイド 3rd Anniversary Tour 怪盗マスカレイド 〜今宵、あなたを奪いに行きマス！〜」
DESCRIPTION:26時のマスカレイド
URL:https://beats.stars.ne.jp/schedule/%e3%80%8c26%e6%99%82%e3%81%ae%e3%83%9e%e3%82%b9%e3%82%ab%e3%83%ac%e3%82%a4%e3%83%89-3rd-anniversary-tour-%e6%80%aa%e7%9b%97%e3%83%9e%e3%82%b9%e3%82%ab%e3%83%ac%e3%82%a4%e3%83%89-%e3%80%9c%e4%bb%8a
LOCATION:BEAT STATION\, 福岡市中央区渡辺通4-11-4\, 〒810-0004
CATEGORIES:トップ画面に表示する
END:VEVENT
BEGIN:VEVENT
DTSTART;VALUE=DATE:20191108
DTEND;VALUE=DATE:20191109
DTSTAMP:20260421T204303
CREATED:20190814T111842Z
LAST-MODIFIED:20190814T111842Z
UID:1921-1573171200-1573257599@beats.stars.ne.jp
SUMMARY:「LUCKY TAPES Tour 2019」
DESCRIPTION:LUCKY TAPES
URL:https://beats.stars.ne.jp/schedule/%e3%80%8clucky-tapes-tour-2019%e3%80%8d
LOCATION:BEAT STATION\, 福岡市中央区渡辺通4-11-4\, 〒810-0004
END:VEVENT
BEGIN:VEVENT
DTSTART;VALUE=DATE:20191107
DTEND;VALUE=DATE:20191108
DTSTAMP:20260421T204303
CREATED:20190913T065316Z
LAST-MODIFIED:20190913T065316Z
UID:2064-1573084800-1573171199@beats.stars.ne.jp
SUMMARY:SUNLITE New Single"Fake it till you make it"RELEASE TOUR
DESCRIPTION:SUNLITE \nBAKKY SHOPにて整理券付きチケット販売開始!!!\n⇒https://bakkyshop.jp/items?ItemCategory=39
URL:https://beats.stars.ne.jp/schedule/sunlite-new-singlefake-it-till-you-make-itrelease-tour
LOCATION:BEAT STATION\, 福岡市中央区渡辺通4-11-4\, 〒810-0004
END:VEVENT
BEGIN:VEVENT
DTSTART;VALUE=DATE:20191106
DTEND;VALUE=DATE:20191107
DTSTAMP:20260421T204303
CREATED:20190803T040412Z
LAST-MODIFIED:20190911T094855Z
UID:1858-1572998400-1573084799@beats.stars.ne.jp
SUMMARY:気の毒だが...勝者は私！
DESCRIPTION:１１月６日(水)\n 気の毒だが…勝者は私！\n 今回は７０年代＋８０年代のロック＆ポップス、MTV世代には堪らない大人のロック＆ポップス＆ブルース好きな一夜！ \n 70’sbirds\n joebeth(熊本)\n 楺井(momii)with J\n 「Azurely Bonds」\n ゆり\n 藤本陽一
URL:https://beats.stars.ne.jp/schedule/%e6%b0%97%e3%81%ae%e6%af%92%e3%81%a0%e3%81%8c-%e5%8b%9d%e8%80%85%e3%81%af%e7%a7%81%ef%bc%81
LOCATION:BEAT STATION\, 福岡市中央区渡辺通4-11-4\, 〒810-0004
END:VEVENT
END:VCALENDAR