BEGIN:VCALENDAR
VERSION:2.0
PRODID:-//福岡のライブハウス BEAT STATION - ECPv6.10.3//NONSGML v1.0//EN
CALSCALE:GREGORIAN
METHOD:PUBLISH
X-WR-CALNAME:福岡のライブハウス BEAT STATION
X-ORIGINAL-URL:https://beats.stars.ne.jp
X-WR-CALDESC:福岡のライブハウス BEAT STATION のイベント
REFRESH-INTERVAL;VALUE=DURATION:PT1H
X-Robots-Tag:noindex
X-PUBLISHED-TTL:PT1H
BEGIN:VTIMEZONE
TZID:Asia/Tokyo
BEGIN:STANDARD
TZOFFSETFROM:+0900
TZOFFSETTO:+0900
TZNAME:JST
DTSTART:20180101T000000
END:STANDARD
END:VTIMEZONE
BEGIN:VEVENT
DTSTART;VALUE=DATE:20180503
DTEND;VALUE=DATE:20180504
DTSTAMP:20260423T074827
CREATED:20180118T052540Z
LAST-MODIFIED:20180118T052540Z
UID:117-1525305600-1525391999@beats.stars.ne.jp
SUMMARY:たこ虹全国ツアー2018「CLUB RAINBOW」
DESCRIPTION:たこやきレインボー
URL:https://beats.stars.ne.jp/schedule/%e3%81%9f%e3%81%93%e8%99%b9%e5%85%a8%e5%9b%bd%e3%83%84%e3%82%a2%e3%83%bc2018%e3%80%8cclub-rainbow%e3%80%8d
LOCATION:BEAT STATION\, 福岡市中央区渡辺通4-11-4\, 〒810-0004
END:VEVENT
BEGIN:VEVENT
DTSTART;VALUE=DATE:20180430
DTEND;VALUE=DATE:20180501
DTSTAMP:20260423T074827
CREATED:20180228T063806Z
LAST-MODIFIED:20180228T063806Z
UID:493-1525046400-1525132799@beats.stars.ne.jp
SUMMARY:みやかわくん Live Tour 2018
DESCRIPTION:みやかわくん \nアーティストHPは↓↓から \nみやかわくんHP \n  \n3/3 10:00〜 一般発売開始
URL:https://beats.stars.ne.jp/schedule/%e3%81%bf%e3%82%84%e3%81%8b%e3%82%8f%e3%81%8f%e3%82%93-live-tour-2018
LOCATION:BEAT STATION\, 福岡市中央区渡辺通4-11-4\, 〒810-0004
END:VEVENT
BEGIN:VEVENT
DTSTART;VALUE=DATE:20180429
DTEND;VALUE=DATE:20180430
DTSTAMP:20260423T074827
CREATED:20180304T083214Z
LAST-MODIFIED:20180531T114941Z
UID:560-1524960000-1525046399@beats.stars.ne.jp
SUMMARY:Be Comming it! 〜ビーカミ！〜REBIRTH Ver.1- GW Limited. -
DESCRIPTION:コピバン、トリビュートバンドの祭典、ビーカミ！\n ２０１８年度のサーキット・オブ・ハウスショウ！ \n コピバン・ライブの最大イベントであるコピバン・バトル＜ビーカマニア！＞へ通じるロード・オブ・サーキット・ライブ！\n さて、今回はどんなかっこいいコピバンに出会えるのか？\n 楽しみです。 \n\n ４月２９日（日）\n Be Comming it! 〜ビーカミ！〜REBIRTH Ver.1- GW Limited. – \n ＜出演＞\n ・アリス帝国\n ・The Daily men\n ・Heavy Metal Hippies(熊本)\n ・TRIBAL RED\n ・THE YEAHYEAH MONKEY\n ・The Secret Mon☆s\n ・Actor Checkers(久留米)
URL:https://beats.stars.ne.jp/schedule/be-comming-it-%e3%80%9c%e3%83%93%e3%83%bc%e3%82%ab%e3%83%9f%ef%bc%81%e3%80%9crebirth-ver-1-gw-limited
LOCATION:BEAT STATION\, 福岡市中央区渡辺通4-11-4\, 〒810-0004
END:VEVENT
BEGIN:VEVENT
DTSTART;VALUE=DATE:20180428
DTEND;VALUE=DATE:20180429
DTSTAMP:20260423T074827
CREATED:20180228T055356Z
LAST-MODIFIED:20180228T060045Z
UID:488-1524873600-1524959999@beats.stars.ne.jp
SUMMARY:つばきファクトリー ライブツアー 2018春
DESCRIPTION:つばきファクトリー \nアーティストHPは↓↓ \nつばきファクトリーHP \n  \n\n ※6歳以上チケット必要、6歳未満入場不可。\n ※入場時ドリンク代として別途必要。\n ※ライブ＋握手会付きの公演になります。\n ※ファミリー席の設定はございません。\n ※女性専用エリア有り。\n ※会場の構造上、車椅子やお体の不自由なお客様をご案内できる場所は、ステージが見えにくい、または一部見えない場合がございます。予めご了承下さい
URL:https://beats.stars.ne.jp/schedule/%e3%81%a4%e3%81%b0%e3%81%8d%e3%83%95%e3%82%a1%e3%82%af%e3%83%88%e3%83%aa%e3%83%bc-%e3%83%a9%e3%82%a4%e3%83%96%e3%83%84%e3%82%a2%e3%83%bc-2018%e6%98%a5
LOCATION:BEAT STATION\, 福岡市中央区渡辺通4-11-4\, 〒810-0004
END:VEVENT
BEGIN:VEVENT
DTSTART;VALUE=DATE:20180427
DTEND;VALUE=DATE:20180428
DTSTAMP:20260423T074827
CREATED:20180223T114935Z
LAST-MODIFIED:20180531T114936Z
UID:481-1524787200-1524873599@beats.stars.ne.jp
SUMMARY:六弦郷-Acoustic & Unplugged- Receive spirit of HEART BEAT
DESCRIPTION:遂にハートビート時代の伝統のアコースティック＆アンプラグド・ライブがビートステーションで復活！\n ハートビートのアコースティックライブはアコギ弾き語りに加えてユニット系やパーカッション、シーケンス等であっても一般的なバンド形態ではなくアコースティック・スタイルでの演奏形態を主とするならばどんなジャンルでも出演可能。\n 純粋に弾き語りライブの時もあればシーケンス主体のクラブチックな時もあるまさにプログレッシヴなアコースティック・ライブ。\n これをビートステーションのサブフロアを使用してアメリカン・スタイルのコミュニティーなラウンジ・バーぽく展開する２週連続の第二夜。 \n ４月２7日（金）\n 六弦郷-Acoustic & Unplugged- Receive spirit of HEART BEAT<1st Mission> \n 福岡ビートステーション＜コミュケーション・ラウンジ・フロア＞ \n＜出演＞\n 北風と太陽\n さはら\n スナック\n HISATO\n 山縣佳宗
URL:https://beats.stars.ne.jp/schedule/%e5%85%ad%e5%bc%a6%e9%83%b7-acoustic-unplugged-receive-spirit-of-heart-beat-2
END:VEVENT
BEGIN:VEVENT
DTSTART;VALUE=DATE:20180425
DTEND;VALUE=DATE:20180426
DTSTAMP:20260423T074827
CREATED:20180312T071123Z
LAST-MODIFIED:20180312T071123Z
UID:600-1524614400-1524700799@beats.stars.ne.jp
SUMMARY:Melodic of the Rock 2018
DESCRIPTION:Stragraph  \nGUEST:ジカタビザワールド 
URL:https://beats.stars.ne.jp/schedule/melodic-of-the-rock-2018
LOCATION:BEAT STATION\, 福岡市中央区渡辺通4-11-4\, 〒810-0004
END:VEVENT
BEGIN:VEVENT
DTSTART;VALUE=DATE:20180421
DTEND;VALUE=DATE:20180422
DTSTAMP:20260423T074827
CREATED:20180312T070426Z
LAST-MODIFIED:20180414T064656Z
UID:597-1524268800-1524355199@beats.stars.ne.jp
SUMMARY:5人になって5周年！5×5=25 TOUR 〜「旅に出る準備」リリース ワンマン編〜
DESCRIPTION:Czecho No Republic \n【Czecho No Republic八木脱退、4/11～4/25開催のアルバムリリースツアー内容変更のお知らせ】 \n本公演は、メンバーの八木類(Gt/Syn)脱退により、公演延期とさせていただくことになりました。\n振替公演の日程や、振替公演にご来場されない方へのご返金の方法など、詳細は決まり次第ご案内させていただきます。 \nなお、4月21日当日は、フリーライブを行う予定です。\nチケットをお持ちでない方もどなたでもご入場いただけます。(但しご入場順はチケットをお持ちの方優先とさせていただきます。)\nぜひご来場ください。 \n詳しい情報はオフィシャルサイトをご確認ください。
URL:https://beats.stars.ne.jp/schedule/5%e4%ba%ba%e3%81%ab%e3%81%aa%e3%81%a3%e3%81%a65%e5%91%a8%e5%b9%b4%ef%bc%815x525-tour-%e3%80%9c%e3%80%8c%e6%97%85%e3%81%ab%e5%87%ba%e3%82%8b%e6%ba%96%e5%82%99%e3%80%8d%e3%83%aa%e3%83%aa%e3%83%bc
LOCATION:BEAT STATION\, 福岡市中央区渡辺通4-11-4\, 〒810-0004
END:VEVENT
BEGIN:VEVENT
DTSTART;VALUE=DATE:20180420
DTEND;VALUE=DATE:20180421
DTSTAMP:20260423T074827
CREATED:20180218T113420Z
LAST-MODIFIED:20180531T114929Z
UID:465-1524182400-1524268799@beats.stars.ne.jp
SUMMARY:六弦郷-Acoustic & Unplugged- Receive spirit of HEART BEAT
DESCRIPTION:遂にハートビート時代の伝統のアコースティック＆アンプラグド・ライブがビートステーションで復活！\n ハートビートのアコースティックライブはアコギ弾き語りに加えてユニット系やパーカッション、シーケンス等であっても一般的なバンド形態ではなくアコースティック・スタイルでの演奏形態を主とするならばどんなジャンルでも出演可能。\n 純粋に弾き語りライブの時もあればシーケンス主体のクラブチックな時もあるまさにプログレッシヴなアコースティック・ライブ。\n これをビートステーションのサブフロアを使用してアメリカン・スタイルのコミュニティーなラウンジ・バーぽく展開する２週連続の第一夜。 \n ４月２０日（金）\n 六弦郷-Acoustic & Unplugged- Receive spirit of HEART BEAT<1st Mission> \n 福岡ビートステーション＜コミュケーション・ラウンジ・フロア＞ \n ＜出演＞\n 風雅人＆哲心童子\n DAIKI\n 徳永貴司\n ZiZi\n 藤本陽一 \n 
URL:https://beats.stars.ne.jp/schedule/%e5%85%ad%e5%bc%a6%e9%83%b7-acoustic-unplugged-receive-spirit-of-heart-beat
END:VEVENT
BEGIN:VEVENT
DTSTART;VALUE=DATE:20180414
DTEND;VALUE=DATE:20180416
DTSTAMP:20260423T074827
CREATED:20180118T051902Z
LAST-MODIFIED:20180118T052102Z
UID:113-1523664000-1523836799@beats.stars.ne.jp
SUMMARY:toshinori YONEKURA 25th anniversary special concert tour 2018
DESCRIPTION:「toshinoriyonekura.com presents toshinori YONEKURA 25th anniversary special concert tour 2018 -gotta crush on….. volume. nineteen “besties”」 \n米倉利紀 \n2018年2月7日（水）にリリースされるSUPER BEST ALBUM「besties」（2タイトル）を引っ提げての全国ツアー開催が決定致しました！！\n全国18都市25公演を駆け巡ります。\nいよいよ、デビュー25周年イヤーの締めくくり！！\nベスト盤を引っさげての本格的なツアーは米倉利紀史上初！！ \n一般発売：2月10日
URL:https://beats.stars.ne.jp/schedule/toshinori-yonekura-25th-anniversary-special-concert-tour-2018
LOCATION:BEAT STATION\, 福岡市中央区渡辺通4-11-4\, 〒810-0004
END:VEVENT
BEGIN:VEVENT
DTSTART;VALUE=DATE:20180413
DTEND;VALUE=DATE:20180414
DTSTAMP:20260423T074827
CREATED:20180312T065949Z
LAST-MODIFIED:20180312T070038Z
UID:595-1523577600-1523663999@beats.stars.ne.jp
SUMMARY:ROTTENGRAFFTY PLAY ALL AROUND JAPAN TOUR 2018
DESCRIPTION:CAST：ROTTENGRAFFTY / etc…
URL:https://beats.stars.ne.jp/schedule/rottengraffty-play-all-around-japan-tour-2018
LOCATION:BEAT STATION\, 福岡市中央区渡辺通4-11-4\, 〒810-0004
END:VEVENT
BEGIN:VEVENT
DTSTART;VALUE=DATE:20180408
DTEND;VALUE=DATE:20180409
DTSTAMP:20260423T074827
CREATED:20180118T051609Z
LAST-MODIFIED:20180820T103543Z
UID:110-1523145600-1523231999@beats.stars.ne.jp
SUMMARY:雨のパレード　ワンマンツアー2018
DESCRIPTION:雨のパレード \n一般発売 2/25
URL:https://beats.stars.ne.jp/schedule/%e9%9b%a8%e3%81%ae%e3%83%91%e3%83%ac%e3%83%bc%e3%83%89%e3%80%80%e3%83%af%e3%83%b3%e3%83%9e%e3%83%b3%e3%83%84%e3%82%a2%e3%83%bc2018
LOCATION:BEAT STATION\, 福岡市中央区渡辺通4-11-4\, 〒810-0004
END:VEVENT
BEGIN:VEVENT
DTSTART;VALUE=DATE:20180407
DTEND;VALUE=DATE:20180408
DTSTAMP:20260423T074827
CREATED:20180129T061644Z
LAST-MODIFIED:20180820T103553Z
UID:252-1523059200-1523145599@beats.stars.ne.jp
SUMMARY:Bluemin’ Days TOUR
DESCRIPTION:Yogee New Waves \n一般発売 2/10
URL:https://beats.stars.ne.jp/schedule/bluemin-days-tour
LOCATION:BEAT STATION\, 福岡市中央区渡辺通4-11-4\, 〒810-0004
END:VEVENT
BEGIN:VEVENT
DTSTART;VALUE=DATE:20180401
DTEND;VALUE=DATE:20180402
DTSTAMP:20260423T074827
CREATED:20180207T084107Z
LAST-MODIFIED:20180215T020006Z
UID:345-1522540800-1522627199@beats.stars.ne.jp
SUMMARY:TIF2018全国選抜LIVE 九州・沖縄ブロック in FUKUOKA
DESCRIPTION:TIF2018全国選抜LIVE 九州・沖縄ブロック in FUKUOKA \nOBP☆オキナワ美少女プロジェクト\n究極少女・カラット \n九州女子翼\n 白金アイドル塾\n Smile\n パピマシェ\n monecco5\n YU4 \n■チケット販売：http://r-t.jp/musicpark\n 抽選先行受付：２月１日（木）１０：００～２月７日（水）２３：５９ \n 一般発売：２月１７日（土）１０：００～３月３１日（土） \n■問合せ：info@musicpark.jp
URL:https://beats.stars.ne.jp/schedule/tif2018%e5%85%a8%e5%9b%bd%e9%81%b8%e6%8a%9clive-%e4%b9%9d%e5%b7%9e%e3%83%bb%e6%b2%96%e7%b8%84%e3%83%96%e3%83%ad%e3%83%83%e3%82%af-in-fukuoka
LOCATION:BEAT STATION\, 福岡市中央区渡辺通4-11-4\, 〒810-0004
END:VEVENT
BEGIN:VEVENT
DTSTART;VALUE=DATE:20180331
DTEND;VALUE=DATE:20180401
DTSTAMP:20260423T074827
CREATED:20180118T051332Z
LAST-MODIFIED:20180118T051409Z
UID:108-1522454400-1522540799@beats.stars.ne.jp
SUMMARY:ベストアルバム「TANCOBEST」リリース記念ツアー 福岡公演
DESCRIPTION:たんこぶちん \n一般発売： 2018年2月5日
URL:https://beats.stars.ne.jp/schedule/%e3%83%99%e3%82%b9%e3%83%88%e3%82%a2%e3%83%ab%e3%83%90%e3%83%a0%e3%80%8ctancobest%e3%80%8d%e3%83%aa%e3%83%aa%e3%83%bc%e3%82%b9%e8%a8%98%e5%bf%b5%e3%83%84%e3%82%a2%e3%83%bc-%e7%a6%8f%e5%b2%a1%e5%85%ac
LOCATION:BEAT STATION\, 福岡市中央区渡辺通4-11-4\, 〒810-0004
END:VEVENT
BEGIN:VEVENT
DTSTART;VALUE=DATE:20180329
DTEND;VALUE=DATE:20180330
DTSTAMP:20260423T074827
CREATED:20180306T102815Z
LAST-MODIFIED:20180820T103733Z
UID:569-1522281600-1522367999@beats.stars.ne.jp
SUMMARY:10.8℃の世界線presents 【PARADIGM SHIFT-赤の章-】
DESCRIPTION:10.8℃の世界線 \n迷走のポラリス \nあいまいもこ
URL:https://beats.stars.ne.jp/schedule/10-8%e2%84%83%e3%81%ae%e4%b8%96%e7%95%8c%e7%b7%9apresents-%e3%80%90paradigm-shift-%e8%b5%a4%e3%81%ae%e7%ab%a0-%e3%80%91
LOCATION:BEAT STATION\, 福岡市中央区渡辺通4-11-4\, 〒810-0004
END:VEVENT
BEGIN:VEVENT
DTSTART;VALUE=DATE:20180327
DTEND;VALUE=DATE:20180328
DTSTAMP:20260423T074827
CREATED:20180118T051131Z
LAST-MODIFIED:20180820T103922Z
UID:106-1522108800-1522195199@beats.stars.ne.jp
SUMMARY:HEY-SMITH “South And North TOUR”
DESCRIPTION:HEY-SMITH
URL:https://beats.stars.ne.jp/schedule/hey-smith-south-and-north-tour
LOCATION:BEAT STATION\, 福岡市中央区渡辺通4-11-4\, 〒810-0004
END:VEVENT
BEGIN:VEVENT
DTSTART;VALUE=DATE:20180325
DTEND;VALUE=DATE:20180326
DTSTAMP:20260423T074827
CREATED:20180129T061207Z
LAST-MODIFIED:20180820T103922Z
UID:249-1521936000-1522022399@beats.stars.ne.jp
SUMMARY:星屑ロンリネス 5周年記念ワンマンライブ DEADor笑LIVE
DESCRIPTION:星屑ロンリネス \n一般発売 2/1
URL:https://beats.stars.ne.jp/schedule/%e6%98%9f%e5%b1%91%e3%83%ad%e3%83%b3%e3%83%aa%e3%83%8d%e3%82%b9-5%e5%91%a8%e5%b9%b4%e8%a8%98%e5%bf%b5%e3%83%af%e3%83%b3%e3%83%9e%e3%83%b3%e3%83%a9%e3%82%a4%e3%83%96-deador%e7%ac%91live
LOCATION:BEAT STATION\, 福岡市中央区渡辺通4-11-4\, 〒810-0004
END:VEVENT
BEGIN:VEVENT
DTSTART;VALUE=DATE:20180324
DTEND;VALUE=DATE:20180325
DTSTAMP:20260423T074827
CREATED:20180118T050951Z
LAST-MODIFIED:20180820T103922Z
UID:104-1521849600-1521935999@beats.stars.ne.jp
SUMMARY:レイジング RELEASE TOUR「RAY with efree band ONEMAN LIVE in FUKUOKA」
DESCRIPTION:RAY
URL:https://beats.stars.ne.jp/schedule/%e3%83%ac%e3%82%a4%e3%82%b8%e3%83%b3%e3%82%b0-release-tour%e3%80%8cray-with-efree-band-oneman-live-in-fukuoka%e3%80%8d
LOCATION:BEAT STATION\, 福岡市中央区渡辺通4-11-4\, 〒810-0004
END:VEVENT
BEGIN:VEVENT
DTSTART;VALUE=DATE:20180322
DTEND;VALUE=DATE:20180323
DTSTAMP:20260423T074827
CREATED:20180118T050419Z
LAST-MODIFIED:20180820T103922Z
UID:101-1521676800-1521763199@beats.stars.ne.jp
SUMMARY:SWISH TOUR 2018
DESCRIPTION:出演アーティスト \n\nFlowBack\n COLOR CREATION\n FREAK\n THE BEAT GARDEN\n UNIONE\n CREATE\n α-X’s(アクロス) \n詳細はこちら↓↓\n SWISH TOUR 2018
URL:https://beats.stars.ne.jp/schedule/swish-tour-2018
LOCATION:BEAT STATION\, 福岡市中央区渡辺通4-11-4\, 〒810-0004
END:VEVENT
BEGIN:VEVENT
DTSTART;VALUE=DATE:20180318
DTEND;VALUE=DATE:20180319
DTSTAMP:20260423T074827
CREATED:20180207T083433Z
LAST-MODIFIED:20180820T103922Z
UID:343-1521331200-1521417599@beats.stars.ne.jp
SUMMARY:RENT THANKS!!
DESCRIPTION:
URL:https://beats.stars.ne.jp/schedule/rent-thanks-6
END:VEVENT
BEGIN:VEVENT
DTSTART;VALUE=DATE:20180317
DTEND;VALUE=DATE:20180318
DTSTAMP:20260423T074827
CREATED:20180317T051042Z
LAST-MODIFIED:20180820T103923Z
UID:609-1521244800-1521331199@beats.stars.ne.jp
SUMMARY:【テクノポリス・フクオカ　25時】  福岡 マジック オーケストラ・コンサート
DESCRIPTION:【テクノポリス・フクオカ　25時】 \n福岡 マジック オーケストラ・コンサート \n福岡が誇るYMOコピーバンド、\n福岡 マジック オーケストラのソロ・コンサートです♨ \nどうぞ、暖かい目で見守ってやって下さいませ☆ \nどうぞよろしくお願いいたします♨ \n■■■■■■■■■■■■■ \n□出演　福岡 マジック オーケストラ \n　　　　青田史郎　com. program\,　vo\n　　　　蓑島寿哉　bass\, syn.\n　　　　高山友弘　gu. vo.\n　　　　寺島　香　syn. vo.\n　　　　佐藤弘志　syn. vo.\n　　　　渡辺ハンキン　dr. vo. \nand more！！ \n★シークレット・スペシャルゲストあり！ \n■全席自由　オール・スタンディング \n■2部構成で　第一部、第二部の間に\n　ドリンク・タイムを設けてあります\n　ので、どうぞお客様同士、ご歓談、\n　ご飲食、いただけます。\n　どうぞよろしくお願いいたします。 \n\n\n\n\n\n 
URL:https://beats.stars.ne.jp/schedule/%e3%80%90%e3%83%86%e3%82%af%e3%83%8e%e3%83%9d%e3%83%aa%e3%82%b9%e3%83%bb%e3%83%95%e3%82%af%e3%82%aa%e3%82%ab%e3%80%8025%e6%99%82%e3%80%91-%e7%a6%8f%e5%b2%a1-%e3%83%9e%e3%82%b8%e3%83%83%e3%82%af
END:VEVENT
BEGIN:VEVENT
DTSTART;VALUE=DATE:20180316
DTEND;VALUE=DATE:20180317
DTSTAMP:20260423T074827
CREATED:20180218T093035Z
LAST-MODIFIED:20180820T103923Z
UID:444-1521158400-1521244799@beats.stars.ne.jp
SUMMARY:Manhattan Portage 35th Anniversary Party -FUKUOKA JAM-
DESCRIPTION:<Guest>\n KEN THE 390 (LIVE)\n Shiggy Jr. (LIVE)\n COLTECO (LIVE)\n YOHEI UCHINO (BMX)\n ISSEI (DANCE)\n SAMURAI BALLERS (FREESTYLE BASKETBALL)\n Cigarette-burns MARU (LIVE PAINT ART) \n Manhattan Portage 35周年を記念したPARTYを全国6都市にて開催します！\n 記念すべき第1回は3月福岡からスタート！ \n\n ゲストライブに「KEN THE 390」・「Shiggy Jr.」 \nゲストパフォーマーに「内野洋平」・「ISSEI」が登場！\n また、福岡からは「COLTECO」・「侍ボーラーズ」・「Cigarette-burns」が参戦！ \n 熱い1日になること間違いなし！ \n ＜イベント参加方法＞\n 1、 対象直営店舗(FUKUOKA、HAKATA、KUMAMOTO店)へManhattan Portageのアイテムを持参 or ご購入 頂ければチケットを配布いたします！\n 2、 イベントチケットをGET！\n 3、 当日、Manhattan Portageのアイテムとイベントチケットを持って会場へ！ \n ※当日はチケットとManhattan Portageのアイテムをご持参ください。 .\n ＜注意事項＞\n ・1ドリンク制となり、入場時にドリンク代のみ別途頂戴いたします。\n ・未成年の方の飲酒、喫煙は禁止させて頂きます。身分証のご提示を求める場合もございます。ご了承ください。\n ・イベント当日は、スナップやイベントレポートの撮影が入ります。ご入場の際は画像の使用等に同意いただいた事とし、撮影させて頂いた画像等はブランドSNSやHP・web等へ掲載させていただく場合もございます。
URL:https://beats.stars.ne.jp/schedule/manhattan-portage-35th-anniversary-party-fukuoka-jam
END:VEVENT
BEGIN:VEVENT
DTSTART;VALUE=DATE:20180314
DTEND;VALUE=DATE:20180315
DTSTAMP:20260423T074827
CREATED:20180118T050124Z
LAST-MODIFIED:20180820T103923Z
UID:99-1520985600-1521071999@beats.stars.ne.jp
SUMMARY:GOOD ON THE REEL presents  HAVE A "GOOD" NIGHT vol.79  ～ネオンにまぎれて～
DESCRIPTION:GOOD ON THE REEL \nMini Album『光にまみれて』 \n2018.1.10 On Sale \n一般発売 1/13 10:00〜
URL:https://beats.stars.ne.jp/schedule/good-on-the-reel-presents-have-a-good-night-vol-79-%ef%bd%9e%e3%83%8d%e3%82%aa%e3%83%b3%e3%81%ab%e3%81%be%e3%81%8e%e3%82%8c%e3%81%a6%ef%bd%9e
LOCATION:BEAT STATION\, 福岡市中央区渡辺通4-11-4\, 〒810-0004
END:VEVENT
BEGIN:VEVENT
DTSTART;VALUE=DATE:20180311
DTEND;VALUE=DATE:20180312
DTSTAMP:20260423T074827
CREATED:20180129T060952Z
LAST-MODIFIED:20180820T103923Z
UID:247-1520726400-1520812799@beats.stars.ne.jp
SUMMARY:RENT THANKS!!
DESCRIPTION:
URL:https://beats.stars.ne.jp/schedule/rent-thanks-5
END:VEVENT
BEGIN:VEVENT
DTSTART;VALUE=DATE:20180310
DTEND;VALUE=DATE:20180311
DTSTAMP:20260423T074827
CREATED:20180118T045407Z
LAST-MODIFIED:20180820T103923Z
UID:96-1520640000-1520726399@beats.stars.ne.jp
SUMMARY:HAPPY THIRTEEN
DESCRIPTION:ペトロールズ  \nチケット一般発売 1/14
URL:https://beats.stars.ne.jp/schedule/happy-thirteen
LOCATION:BEAT STATION\, 福岡市中央区渡辺通4-11-4\, 〒810-0004
END:VEVENT
BEGIN:VEVENT
DTSTART;VALUE=DATE:20180309
DTEND;VALUE=DATE:20180310
DTSTAMP:20260423T074827
CREATED:20180118T044928Z
LAST-MODIFIED:20180820T103923Z
UID:92-1520553600-1520639999@beats.stars.ne.jp
SUMMARY:THINGS WE SAY SPECIAL
DESCRIPTION:[LIVE] \ntofubeats \nKONCOS \nSTUTS \nDENIMS \nAttractions \n[DJ] \nSHOTA-LOW (ABOUT MUSIC/PLAG) \n  \nABOUT MUSICのライブ企画シリーズ”THINGS WE SAY”のSPECIAL VERSIONが開催決定！！ \n第一弾出演者は、今や日本を代表する若きトラックメーカー／プロデューサーである”tofubeats”、ライブハウスを熱狂させ、日本中を旅するバンド”KONCOS”、MPCを駆使したライブを国内外問わず行い、プロデューサーとしても注目を集める”STUTS”の3組がアナウンス。ジャンルの壁を越えた豪華共演は必見です！\n その他、追加出演者など詳細は随時発表。お見逃しなく！ \nお問い合わせ：ABOUT MUSIC\n 092-982-8281\n http://aboutmusic.jp
URL:https://beats.stars.ne.jp/schedule/things-we-say-special
LOCATION:BEAT STATION\, 福岡市中央区渡辺通4-11-4\, 〒810-0004
END:VEVENT
BEGIN:VEVENT
DTSTART;VALUE=DATE:20180304
DTEND;VALUE=DATE:20180305
DTSTAMP:20260423T074827
CREATED:20180129T060839Z
LAST-MODIFIED:20180820T103923Z
UID:245-1520121600-1520207999@beats.stars.ne.jp
SUMMARY:Amaryllis Bomb TOUR2018 -what's bomb-
DESCRIPTION:Amaryllis Bomb
URL:https://beats.stars.ne.jp/schedule/amaryllis-bomb-tour2018-whats-bomb
LOCATION:BEAT STATION\, 福岡市中央区渡辺通4-11-4\, 〒810-0004
END:VEVENT
BEGIN:VEVENT
DTSTART;VALUE=DATE:20180303
DTEND;VALUE=DATE:20180304
DTSTAMP:20260423T074827
CREATED:20180129T060511Z
LAST-MODIFIED:20180820T103923Z
UID:241-1520035200-1520121599@beats.stars.ne.jp
SUMMARY:ナイト・オブ・ザ・フェミニン２  〜 Night of Feminineness 2〜  HI-N-IGHT
DESCRIPTION:ひな祭りイベント第二弾、今年はビーステ！\n ロッキーなアンプラグドからロック＆ポップスまで、ロックン・ひな祭りライブだぞ！ \nナイト・オブ・ザ・フェミニン２〜 Night of Feminineness 2  〜HI-N-IGHT \n〈出演〉\nさはら\nHITORI-GUY\nRoaR\nHISATO with T\n木村帰る。\nTAKATO with GG POP\nColor Spectrum
URL:https://beats.stars.ne.jp/schedule/%e3%83%8a%e3%82%a4%e3%83%88%e3%83%bb%e3%82%aa%e3%83%96%e3%83%bb%e3%82%b6%e3%83%bb%e3%83%95%e3%82%a7%e3%83%9f%e3%83%8b%e3%83%b3%ef%bc%92-%e3%80%9c-night-of-feminineness-2%e3%80%9c-hi-n-ight
LOCATION:BEAT STATION\, 福岡市中央区渡辺通4-11-4\, 〒810-0004
END:VEVENT
BEGIN:VEVENT
DTSTART;VALUE=DATE:20180302
DTEND;VALUE=DATE:20180303
DTSTAMP:20260423T074827
CREATED:20180118T044717Z
LAST-MODIFIED:20180820T103923Z
UID:90-1519948800-1520035199@beats.stars.ne.jp
SUMMARY:RENT THANKS!!
DESCRIPTION:
URL:https://beats.stars.ne.jp/schedule/rent-thanks
END:VEVENT
BEGIN:VEVENT
DTSTART;VALUE=DATE:20180228
DTEND;VALUE=DATE:20180301
DTSTAMP:20260423T074827
CREATED:20180207T083320Z
LAST-MODIFIED:20180820T103923Z
UID:341-1519776000-1519862399@beats.stars.ne.jp
SUMMARY:A casa do amigo
DESCRIPTION:BAR営業
URL:https://beats.stars.ne.jp/schedule/a-casa-do-amigo-3
LOCATION:BEAT STATION\, 福岡市中央区渡辺通4-11-4\, 〒810-0004
END:VEVENT
END:VCALENDAR