BEGIN:VCALENDAR
VERSION:2.0
PRODID:-//福岡のライブハウス BEAT STATION - ECPv6.10.3//NONSGML v1.0//EN
CALSCALE:GREGORIAN
METHOD:PUBLISH
X-WR-CALNAME:福岡のライブハウス BEAT STATION
X-ORIGINAL-URL:https://beats.stars.ne.jp
X-WR-CALDESC:福岡のライブハウス BEAT STATION のイベント
REFRESH-INTERVAL;VALUE=DURATION:PT1H
X-Robots-Tag:noindex
X-PUBLISHED-TTL:PT1H
BEGIN:VTIMEZONE
TZID:Asia/Tokyo
BEGIN:STANDARD
TZOFFSETFROM:+0900
TZOFFSETTO:+0900
TZNAME:JST
DTSTART:20190101T000000
END:STANDARD
END:VTIMEZONE
BEGIN:VEVENT
DTSTART;VALUE=DATE:20190803
DTEND;VALUE=DATE:20190804
DTSTAMP:20260422T043239
CREATED:20190720T102536Z
LAST-MODIFIED:20190720T103607Z
UID:1841-1564790400-1564876799@beats.stars.ne.jp
SUMMARY:星屑ロンリネス Presents 『プラネタリウム～みんなカッケー！夏の大三角形！～』
DESCRIPTION:▽HOST\n 星屑ロンリネス \n ▽GUEST\n YASS from ビーグルクルー\n 伊藤勇樹 from FREAK\n RefRise\n BEA凸CREW\n osamu&Kenshiro \n ▽CAST\n ワンダーラブ\n 城戸佑一\n 大川晴也\n MELTY LOUNGE\n FIZZ \n\n ↓チケット購入はこちら↓ \n https://tiget.net/events/61731 \n こちらのフォームより予約してください。お支払いは当日になります。(8月2日23時〆切) \n\n ・注意事項 \n 入場順は予約番号順になります。 \n 小学生以下は無料、要1ドリンク。
URL:https://beats.stars.ne.jp/schedule/%e6%98%9f%e5%b1%91%e3%83%ad%e3%83%b3%e3%83%aa%e3%83%8d%e3%82%b9-presents-%e3%80%8e%e3%83%97%e3%83%a9%e3%83%8d%e3%82%bf%e3%83%aa%e3%82%a6%e3%83%a0%ef%bd%9e%e3%81%bf%e3%82%93%e3%81%aa%e3%82%ab%e3%83%83
LOCATION:BEAT STATION\, 福岡市中央区渡辺通4-11-4\, 〒810-0004
END:VEVENT
BEGIN:VEVENT
DTSTART;VALUE=DATE:20190728
DTEND;VALUE=DATE:20190729
DTSTAMP:20260422T043239
CREATED:20190701T071717Z
LAST-MODIFIED:20190701T071717Z
UID:1808-1564272000-1564358399@beats.stars.ne.jp
SUMMARY:RENT THANKS!!
DESCRIPTION:
URL:https://beats.stars.ne.jp/schedule/rent-thanks-23
LOCATION:BEAT STATION\, 福岡市中央区渡辺通4-11-4\, 〒810-0004
END:VEVENT
BEGIN:VEVENT
DTSTART;VALUE=DATE:20190727
DTEND;VALUE=DATE:20190728
DTSTAMP:20260422T043239
CREATED:20190701T071424Z
LAST-MODIFIED:20190701T071424Z
UID:1806-1564185600-1564271999@beats.stars.ne.jp
SUMMARY:釣りよか。in 福岡
DESCRIPTION:【第3部 : 釣りよか。in 福岡 -ゆる〜く打ち上げ。-】
URL:https://beats.stars.ne.jp/schedule/%e9%87%a3%e3%82%8a%e3%82%88%e3%81%8b%e3%80%82in-%e7%a6%8f%e5%b2%a1-3
LOCATION:BEAT STATION\, 福岡市中央区渡辺通4-11-4\, 〒810-0004
END:VEVENT
BEGIN:VEVENT
DTSTART;VALUE=DATE:20190727
DTEND;VALUE=DATE:20190728
DTSTAMP:20260422T043239
CREATED:20190701T071223Z
LAST-MODIFIED:20190701T071223Z
UID:1804-1564185600-1564271999@beats.stars.ne.jp
SUMMARY:釣りよか。in 福岡
DESCRIPTION:【第2部 : 釣りよか。in 福岡 -ライブ多めでしょう。-】
URL:https://beats.stars.ne.jp/schedule/%e9%87%a3%e3%82%8a%e3%82%88%e3%81%8b%e3%80%82in-%e7%a6%8f%e5%b2%a1-2
LOCATION:BEAT STATION\, 福岡市中央区渡辺通4-11-4\, 〒810-0004
END:VEVENT
BEGIN:VEVENT
DTSTART;VALUE=DATE:20190727
DTEND;VALUE=DATE:20190728
DTSTAMP:20260422T043239
CREATED:20190701T070958Z
LAST-MODIFIED:20190701T071006Z
UID:1801-1564185600-1564271999@beats.stars.ne.jp
SUMMARY:釣りよか。in 福岡
DESCRIPTION:【第1部 : 釣りよか。in 福岡 -トーク多めでしょう。-】
URL:https://beats.stars.ne.jp/schedule/%e9%87%a3%e3%82%8a%e3%82%88%e3%81%8b%e3%80%82in-%e7%a6%8f%e5%b2%a1
LOCATION:BEAT STATION\, 福岡市中央区渡辺通4-11-4\, 〒810-0004
END:VEVENT
BEGIN:VEVENT
DTSTART;VALUE=DATE:20190721
DTEND;VALUE=DATE:20190722
DTSTAMP:20260422T043239
CREATED:20190422T095340Z
LAST-MODIFIED:20190628T070524Z
UID:1596-1563667200-1563753599@beats.stars.ne.jp
SUMMARY:RAZOR
DESCRIPTION:RAZOR \n  \n【一般発売】2019年6月9日(日)
URL:https://beats.stars.ne.jp/schedule/razor
LOCATION:BEAT STATION\, 福岡市中央区渡辺通4-11-4\, 〒810-0004
CATEGORIES:トップ画面に表示する
END:VEVENT
BEGIN:VEVENT
DTSTART;VALUE=DATE:20190720
DTEND;VALUE=DATE:20190721
DTSTAMP:20260422T043239
CREATED:20190417T101346Z
LAST-MODIFIED:20190628T070510Z
UID:1580-1563580800-1563667199@beats.stars.ne.jp
SUMMARY:"Ain't no she see" TOUR
DESCRIPTION:夜の本気ダンス \n  \n\n 一般発売日：2019年4月20日
URL:https://beats.stars.ne.jp/schedule/aint-no-she-see-tour
LOCATION:BEAT STATION\, 福岡市中央区渡辺通4-11-4\, 〒810-0004
CATEGORIES:トップ画面に表示する
END:VEVENT
BEGIN:VEVENT
DTSTART;VALUE=DATE:20190719
DTEND;VALUE=DATE:20190720
DTSTAMP:20260422T043239
CREATED:20190628T071753Z
LAST-MODIFIED:20190628T071753Z
UID:1764-1563494400-1563580799@beats.stars.ne.jp
SUMMARY:ASIAN NIGHT SUMMIT
DESCRIPTION:SXSWへの出演、本国でのレコ発もSOLD OUT！台湾インディー・シーンに急浮上した5人組ドリーム・ポップ・バンド、I Mean Us。\nレコードストアデイでLP化し話題となった大傑作デビュー・アルバム『OST』を引っさげ、初の来日公演が決定！ \n出演 : I Mean Us (from TAIWAN)\, Attractions\, Black Boboi\, 村里杏\nDJ：DAWA (FLAKE RECORDS)\, NON-DI\, SAE \n企画 : GIMMICK-MAGIC 主催：BINGOBONGOGROUP
URL:https://beats.stars.ne.jp/schedule/asian-night-summit
LOCATION:BEAT STATION\, 福岡市中央区渡辺通4-11-4\, 〒810-0004
END:VEVENT
BEGIN:VEVENT
DTSTART;VALUE=DATE:20190717
DTEND;VALUE=DATE:20190718
DTSTAMP:20260422T043239
CREATED:20190521T100047Z
LAST-MODIFIED:20190628T070442Z
UID:1655-1563321600-1563407999@beats.stars.ne.jp
SUMMARY:BEAT STATION 14th Anniversary
DESCRIPTION:SxAxL\nthe shirafu\nThe tiny day\nSPICE CONTROL \nザクロ\nハリケーンミキサー（佐賀）
URL:https://beats.stars.ne.jp/schedule/beat-station-14th-anniversary
LOCATION:BEAT STATION\, 福岡市中央区渡辺通4-11-4\, 〒810-0004
CATEGORIES:トップ画面に表示する
END:VEVENT
BEGIN:VEVENT
DTSTART;VALUE=DATE:20190715
DTEND;VALUE=DATE:20190716
DTSTAMP:20260422T043239
CREATED:20190417T101008Z
LAST-MODIFIED:20190417T101008Z
UID:1578-1563148800-1563235199@beats.stars.ne.jp
SUMMARY:Aldious Tour 2019 “Evoke”
DESCRIPTION:Aldious\n 
URL:https://beats.stars.ne.jp/schedule/aldious-tour-2019-evoke
LOCATION:BEAT STATION\, 福岡市中央区渡辺通4-11-4\, 〒810-0004
END:VEVENT
BEGIN:VEVENT
DTSTART;VALUE=DATE:20190714
DTEND;VALUE=DATE:20190715
DTSTAMP:20260422T043239
CREATED:20190524T064218Z
LAST-MODIFIED:20190713T142246Z
UID:1663-1563062400-1563148799@beats.stars.ne.jp
SUMMARY:DOG史上初の真夏の全国ワンマンTOUR『Doggy Style』
DESCRIPTION:DOG inThe パラレルワールドオーケストラ
URL:https://beats.stars.ne.jp/schedule/dog%e5%8f%b2%e4%b8%8a%e5%88%9d%e3%81%ae%e7%9c%9f%e5%a4%8f%e3%81%ae%e5%85%a8%e5%9b%bd%e3%83%af%e3%83%b3%e3%83%9e%e3%83%b3tour%e3%80%8edoggy-style%e3%80%8f
LOCATION:BEAT STATION\, 福岡市中央区渡辺通4-11-4\, 〒810-0004
END:VEVENT
BEGIN:VEVENT
DTSTART;VALUE=DATE:20190713
DTEND;VALUE=DATE:20190714
DTSTAMP:20260422T043239
CREATED:20190417T100039Z
LAST-MODIFIED:20190417T100039Z
UID:1576-1562976000-1563062399@beats.stars.ne.jp
SUMMARY:サロン・ド・キノコ〜奥義大回転
DESCRIPTION:鬼才マリアンヌ東雲率いる驚嘆のガールズ・バンド、キノコホテルのアルバム発売記念ツアーが決定！\n創業12年目にして新境地に挑んだ７枚目のニューアルバム『マリアンヌの奥儀』（キングレコード）を6月26日にリリース。「グルーヴの追求と名曲群」を指標にスタジオワークに没頭し作り上げたゴージャスな新作の世界が実演会でどう再現されるか！？ \n※キノコホテルの新作レコ発実演会にスパルタローカルズとゴーグルズが登場！の福岡スペシャル \n\nキノコホテル\nスパルタローカルズ\nゴーグルズ
URL:https://beats.stars.ne.jp/schedule/%e3%82%b5%e3%83%ad%e3%83%b3%e3%83%bb%e3%83%89%e3%83%bb%e3%82%ad%e3%83%8e%e3%82%b3%e3%80%9c%e5%a5%a5%e7%be%a9%e5%a4%a7%e5%9b%9e%e8%bb%a2
LOCATION:BEAT STATION\, 福岡市中央区渡辺通4-11-4\, 〒810-0004
END:VEVENT
BEGIN:VEVENT
DTSTART;VALUE=DATE:20190712
DTEND;VALUE=DATE:20190713
DTSTAMP:20260422T043239
CREATED:20190526T051743Z
LAST-MODIFIED:20190609T023531Z
UID:1679-1562889600-1562975999@beats.stars.ne.jp
SUMMARY:六弦郷spirit of The first match and the first campaign
DESCRIPTION:ビートステーション１４周年Anniversary!\n六弦郷spirit of The first match and the first campaign \nAcoustic&Unplugged Gig\n福岡ビートステーション＜コミュケーション・ラウンジ・フロア＞ \n  ＜出演＞\nJACK D.BROWNE\n DAIKI \n ZiZi \n スナック\n joebeth(熊本) \n さはら
URL:https://beats.stars.ne.jp/schedule/%e5%85%ad%e5%bc%a6%e9%83%b7spirit-of-the-first-match-and-the-first-campaign
LOCATION:BEAT STATION\, 福岡市中央区渡辺通4-11-4\, 〒810-0004
CATEGORIES:トップ画面に表示する
END:VEVENT
BEGIN:VEVENT
DTSTART;VALUE=DATE:20190708
DTEND;VALUE=DATE:20190709
DTSTAMP:20260422T043239
CREATED:20190701T072050Z
LAST-MODIFIED:20190701T072050Z
UID:1810-1562544000-1562630399@beats.stars.ne.jp
SUMMARY:「幽霊少女ヨーホーヨーホーツアー」
DESCRIPTION:神聖かまってちゃん \nゲスト : 忘れらんねえよ
URL:https://beats.stars.ne.jp/schedule/%e3%80%8c%e5%b9%bd%e9%9c%8a%e5%b0%91%e5%a5%b3%e3%83%a8%e3%83%bc%e3%83%9b%e3%83%bc%e3%83%a8%e3%83%bc%e3%83%9b%e3%83%bc%e3%83%84%e3%82%a2%e3%83%bc%e3%80%8d
LOCATION:BEAT STATION\, 福岡市中央区渡辺通4-11-4\, 〒810-0004
END:VEVENT
BEGIN:VEVENT
DTSTART;VALUE=DATE:20190707
DTEND;VALUE=DATE:20190708
DTSTAMP:20260422T043239
CREATED:20190303T094352Z
LAST-MODIFIED:20190628T070419Z
UID:1464-1562457600-1562543999@beats.stars.ne.jp
SUMMARY:ぼた餅・棚ボタ・七夕フェスタ！ Lets Send The Night Together
DESCRIPTION:7月7日、日曜日。\nぼた餅・棚ボタ・七夕フェスタ！\nLets Send The Night Together \n開場16:00 開演16:30\n前2000円、当2500円+Ｄ \n＜出演＞\nW→FORCE\nHeavy Metal Hippiess(熊本)\nFTL\nHISATO\nD.U.S.T\nぽっぽ\nPSB\nunico.
URL:https://beats.stars.ne.jp/schedule/%e3%81%bc%e3%81%9f%e9%a4%85%e3%83%bb%e6%a3%9a%e3%83%9c%e3%82%bf%e3%83%bb%e4%b8%83%e5%a4%95%e3%83%95%e3%82%a7%e3%82%b9%e3%82%bf%ef%bc%81-lets-send-the-night-together
LOCATION:BEAT STATION\, 福岡市中央区渡辺通4-11-4\, 〒810-0004
CATEGORIES:トップ画面に表示する
END:VEVENT
BEGIN:VEVENT
DTSTART;VALUE=DATE:20190706
DTEND;VALUE=DATE:20190707
DTSTAMP:20260422T043239
CREATED:20190628T071223Z
LAST-MODIFIED:20190628T071223Z
UID:1762-1562371200-1562457599@beats.stars.ne.jp
SUMMARY:【甘党祭全国ツアーin福岡 Supported by TUTU(チュチュ)　】
DESCRIPTION:【出演】\n甘党男子\nStar☆Prince＜ゲスト＞
URL:https://beats.stars.ne.jp/schedule/%e3%80%90%e7%94%98%e5%85%9a%e7%a5%ad%e5%85%a8%e5%9b%bd%e3%83%84%e3%82%a2%e3%83%bcin%e7%a6%8f%e5%b2%a1-supported-by-tutu%e3%83%81%e3%83%a5%e3%83%81%e3%83%a5%e3%80%80%e3%80%91
LOCATION:BEAT STATION\, 福岡市中央区渡辺通4-11-4\, 〒810-0004
END:VEVENT
BEGIN:VEVENT
DTSTART;VALUE=DATE:20190705
DTEND;VALUE=DATE:20190706
DTSTAMP:20260422T043239
CREATED:20190208T084438Z
LAST-MODIFIED:20190628T070400Z
UID:1399-1562284800-1562371199@beats.stars.ne.jp
SUMMARY:CROSS FM 25th ANNIVERSARY SUPPORT LIVE SIRUP「FEEL GOOD」TOUR 2019
DESCRIPTION:SIRUP \n\n チケット一般発売 3/8 
URL:https://beats.stars.ne.jp/schedule/cross-fm-25th-anniversary-support-live-sirup%e3%80%8cfeel-good%e3%80%8dtour-2019
LOCATION:BEAT STATION\, 福岡市中央区渡辺通4-11-4\, 〒810-0004
CATEGORIES:トップ画面に表示する
END:VEVENT
BEGIN:VEVENT
DTSTART;VALUE=DATE:20190704
DTEND;VALUE=DATE:20190705
DTSTAMP:20260422T043239
CREATED:20190228T101627Z
LAST-MODIFIED:20190628T070346Z
UID:1417-1562198400-1562284799@beats.stars.ne.jp
SUMMARY:超歌手大森靖子2019 47都道府県TOUR"ハンドメイドシンガイア"
DESCRIPTION:大森靖子シンガイアズ \n バンド編成”新🌏z”で47都道府県まわります \n  \n  \n  \n\n 一般発売 4/27 10:00〜
URL:https://beats.stars.ne.jp/schedule/%e8%b6%85%e6%ad%8c%e6%89%8b%e5%a4%a7%e6%a3%ae%e9%9d%96%e5%ad%902019-47%e9%83%bd%e9%81%93%e5%ba%9c%e7%9c%8ctour%e3%83%8f%e3%83%b3%e3%83%89%e3%83%a1%e3%82%a4%e3%83%89%e3%82%b7%e3%83%b3%e3%82%ac
LOCATION:BEAT STATION\, 福岡市中央区渡辺通4-11-4\, 〒810-0004
CATEGORIES:トップ画面に表示する
END:VEVENT
BEGIN:VEVENT
DTSTART;VALUE=DATE:20190702
DTEND;VALUE=DATE:20190703
DTSTAMP:20260422T043239
CREATED:20190628T070817Z
LAST-MODIFIED:20190628T070817Z
UID:1759-1562025600-1562111999@beats.stars.ne.jp
SUMMARY:向井太一「BDP TOUR 2019」
DESCRIPTION:向井太一 \nGuest ： iri
URL:https://beats.stars.ne.jp/schedule/%e5%90%91%e4%ba%95%e5%a4%aa%e4%b8%80%e3%80%8cbdp-tour-2019%e3%80%8d
LOCATION:BEAT STATION\, 福岡市中央区渡辺通4-11-4\, 〒810-0004
END:VEVENT
BEGIN:VEVENT
DTSTART;VALUE=DATE:20190629
DTEND;VALUE=DATE:20190630
DTSTAMP:20260422T043239
CREATED:20190307T112256Z
LAST-MODIFIED:20190508T055818Z
UID:1471-1561766400-1561852799@beats.stars.ne.jp
SUMMARY:moumoon live tour 2019 -NEWMOON-
DESCRIPTION:moumoon
URL:https://beats.stars.ne.jp/schedule/moumoon-live-tour-2019-newmoon
LOCATION:BEAT STATION\, 福岡市中央区渡辺通4-11-4\, 〒810-0004
CATEGORIES:トップ画面に表示する
END:VEVENT
BEGIN:VEVENT
DTSTART;VALUE=DATE:20190627
DTEND;VALUE=DATE:20190628
DTSTAMP:20260422T043239
CREATED:20190521T065903Z
LAST-MODIFIED:20190521T065903Z
UID:1659-1561593600-1561679999@beats.stars.ne.jp
SUMMARY:SHELTER CHILDREN pre. 「夜明けの旅人ー流星群ー」
DESCRIPTION:10.8℃の世界線\nマルシィ\n月追う彼方
URL:https://beats.stars.ne.jp/schedule/shelter-children-pre-%e3%80%8c%e5%a4%9c%e6%98%8e%e3%81%91%e3%81%ae%e6%97%85%e4%ba%ba%e3%83%bc%e6%b5%81%e6%98%9f%e7%be%a4%e3%83%bc%e3%80%8d
LOCATION:BEAT STATION\, 福岡市中央区渡辺通4-11-4\, 〒810-0004
END:VEVENT
BEGIN:VEVENT
DTSTART;VALUE=DATE:20190623
DTEND;VALUE=DATE:20190624
DTSTAMP:20260422T043239
CREATED:20190510T070217Z
LAST-MODIFIED:20190510T070534Z
UID:1639-1561248000-1561334399@beats.stars.ne.jp
SUMMARY:SCARS OF MOMENT主催 『ARE YOU BURNING?-07- 美女と野獣と金髪2019』
DESCRIPTION:SCARS OF MOMENT\n Art In Storm\n NOAHTIC\n TSP(東京)\n D_Drive(大阪)\n 大山まき(大阪)
URL:https://beats.stars.ne.jp/schedule/scars-of-moment%e4%b8%bb%e5%82%ac-%e3%80%8eare-you-burning-07-%e7%be%8e%e5%a5%b3%e3%81%a8%e9%87%8e%e7%8d%a3%e3%81%a8%e9%87%91%e9%ab%aa2019%e3%80%8f
LOCATION:BEAT STATION\, 福岡市中央区渡辺通4-11-4\, 〒810-0004
CATEGORIES:トップ画面に表示する
END:VEVENT
BEGIN:VEVENT
DTSTART;VALUE=DATE:20190622
DTEND;VALUE=DATE:20190623
DTSTAMP:20260422T043239
CREATED:20190122T084042Z
LAST-MODIFIED:20190508T055803Z
UID:1370-1561161600-1561247999@beats.stars.ne.jp
SUMMARY:the dresscodes TOUR 2019
DESCRIPTION:ドレスコード \n\nチケット一般発売 3/2 10:00〜
URL:https://beats.stars.ne.jp/schedule/the-dresscodes-tour-2019
LOCATION:BEAT STATION\, 福岡市中央区渡辺通4-11-4\, 〒810-0004
CATEGORIES:トップ画面に表示する
END:VEVENT
BEGIN:VEVENT
DTSTART;VALUE=DATE:20190621
DTEND;VALUE=DATE:20190622
DTSTAMP:20260422T043239
CREATED:20190620T105402Z
LAST-MODIFIED:20190620T105402Z
UID:1735-1561075200-1561161599@beats.stars.ne.jp
SUMMARY:アコースティックライブ
DESCRIPTION:松山堂クロトリアン\nArt in Storm
URL:https://beats.stars.ne.jp/schedule/%e3%82%a2%e3%82%b3%e3%83%bc%e3%82%b9%e3%83%86%e3%82%a3%e3%83%83%e3%82%af%e3%83%a9%e3%82%a4%e3%83%96
LOCATION:BEAT STATION\, 福岡市中央区渡辺通4-11-4\, 〒810-0004
END:VEVENT
BEGIN:VEVENT
DTSTART;VALUE=DATE:20190616
DTEND;VALUE=DATE:20190617
DTSTAMP:20260422T043239
CREATED:20190417T092750Z
LAST-MODIFIED:20190612T114012Z
UID:1569-1560643200-1560729599@beats.stars.ne.jp
SUMMARY:HARVEST Special
DESCRIPTION:KAZRU\n Natural Radio Station\n BRIDGET\n FREAK\n Fuma\n Good Coming\n 星屑ロンリネス\n Monday Dirty Jokes\n BOX OF CHOCOLATES\n WORLD LAUGH
URL:https://beats.stars.ne.jp/schedule/harvest-special
LOCATION:BEAT STATION\, 福岡市中央区渡辺通4-11-4\, 〒810-0004
CATEGORIES:トップ画面に表示する
END:VEVENT
BEGIN:VEVENT
DTSTART;VALUE=DATE:20190615
DTEND;VALUE=DATE:20190616
DTSTAMP:20260422T043239
CREATED:20190426T115040Z
LAST-MODIFIED:20190426T115040Z
UID:1626-1560556800-1560643199@beats.stars.ne.jp
SUMMARY:世界初・人間輸血：すき焼きソング!上を向いて野茂200。
DESCRIPTION:６月１５日（土） \n世界初・人間輸血：すき焼きソング!上を向いて野茂200。\nWorld’s first blood transfusion between the man! \nwith Nomo wins 200 & The Sukiyaki Song\, A billboard ranking 1\n \n18:00 / 18:30\n前2\,000/当2\,500＋D代\n\n<出演>\nさはら\nPSB\nritchie703sp(小倉)\nCROWDIA(熊本)\n銃爪-HIKIGANE-\nGxTxB
URL:https://beats.stars.ne.jp/schedule/%e4%b8%96%e7%95%8c%e5%88%9d%e3%83%bb%e4%ba%ba%e9%96%93%e8%bc%b8%e8%a1%80%ef%bc%9a%e3%81%99%e3%81%8d%e7%84%bc%e3%81%8d%e3%82%bd%e3%83%b3%e3%82%b0%e4%b8%8a%e3%82%92%e5%90%91%e3%81%84%e3%81%a6%e9%87%8e
LOCATION:BEAT STATION\, 福岡市中央区渡辺通4-11-4\, 〒810-0004
CATEGORIES:トップ画面に表示する
END:VEVENT
BEGIN:VEVENT
DTSTART;VALUE=DATE:20190614
DTEND;VALUE=DATE:20190615
DTSTAMP:20260422T043239
CREATED:20190417T092505Z
LAST-MODIFIED:20190417T092505Z
UID:1567-1560470400-1560556799@beats.stars.ne.jp
SUMMARY:LEGO BIG MORL “ Cat Walk “ TOUR 2019 
DESCRIPTION:LEGO BIG MORL\n \n \n \n \nチケット一般発売：4/20
URL:https://beats.stars.ne.jp/schedule/lego-big-morl-cat-walk-tour-2019
LOCATION:BEAT STATION\, 福岡市中央区渡辺通4-11-4\, 〒810-0004
END:VEVENT
BEGIN:VEVENT
DTSTART;VALUE=DATE:20190612
DTEND;VALUE=DATE:20190613
DTSTAMP:20260422T043239
CREATED:20190422T090321Z
LAST-MODIFIED:20190508T055738Z
UID:1593-1560297600-1560383999@beats.stars.ne.jp
SUMMARY:co-star presents "The Party" tour 2019
DESCRIPTION:メンバー \n Guitar: Sho Kamijo\, Shu Fujiyama \n Bass: Kenshi Takimoto\, Isamu Mori \n keyboards: Kaz Kato\, Penny-K \n Drums:Toshiyuki Takao \n DJ:DJ Daishizen \n Special Guest Vocal Mihiro：吉野晃一 \n 数多くのトップアーティストを支える最強サポートミュージシャンが集結。 \n その名もco-star(コースター)。 \n co-starが豪華客演陣を迎え、オリジナルアルバムをリリース！ \n そしてその参加アーティストと共に全国をまわるリリースツアーが決定！ \n 最高峰を体感せよ！！！ \n\n チケット販売リンク\n https://t.livepocket.jp/e/qpeqf \n co-starホームページ\n https://co-star.info/
URL:https://beats.stars.ne.jp/schedule/co-star-presents-the-party-tour-2019
LOCATION:BEAT STATION\, 福岡市中央区渡辺通4-11-4\, 〒810-0004
CATEGORIES:トップ画面に表示する
END:VEVENT
BEGIN:VEVENT
DTSTART;VALUE=DATE:20190609
DTEND;VALUE=DATE:20190610
DTSTAMP:20260422T043239
CREATED:20190417T090748Z
LAST-MODIFIED:20190417T090748Z
UID:1565-1560038400-1560124799@beats.stars.ne.jp
SUMMARY:indigo la End ONEMAN TOUR 2019 「街路樹にて」
DESCRIPTION:indigo la End
URL:https://beats.stars.ne.jp/schedule/indigo-la-end-oneman-tour-2019-%e3%80%8c%e8%a1%97%e8%b7%af%e6%a8%b9%e3%81%ab%e3%81%a6%e3%80%8d
LOCATION:BEAT STATION\, 福岡市中央区渡辺通4-11-4\, 〒810-0004
END:VEVENT
BEGIN:VEVENT
DTSTART;VALUE=DATE:20190608
DTEND;VALUE=DATE:20190609
DTSTAMP:20260422T043239
CREATED:20190526T050431Z
LAST-MODIFIED:20190601T081008Z
UID:1675-1559952000-1560038399@beats.stars.ne.jp
SUMMARY:2019ワンマンツアー「神様の気まぐれ」
DESCRIPTION: the Raid. \n 
URL:https://beats.stars.ne.jp/schedule/2019%e3%83%af%e3%83%b3%e3%83%9e%e3%83%b3%e3%83%84%e3%82%a2%e3%83%bc%e3%80%8c%e7%a5%9e%e6%a7%98%e3%81%ae%e6%b0%97%e3%81%be%e3%81%90%e3%82%8c%e3%80%8d-2
LOCATION:BEAT STATION\, 福岡市中央区渡辺通4-11-4\, 〒810-0004
END:VEVENT
END:VCALENDAR