BEGIN:VCALENDAR
VERSION:2.0
PRODID:-//福岡のライブハウス BEAT STATION - ECPv6.10.3//NONSGML v1.0//EN
CALSCALE:GREGORIAN
METHOD:PUBLISH
X-WR-CALNAME:福岡のライブハウス BEAT STATION
X-ORIGINAL-URL:https://beats.stars.ne.jp
X-WR-CALDESC:福岡のライブハウス BEAT STATION のイベント
REFRESH-INTERVAL;VALUE=DURATION:PT1H
X-Robots-Tag:noindex
X-PUBLISHED-TTL:PT1H
BEGIN:VTIMEZONE
TZID:Asia/Tokyo
BEGIN:STANDARD
TZOFFSETFROM:+0900
TZOFFSETTO:+0900
TZNAME:JST
DTSTART:20190101T000000
END:STANDARD
END:VTIMEZONE
BEGIN:VEVENT
DTSTART;VALUE=DATE:20190426
DTEND;VALUE=DATE:20190427
DTSTAMP:20260422T102516
CREATED:20181228T112822Z
LAST-MODIFIED:20190508T055618Z
UID:1263-1556236800-1556323199@beats.stars.ne.jp
SUMMARY:カッペONEMAN TOUR カッパじゃなくて、カッペです。 inaカッペツアー～九州編～
DESCRIPTION:カッペ
URL:https://beats.stars.ne.jp/schedule/%e3%82%ab%e3%83%83%e3%83%9aoneman-tour-%e3%82%ab%e3%83%83%e3%83%91%e3%81%98%e3%82%83%e3%81%aa%e3%81%8f%e3%81%a6%e3%80%81%e3%82%ab%e3%83%83%e3%83%9a%e3%81%a7%e3%81%99%e3%80%82-ina%e3%82%ab%e3%83%83
LOCATION:BEAT STATION\, 福岡市中央区渡辺通4-11-4\, 〒810-0004
END:VEVENT
BEGIN:VEVENT
DTSTART;VALUE=DATE:20190423
DTEND;VALUE=DATE:20190424
DTSTAMP:20260422T102516
CREATED:20190307T115124Z
LAST-MODIFIED:20190307T115124Z
UID:1485-1555977600-1556063999@beats.stars.ne.jp
SUMMARY:Hump Back "髪はしばらく切らないツアー"
DESCRIPTION:Hump Back
URL:https://beats.stars.ne.jp/schedule/hump-back-%e9%ab%aa%e3%81%af%e3%81%97%e3%81%b0%e3%82%89%e3%81%8f%e5%88%87%e3%82%89%e3%81%aa%e3%81%84%e3%83%84%e3%82%a2%e3%83%bc
LOCATION:BEAT STATION\, 福岡市中央区渡辺通4-11-4\, 〒810-0004
END:VEVENT
BEGIN:VEVENT
DTSTART;VALUE=DATE:20190421
DTEND;VALUE=DATE:20190422
DTSTAMP:20260422T102516
CREATED:20190307T114333Z
LAST-MODIFIED:20190307T114828Z
UID:1482-1555804800-1555891199@beats.stars.ne.jp
SUMMARY:iri Spring Tour 2019 “Shade”
DESCRIPTION:IRI \n \n \n3/6にリリースするiri待望の3rdアルバム「Shade」をひっさげて1年ぶりの全国ツアー。\n4月5日（金）東京・EX THEATER　ROPPONGIを皮切りに自身最大規模の全国ツアーの開催が決定。\n 2018年の春ツアーに続き、自主企画ライブ＜iri Presents “Night Dream 2018”＞も全公演SOLD OUTとなっており、こちらのツアーもSOLD OUT必至！\n 
URL:https://beats.stars.ne.jp/schedule/iri-spring-tour-2019-shade
LOCATION:BEAT STATION\, 福岡市中央区渡辺通4-11-4\, 〒810-0004
END:VEVENT
BEGIN:VEVENT
DTSTART;VALUE=DATE:20190419
DTEND;VALUE=DATE:20190420
DTSTAMP:20260422T102516
CREATED:20190417T080820Z
LAST-MODIFIED:20190417T080820Z
UID:1540-1555632000-1555718399@beats.stars.ne.jp
SUMMARY:CRACKHOUSE 16th Anniversary Party @fukuoka BEAT STATION
DESCRIPTION:◆CAST◆\n*SpGUEST* SHANK\n*SpGUEST* HOTSQUALL \n*GuestDj* RYUJI(Defcult)\nUNDERCREW / Lenz / the Deal To Headz / Howl of underdogs\nandmore…
URL:https://beats.stars.ne.jp/schedule/crackhouse-16th-anniversary-party-fukuoka-beat-station
LOCATION:BEAT STATION\, 福岡市中央区渡辺通4-11-4\, 〒810-0004
END:VEVENT
BEGIN:VEVENT
DTSTART;VALUE=DATE:20190414
DTEND;VALUE=DATE:20190415
DTSTAMP:20260422T102516
CREATED:20190204T120140Z
LAST-MODIFIED:20190508T055608Z
UID:1390-1555200000-1555286399@beats.stars.ne.jp
SUMMARY:JASON presents 007！414ヨイシ死ぬのは一緒だ。 414：When dying\, let's die together.
DESCRIPTION:以前やった死に損ないイベント、114(いい死)旅立ち。\n ちょっと雰囲気変えて久々に考案中。 \n４月１４日(日)\n JASON presents\n 007！414ヨイシ死ぬのは一緒だ。\n 414：When dying\, let’s die together.\n\n ＊なんともとんでもないタイトルです。(笑)\n お分かりになる方は分かるでしょうが、出演者のメインは過去に現在に大病・闘病生活を経験、戦ってきた、または現在も戦いの真っ最中でもある猛者連中です。そんなメンツによる過去に現在に、そして未来であっても、事故や病気や闘病生活等、そんなものに屈せずに人生を謳歌して楽しくやっていこうぜ！という趣旨のイベント、実際にそれらに打ち勝った、戦った奴らが集うライブです。以前は当事者のみの出演でしたが、今回は間口を広げて所縁ある面子の応援者バンドをも巻き込んでの開催です！\n 病なんかブラックジョーク的に笑って吹き飛ばそうぜ！ \n \n \n４月１４日（日）\n JASON presents\n 007！ヨイシ414死ぬのは一緒だ。\n 414：When dying\, let’s die together.\n開場17:00 / 開演17:30\n前2\,000 / 当2\,500＋１D\n \n＜確定＞\n幻一郎\n宮本輝\nzizi\nSadam’s Rainbow\nThe LIAR HONEYS(熊本)\n黒十字舎
URL:https://beats.stars.ne.jp/schedule/jason-presents-007%ef%bc%81414%e3%83%a8%e3%82%a4%e3%82%b7%e6%ad%bb%e3%81%ac%e3%81%ae%e3%81%af%e4%b8%80%e7%b7%92%e3%81%a0%e3%80%82-414%ef%bc%9awhen-dying-lets-die-together
LOCATION:BEAT STATION\, 福岡市中央区渡辺通4-11-4\, 〒810-0004
END:VEVENT
BEGIN:VEVENT
DTSTART;VALUE=DATE:20190413
DTEND;VALUE=DATE:20190414
DTSTAMP:20260422T102516
CREATED:20190307T113733Z
LAST-MODIFIED:20190307T113733Z
UID:1480-1555113600-1555199999@beats.stars.ne.jp
SUMMARY:魔法少女になり隊 ONE MAN TOUR 2019 ～Aを取り戻せ!～
DESCRIPTION:魔法少女になり隊
URL:https://beats.stars.ne.jp/schedule/%e9%ad%94%e6%b3%95%e5%b0%91%e5%a5%b3%e3%81%ab%e3%81%aa%e3%82%8a%e9%9a%8a-one-man-tour-2019-%ef%bd%9ea%e3%82%92%e5%8f%96%e3%82%8a%e6%88%bb%e3%81%9b%ef%bd%9e
LOCATION:BEAT STATION\, 福岡市中央区渡辺通4-11-4\, 〒810-0004
END:VEVENT
BEGIN:VEVENT
DTSTART;VALUE=DATE:20190407
DTEND;VALUE=DATE:20190408
DTSTAMP:20260422T102516
CREATED:20190204T123544Z
LAST-MODIFIED:20190508T055602Z
UID:1392-1554595200-1554681599@beats.stars.ne.jp
SUMMARY:Egawa is Mobile Suit and strong arm GADDEMU! ＜EGAWA is機動戦士鉄腕ガッデム!!＞
DESCRIPTION:４月７日(日)\n Egawa is Mobile Suit and strong arm GADDEMU!\n ＜EGAWA is機動戦士鉄腕ガッデム!!＞\n 福岡ビートステーション\n 開場17:00 / 開演17:30\n 前2\,000/当2\,500＋D代 \n ＜確定＞\n ●優しさライセンス\n ●ＷＲＥＣＫＯＮ\n ●KISS SCENE\n ●Lucy’s haircut shop（熊本）\n ●ロケットクイーン(熊本)\n ●Alla
URL:https://beats.stars.ne.jp/schedule/egawa-is-mobile-suit-and-strong-arm-gaddemu-%ef%bc%9cegawa-is%e6%a9%9f%e5%8b%95%e6%88%a6%e5%a3%ab%e9%89%84%e8%85%95%e3%82%ac%e3%83%83%e3%83%87%e3%83%a0%ef%bc%9e
END:VEVENT
BEGIN:VEVENT
DTSTART;VALUE=DATE:20190406
DTEND;VALUE=DATE:20190407
DTSTAMP:20260422T102516
CREATED:20190307T113001Z
LAST-MODIFIED:20190307T113057Z
UID:1476-1554508800-1554595199@beats.stars.ne.jp
SUMMARY:FlowBack LIVE TOUR 2019「The Answer」
DESCRIPTION:FlowBack
URL:https://beats.stars.ne.jp/schedule/flowback-live-tour-2019%e3%80%8cthe-answer%e3%80%8d-2
LOCATION:BEAT STATION\, 福岡市中央区渡辺通4-11-4\, 〒810-0004
END:VEVENT
BEGIN:VEVENT
DTSTART;VALUE=DATE:20190405
DTEND;VALUE=DATE:20190406
DTSTAMP:20260422T102516
CREATED:20190307T112634Z
LAST-MODIFIED:20190307T113225Z
UID:1474-1554422400-1554508799@beats.stars.ne.jp
SUMMARY:FlowBack LIVE TOUR 2019「The Answer」
DESCRIPTION:FlowBack
URL:https://beats.stars.ne.jp/schedule/flowback-live-tour-2019%e3%80%8cthe-answer%e3%80%8d
LOCATION:BEAT STATION\, 福岡市中央区渡辺通4-11-4\, 〒810-0004
END:VEVENT
BEGIN:VEVENT
DTSTART;VALUE=DATE:20190331
DTEND;VALUE=DATE:20190401
DTSTAMP:20260422T102516
CREATED:20190228T110318Z
LAST-MODIFIED:20190228T110318Z
UID:1444-1553990400-1554076799@beats.stars.ne.jp
SUMMARY:「TIMELINE for "sheeptown ALASCA"」
DESCRIPTION:tacica
URL:https://beats.stars.ne.jp/schedule/%e3%80%8ctimeline-for-sheeptown-alasca%e3%80%8d
LOCATION:BEAT STATION\, 福岡市中央区渡辺通4-11-4\, 〒810-0004
END:VEVENT
BEGIN:VEVENT
DTSTART;VALUE=DATE:20190330
DTEND;VALUE=DATE:20190331
DTSTAMP:20260422T102516
CREATED:20190228T110022Z
LAST-MODIFIED:20190228T110022Z
UID:1442-1553904000-1553990399@beats.stars.ne.jp
SUMMARY:図鑑 ONEMAN LIVE 『ずかんのじかん　〜HIRAMEKI〜』
DESCRIPTION: 図鑑  \nO/A The Folkees
URL:https://beats.stars.ne.jp/schedule/%e5%9b%b3%e9%91%91-oneman-live-%e3%80%8e%e3%81%9a%e3%81%8b%e3%82%93%e3%81%ae%e3%81%98%e3%81%8b%e3%82%93%e3%80%80%e3%80%9chirameki%e3%80%9c%e3%80%8f
LOCATION:BEAT STATION\, 福岡市中央区渡辺通4-11-4\, 〒810-0004
END:VEVENT
BEGIN:VEVENT
DTSTART;VALUE=DATE:20190329
DTEND;VALUE=DATE:20190330
DTSTAMP:20260422T102516
CREATED:20190228T105502Z
LAST-MODIFIED:20190228T105502Z
UID:1440-1553817600-1553903999@beats.stars.ne.jp
SUMMARY:【足立佳奈 LIVE TOUR 2019 - FUN FAIR - 】
DESCRIPTION:足立 佳奈
URL:https://beats.stars.ne.jp/schedule/%e3%80%90%e8%b6%b3%e7%ab%8b%e4%bd%b3%e5%a5%88-live-tour-2019-fun-fair-%e3%80%91
LOCATION:BEAT STATION\, 福岡市中央区渡辺通4-11-4\, 〒810-0004
END:VEVENT
BEGIN:VEVENT
DTSTART;VALUE=DATE:20190328
DTEND;VALUE=DATE:20190329
DTSTAMP:20260422T102516
CREATED:20190301T072735Z
LAST-MODIFIED:20190301T072735Z
UID:1448-1553731200-1553817599@beats.stars.ne.jp
SUMMARY:SHELTER CHILDREN pre. 10.8℃の世界線×Windmill ツーマンライブ 「夜明けの旅人-桜花譚-」
DESCRIPTION:(O.A.)アイコノクラズム\n10.8℃の世界線\nWindmill
URL:https://beats.stars.ne.jp/schedule/shelter-children-pre-10-8%e2%84%83%e3%81%ae%e4%b8%96%e7%95%8c%e7%b7%9axwindmill-%e3%83%84%e3%83%bc%e3%83%9e%e3%83%b3%e3%83%a9%e3%82%a4%e3%83%96-%e3%80%8c%e5%a4%9c%e6%98%8e%e3%81%91%e3%81%ae
END:VEVENT
BEGIN:VEVENT
DTSTART;VALUE=DATE:20190324
DTEND;VALUE=DATE:20190325
DTSTAMP:20260422T102516
CREATED:20190302T110555Z
LAST-MODIFIED:20190302T110555Z
UID:1462-1553385600-1553471999@beats.stars.ne.jp
SUMMARY:RENT THANKS!!
DESCRIPTION:
URL:https://beats.stars.ne.jp/schedule/rent-thanks-22
LOCATION:BEAT STATION\, 福岡市中央区渡辺通4-11-4\, 〒810-0004
END:VEVENT
BEGIN:VEVENT
DTSTART;VALUE=DATE:20190323
DTEND;VALUE=DATE:20190324
DTSTAMP:20260422T102516
CREATED:20190302T095711Z
LAST-MODIFIED:20190302T100951Z
UID:1457-1553299200-1553385599@beats.stars.ne.jp
SUMMARY:NUTS FUKUOKA
DESCRIPTION:Sweet William × Jinmenusagi\n WILYWNKA　　　　　　　　　　　　　　　　　　　　　　　　　　　　　　　　　　and more \n チケット一般発売 3/810:00〜
URL:https://beats.stars.ne.jp/schedule/nuts-fukuoka
LOCATION:BEAT STATION\, 福岡市中央区渡辺通4-11-4\, 〒810-0004
END:VEVENT
BEGIN:VEVENT
DTSTART;VALUE=DATE:20190322
DTEND;VALUE=DATE:20190323
DTSTAMP:20260422T102516
CREATED:20190115T080742Z
LAST-MODIFIED:20190116T074442Z
UID:1351-1553212800-1553299199@beats.stars.ne.jp
SUMMARY:『Underpass 2019』
DESCRIPTION:【出演】\n    SANABAGUN.\n    TENDRE\n    Front Act：Mega Shinnosuke \n【オフィシャル先行】\n 受付期間：2019年1月13日(日)18:00~2019年1月20日(日)23:59\n オフィシャル先行受付URL：https://l-tike.com/st1/bs0322 \n 【一般発売】2019年2月2日(土)10:00〜
URL:https://beats.stars.ne.jp/schedule/%e3%80%8eunderpass-2019%e3%80%8f
LOCATION:BEAT STATION\, 福岡市中央区渡辺通4-11-4\, 〒810-0004
END:VEVENT
BEGIN:VEVENT
DTSTART;VALUE=DATE:20190321
DTEND;VALUE=DATE:20190322
DTSTAMP:20260422T102516
CREATED:20190208T035525Z
LAST-MODIFIED:20190108T040728Z
UID:1330-1553126400-1553212799@beats.stars.ne.jp
SUMMARY:狼煙-TOO FAST TO LIVE TOO YOUNG TO DIE-
DESCRIPTION:A9 \nBugLug \n\n 【一般発売】\n 2019/2/9(土)10:00〜
URL:https://beats.stars.ne.jp/schedule/%e7%8b%bc%e7%85%99-too-fast-to-live-too-young-to-die
LOCATION:BEAT STATION\, 福岡市中央区渡辺通4-11-4\, 〒810-0004
END:VEVENT
BEGIN:VEVENT
DTSTART;VALUE=DATE:20190320
DTEND;VALUE=DATE:20190321
DTSTAMP:20260422T102516
CREATED:20190112T061850Z
LAST-MODIFIED:20190112T062232Z
UID:1343-1553040000-1553126399@beats.stars.ne.jp
SUMMARY:Amaryllis Bomb 2019 独立宣言
DESCRIPTION:Amaryllis Bomb
URL:https://beats.stars.ne.jp/schedule/amaryllis-bomb-2019-%e7%8b%ac%e7%ab%8b%e5%ae%a3%e8%a8%80
LOCATION:BEAT STATION\, 福岡市中央区渡辺通4-11-4\, 〒810-0004
END:VEVENT
BEGIN:VEVENT
DTSTART;VALUE=DATE:20190318
DTEND;VALUE=DATE:20190319
DTSTAMP:20260422T102516
CREATED:20190228T104734Z
LAST-MODIFIED:20190228T104734Z
UID:1438-1552867200-1552953599@beats.stars.ne.jp
SUMMARY:RENT THANKS!!
DESCRIPTION:
URL:https://beats.stars.ne.jp/schedule/rent-thanks-21
LOCATION:BEAT STATION\, 福岡市中央区渡辺通4-11-4\, 〒810-0004
END:VEVENT
BEGIN:VEVENT
DTSTART;VALUE=DATE:20190317
DTEND;VALUE=DATE:20190318
DTSTAMP:20260422T102516
CREATED:20190228T104414Z
LAST-MODIFIED:20190228T104414Z
UID:1436-1552780800-1552867199@beats.stars.ne.jp
SUMMARY:RENT THANKS!!
DESCRIPTION:
URL:https://beats.stars.ne.jp/schedule/rent-thanks-20
LOCATION:BEAT STATION\, 福岡市中央区渡辺通4-11-4\, 〒810-0004
END:VEVENT
BEGIN:VEVENT
DTSTART;VALUE=DATE:20190316
DTEND;VALUE=DATE:20190317
DTSTAMP:20260422T102516
CREATED:20190228T104235Z
LAST-MODIFIED:20190228T104235Z
UID:1434-1552694400-1552780799@beats.stars.ne.jp
SUMMARY:ABOUT MUSIC Presents  "THINGS WE SAY SPECIAL"
DESCRIPTION:[LIVE] \nSTUTS \nchelmico \nTENDOUJI  \n[DJ] SHOTA-LOW
URL:https://beats.stars.ne.jp/schedule/about-music-presents-things-we-say-special-2
END:VEVENT
BEGIN:VEVENT
DTSTART;VALUE=DATE:20190313
DTEND;VALUE=DATE:20190314
DTSTAMP:20260422T102516
CREATED:20190228T103936Z
LAST-MODIFIED:20190228T103936Z
UID:1432-1552435200-1552521599@beats.stars.ne.jp
SUMMARY:LIVE TOUR 2019 ～WE ARE DREAM MAKER～ いざ出陣！ドリメジャー開幕宣言！
DESCRIPTION:DREAM MAKER
URL:https://beats.stars.ne.jp/schedule/live-tour-2019-%ef%bd%9ewe-are-dream-maker%ef%bd%9e-%e3%81%84%e3%81%96%e5%87%ba%e9%99%a3%ef%bc%81%e3%83%89%e3%83%aa%e3%83%a1%e3%82%b8%e3%83%a3%e3%83%bc%e9%96%8b%e5%b9%95%e5%ae%a3%e8%a8%80%ef%bc%81
LOCATION:BEAT STATION\, 福岡市中央区渡辺通4-11-4\, 〒810-0004
END:VEVENT
BEGIN:VEVENT
DTSTART;VALUE=DATE:20190312
DTEND;VALUE=DATE:20190313
DTSTAMP:20260422T102516
CREATED:20190228T103546Z
LAST-MODIFIED:20190228T103546Z
UID:1430-1552348800-1552435199@beats.stars.ne.jp
SUMMARY:RENT THANKS!!
DESCRIPTION:
URL:https://beats.stars.ne.jp/schedule/rent-thanks-19
LOCATION:BEAT STATION\, 福岡市中央区渡辺通4-11-4\, 〒810-0004
END:VEVENT
BEGIN:VEVENT
DTSTART;VALUE=DATE:20190310
DTEND;VALUE=DATE:20190311
DTSTAMP:20260422T102516
CREATED:20190228T103501Z
LAST-MODIFIED:20190228T103501Z
UID:1428-1552176000-1552262399@beats.stars.ne.jp
SUMMARY:RENT THANKS!!
DESCRIPTION:
URL:https://beats.stars.ne.jp/schedule/rent-thanks-18
LOCATION:BEAT STATION\, 福岡市中央区渡辺通4-11-4\, 〒810-0004
END:VEVENT
BEGIN:VEVENT
DTSTART;VALUE=DATE:20190307
DTEND;VALUE=DATE:20190308
DTSTAMP:20260422T102516
CREATED:20190228T103322Z
LAST-MODIFIED:20190228T103322Z
UID:1426-1551916800-1552003199@beats.stars.ne.jp
SUMMARY:Awesome Talks -One Man Show 2019-
DESCRIPTION:Awesome City Club
URL:https://beats.stars.ne.jp/schedule/awesome-talks-one-man-show-2019
LOCATION:BEAT STATION\, 福岡市中央区渡辺通4-11-4\, 〒810-0004
END:VEVENT
BEGIN:VEVENT
DTSTART;VALUE=DATE:20190303
DTEND;VALUE=DATE:20190304
DTSTAMP:20260422T102516
CREATED:20181010T090103Z
LAST-MODIFIED:20181010T091157Z
UID:1142-1551571200-1551657599@beats.stars.ne.jp
SUMMARY:サイダーガール TOUR2019 サイダーのゆくえ -SPACESHIP IN MY CIDER-
DESCRIPTION:サイダーガール \n チケット一般発売 12/16 10:00〜
URL:https://beats.stars.ne.jp/schedule/%e3%82%b5%e3%82%a4%e3%83%80%e3%83%bc%e3%82%ac%e3%83%bc%e3%83%ab-tour2019-%e3%82%b5%e3%82%a4%e3%83%80%e3%83%bc%e3%81%ae%e3%82%86%e3%81%8f%e3%81%88-spaceship-in-my-cider
LOCATION:BEAT STATION\, 福岡市中央区渡辺通4-11-4\, 〒810-0004
END:VEVENT
BEGIN:VEVENT
DTSTART;VALUE=DATE:20190302
DTEND;VALUE=DATE:20190303
DTSTAMP:20260422T102516
CREATED:20190228T102849Z
LAST-MODIFIED:20190228T102849Z
UID:1424-1551484800-1551571199@beats.stars.ne.jp
SUMMARY:ABOUT MUSIC Presents "tofubeats ONEMAN LIVE in FUKUOKA 2019"
DESCRIPTION:[LIVE]\ntofubeats \n[Laser&Visual&Lighting]\nhuez \n[GOODS]\ntofubeats×ABOUT MUSIC×○○○○ (後日発表!!) \n\n[INFOMATION]\nABOUT MUSIC 092-982-8281 aboutmusic.jp
URL:https://beats.stars.ne.jp/schedule/about-music-presents-tofubeats-oneman-live-in-fukuoka-2019
LOCATION:BEAT STATION\, 福岡市中央区渡辺通4-11-4\, 〒810-0004
END:VEVENT
BEGIN:VEVENT
DTSTART;VALUE=DATE:20190228
DTEND;VALUE=DATE:20190301
DTSTAMP:20260422T102516
CREATED:20190227T114618Z
LAST-MODIFIED:20190227T114618Z
UID:1415-1551312000-1551398399@beats.stars.ne.jp
SUMMARY:山本彩 Tour 2019 “ I'm ready”
DESCRIPTION:山本 彩
URL:https://beats.stars.ne.jp/schedule/%e5%b1%b1%e6%9c%ac%e5%bd%a9-tour-2019-im-ready
END:VEVENT
BEGIN:VEVENT
DTSTART;VALUE=DATE:20190224
DTEND;VALUE=DATE:20190225
DTSTAMP:20260422T102516
CREATED:20181227T105208Z
LAST-MODIFIED:20190109T110929Z
UID:1260-1550966400-1551052799@beats.stars.ne.jp
SUMMARY:Juice=Juice LIVE TOUR 2019 〜GO FOR IT！〜
DESCRIPTION:Juice=Juice \nライブ+握手会付きの公演になります。 \n 会場の構造上、ファミリー席の設定はございません。 \n なお、女性専用エリアを設けます。 \n また構造上、車椅子やお体の不自由なお客様をご案内できる場所は、ステージが見えにくい、または一部見えない場合がございます。\n 予めご了承下さい。 \n アルコール類の持込、及び飲酒しての入場は固くお断り致します。 \n 極端に長い・輝度の強い・扇形や円形のサイリウムや誘導灯等、脚立やそれに類するものは、演出の妨げとなるばかりでなく、 まわりのお客様の視界の妨げとなりますので、持込・ご使用は固くお断り致します。
URL:https://beats.stars.ne.jp/schedule/juicejuice-live-2019-%e5%86%ac%e4%bb%ae%e3%82%bf%e3%82%a4%e3%83%88%e3%83%ab-2
LOCATION:BEAT STATION\, 福岡市中央区渡辺通4-11-4\, 〒810-0004
CATEGORIES:トップ画面に表示する
END:VEVENT
BEGIN:VEVENT
DTSTART;VALUE=DATE:20190224
DTEND;VALUE=DATE:20190225
DTSTAMP:20260422T102516
CREATED:20181227T104937Z
LAST-MODIFIED:20190109T110949Z
UID:1257-1550966400-1551052799@beats.stars.ne.jp
SUMMARY:Juice=Juice LIVE TOUR 2019 〜GO FOR IT！〜
DESCRIPTION:Juice=Juice \nライブ+握手会付きの公演になります。 \n 会場の構造上、ファミリー席の設定はございません。 \n なお、女性専用エリアを設けます。 \n また構造上、車椅子やお体の不自由なお客様をご案内できる場所は、ステージが見えにくい、または一部見えない場合がございます。\n 予めご了承下さい。 \n アルコール類の持込、及び飲酒しての入場は固くお断り致します。 \n 極端に長い・輝度の強い・扇形や円形のサイリウムや誘導灯等、脚立やそれに類するものは、演出の妨げとなるばかりでなく、 まわりのお客様の視界の妨げとなりますので、持込・ご使用は固くお断り致します。
URL:https://beats.stars.ne.jp/schedule/juicejuice-live-2019-%e5%86%ac%e4%bb%ae%e3%82%bf%e3%82%a4%e3%83%88%e3%83%ab
LOCATION:BEAT STATION\, 福岡市中央区渡辺通4-11-4\, 〒810-0004
CATEGORIES:トップ画面に表示する
END:VEVENT
END:VCALENDAR