BEGIN:VCALENDAR
VERSION:2.0
PRODID:-//福岡のライブハウス BEAT STATION - ECPv6.10.3//NONSGML v1.0//EN
CALSCALE:GREGORIAN
METHOD:PUBLISH
X-WR-CALNAME:福岡のライブハウス BEAT STATION
X-ORIGINAL-URL:https://beats.stars.ne.jp
X-WR-CALDESC:福岡のライブハウス BEAT STATION のイベント
REFRESH-INTERVAL;VALUE=DURATION:PT1H
X-Robots-Tag:noindex
X-PUBLISHED-TTL:PT1H
BEGIN:VTIMEZONE
TZID:Asia/Tokyo
BEGIN:STANDARD
TZOFFSETFROM:+0900
TZOFFSETTO:+0900
TZNAME:JST
DTSTART:20180101T000000
END:STANDARD
END:VTIMEZONE
BEGIN:VEVENT
DTSTART;VALUE=DATE:20180101
DTEND;VALUE=DATE:20180102
DTSTAMP:20260423T164006
CREATED:20180210T015512Z
LAST-MODIFIED:20180228T104609Z
UID:374-1514764800-1514851199@beats.stars.ne.jp
SUMMARY:ライブハウス・ハートビート閉店のお知らせ
DESCRIPTION:Live House HEART BEAT 閉店のお知らせ\n皆様に愛されて参りましたライブハウス・ハートビートは昨年2017年、30周年を迎えることができました。\n これもひとえに皆様のおかげだと心から感謝いたしております。 \nが、残念なご報告をしなくてはいけません。 \n「天神ビッグバン」なる天神地区再開発事業の一環としてハートビートが契約しているビルが取り壊し対象となりました。\n その事情を受けて、2017年12月31日の大晦日カウントダウン・ライブを最後に30年の歴史の幕を閉じることになりました。 \n30年間の皆様のご支援、誠にありがとうございました。\n 心よりお礼申し上げます。 \n(有)ハートビート\n ライブハウス・ハートビート\n スタッフ一同
URL:https://beats.stars.ne.jp/schedule/heartbeatclose
ATTACH;FMTTYPE=image/jpeg:https://beats.stars.ne.jp/wp-content/uploads/heitenn.jpg
END:VEVENT
END:VCALENDAR