BEGIN:VCALENDAR
VERSION:2.0
PRODID:-//福岡のライブハウス BEAT STATION - ECPv6.10.3//NONSGML v1.0//EN
CALSCALE:GREGORIAN
METHOD:PUBLISH
X-WR-CALNAME:福岡のライブハウス BEAT STATION
X-ORIGINAL-URL:https://beats.stars.ne.jp
X-WR-CALDESC:福岡のライブハウス BEAT STATION のイベント
REFRESH-INTERVAL;VALUE=DURATION:PT1H
X-Robots-Tag:noindex
X-PUBLISHED-TTL:PT1H
BEGIN:VTIMEZONE
TZID:Asia/Tokyo
BEGIN:STANDARD
TZOFFSETFROM:+0900
TZOFFSETTO:+0900
TZNAME:JST
DTSTART:20180101T000000
END:STANDARD
END:VTIMEZONE
BEGIN:VEVENT
DTSTART;VALUE=DATE:20181205
DTEND;VALUE=DATE:20181206
DTSTAMP:20260423T074109
CREATED:20181123T100706Z
LAST-MODIFIED:20181123T100706Z
UID:1215-1543968000-1544054399@beats.stars.ne.jp
SUMMARY:RENT THANKS!!
DESCRIPTION:
URL:https://beats.stars.ne.jp/schedule/rent-thanks-10
END:VEVENT
BEGIN:VEVENT
DTSTART;VALUE=DATE:20181202
DTEND;VALUE=DATE:20181203
DTSTAMP:20260423T074109
CREATED:20181004T092121Z
LAST-MODIFIED:20181201T123416Z
UID:1120-1543708800-1543795199@beats.stars.ne.jp
SUMMARY:公園延期
DESCRIPTION:12月2日(日)より予定しておりました”vistlip oneman tour 【New ERA STYLE】”のツアーに関して\nVo智の巨大肺嚢胞の手術を行い成功はしたのですが、術後経過観察中に肺気胸を発症いたしました。\n医師の判断を仰ぎ本人の体調を第一に考え、以下、3公演は延期とさせて頂きます。 \n12月2日(日)福岡BEAT STATION公演\n12月8日(土)金沢EIGHT HALL公演\n12月9日(日)大阪BIG CAT公演 \n以降の予定は智の回復具合を図り改めてご連絡させて頂きます。\nまた、振替公演の日程及び詳細につきましては決まり次第お知らせ致します。 \n楽しみにして頂いたおりました皆様には、大変ご迷惑をお掛け致しますことを\n深くお詫び申し上げます。 \n\n \n \nvistlip
URL:https://beats.stars.ne.jp/schedule/vistlip-oneman-tour-2018
LOCATION:BEAT STATION\, 福岡市中央区渡辺通4-11-4\, 〒810-0004
END:VEVENT
BEGIN:VEVENT
DTSTART;VALUE=DATE:20181201
DTEND;VALUE=DATE:20181202
DTSTAMP:20260423T074109
CREATED:20180807T092544Z
LAST-MODIFIED:20181123T101759Z
UID:971-1543622400-1543708799@beats.stars.ne.jp
SUMMARY:WINTER TOUR 2018
DESCRIPTION:PENICILLIN \n  \nチケット 一般発売　9/22
URL:https://beats.stars.ne.jp/schedule/winter-tour-2018
LOCATION:BEAT STATION\, 福岡市中央区渡辺通4-11-4\, 〒810-0004
CATEGORIES:トップ画面に表示する
END:VEVENT
BEGIN:VEVENT
DTSTART;VALUE=DATE:20181130
DTEND;VALUE=DATE:20181201
DTSTAMP:20260423T074109
CREATED:20181108T083952Z
LAST-MODIFIED:20181108T083952Z
UID:1179-1543536000-1543622399@beats.stars.ne.jp
SUMMARY:ABOUT MUSIC Presents "THINGS WE SAY SPECIAL"
DESCRIPTION: [LIVE] \ntofubeats (“RUN” RELEASE LIVE)\niri\nQiezi Mabo\nMONO SAFARI\nYelladigos  \n[DJ&VJ] \nPLAG \n  \nABOUT MUSICライブシリーズ「THINGS WE SAY」のスペシャルバージョンが、tofubeats “RUN” RELEASE LIVEとして福岡BEAT STATIONにて開催！\n出演はメジャー4thアルバム『RUN』を10/3にリリースした、今や日本を代表するトラックメーカー／プロデューサー”tofubeats”をはじめ、HIPHOP的なリリックとソウルフルな歌声でジャンルを問わず支持を集めるフィメールシンガーソングライター”iri”、HIPHOP界で異彩を放つ謎に包まれている覆面アーティスト／ラッパー”Qiezi Mabo”、福岡発新型アナログダンスミュージックユニット”MONO SAFARI”、爆発力あるライブが魅力の福岡HIPHOPの新星”Yelladigos”の豪華5組が決定！\nDJやVJにはKIETH FLACKにて毎月第4火曜日に開催中のDJパーティー”PLAG”メンバーが総出演し、パーティーに華を添えます。\n今年3月にtofubeats、STUTS、KONCOS、DENIMS、Attractions。10月にはchelmico、DENIMS、踊Foot Works、THREE1989らを迎えてどちらも大盛況で幕を閉じた「THINGS WE SAY SPECIAL」。\n今回の開催も盛り上がりは必至です！\nジャンルやシーンの壁を超え、このTHINGS WE SAY SPECIALしか体感できない豪華共演は必見です！どうぞお見逃しなく！！
URL:https://beats.stars.ne.jp/schedule/about-music-presents-things-we-say-special
LOCATION:BEAT STATION\, 福岡市中央区渡辺通4-11-4\, 〒810-0004
END:VEVENT
BEGIN:VEVENT
DTSTART;VALUE=DATE:20181124
DTEND;VALUE=DATE:20181125
DTSTAMP:20260423T074109
CREATED:20180713T060609Z
LAST-MODIFIED:20181004T093802Z
UID:889-1543017600-1543103999@beats.stars.ne.jp
SUMMARY:四星中学校ツアー「四星中学校運動会」
DESCRIPTION:四球星 \n  \n※体操服で来場された方にはハチマキをプレゼントします。 \nチケット一般発売 9/1 10:00
URL:https://beats.stars.ne.jp/schedule/%e5%9b%9b%e6%98%9f%e4%b8%ad%e5%ad%a6%e6%a0%a1%e3%83%84%e3%82%a2%e3%83%bc%e3%80%8c%e5%9b%9b%e6%98%9f%e4%b8%ad%e5%ad%a6%e6%a0%a1%e9%81%8b%e5%8b%95%e4%bc%9a%e3%80%8d
LOCATION:BEAT STATION\, 福岡市中央区渡辺通4-11-4\, 〒810-0004
CATEGORIES:トップ画面に表示する
END:VEVENT
BEGIN:VEVENT
DTSTART;VALUE=DATE:20181123
DTEND;VALUE=DATE:20181124
DTSTAMP:20260423T074109
CREATED:20180917T093057Z
LAST-MODIFIED:20180917T093330Z
UID:1070-1542931200-1543017599@beats.stars.ne.jp
SUMMARY:「CHAIいく！CHAIくる！トゥアートゥアートゥアー」
DESCRIPTION:CHAI \nチケット一般発売：10/6 午前10時～
URL:https://beats.stars.ne.jp/schedule/%e3%80%8cchai%e3%81%84%e3%81%8f%ef%bc%81chai%e3%81%8f%e3%82%8b%ef%bc%81%e3%83%88%e3%82%a5%e3%82%a2%e3%83%bc%e3%83%88%e3%82%a5%e3%82%a2%e3%83%bc%e3%83%88%e3%82%a5%e3%82%a2%e3%83%bc%e3%80%8d
LOCATION:BEAT STATION\, 福岡市中央区渡辺通4-11-4\, 〒810-0004
END:VEVENT
BEGIN:VEVENT
DTSTART;VALUE=DATE:20181122
DTEND;VALUE=DATE:20181123
DTSTAMP:20260423T074109
CREATED:20180530T103839Z
LAST-MODIFIED:20181004T093744Z
UID:771-1542844800-1542931199@beats.stars.ne.jp
SUMMARY:降谷建志1st LIVE TOUR 2018
DESCRIPTION:降谷建志 \n映画『虹色デイズ』エンディングテーマを含む降谷建志 W-A Side ソロ・シングル！\n「Playground/ワンダーラスト」\n2018.7.25 On Sale \n  \n 一般発売：9/1
URL:https://beats.stars.ne.jp/schedule/%e9%99%8d%e8%b0%b7%e5%bb%ba%e5%bf%971st-live-tour-2018
LOCATION:BEAT STATION\, 福岡市中央区渡辺通4-11-4\, 〒810-0004
CATEGORIES:トップ画面に表示する
END:VEVENT
BEGIN:VEVENT
DTSTART;VALUE=DATE:20181121
DTEND;VALUE=DATE:20181122
DTSTAMP:20260423T074109
CREATED:20180917T092609Z
LAST-MODIFIED:20180917T092609Z
UID:1068-1542758400-1542844799@beats.stars.ne.jp
SUMMARY:D.A.N. Tour 2018 "Sonatine"
DESCRIPTION:D.A.N.
URL:https://beats.stars.ne.jp/schedule/d-a-n-tour-2018-sonatine
LOCATION:BEAT STATION\, 福岡市中央区渡辺通4-11-4\, 〒810-0004
END:VEVENT
BEGIN:VEVENT
DTSTART;VALUE=DATE:20181118
DTEND;VALUE=DATE:20181119
DTSTAMP:20260423T074109
CREATED:20181004T090054Z
LAST-MODIFIED:20181004T090054Z
UID:1115-1542499200-1542585599@beats.stars.ne.jp
SUMMARY:RENT THANKS!!
DESCRIPTION:
URL:https://beats.stars.ne.jp/schedule/rent-thanks-9
LOCATION:BEAT STATION\, 福岡市中央区渡辺通4-11-4\, 〒810-0004
END:VEVENT
BEGIN:VEVENT
DTSTART;VALUE=DATE:20181117
DTEND;VALUE=DATE:20181118
DTSTAMP:20260423T074109
CREATED:20181030T140541Z
LAST-MODIFIED:20181122T105116Z
UID:1167-1542412800-1542499199@beats.stars.ne.jp
SUMMARY:We are not...Terror of Les Misérables 恐るるに足らず『噫無情』
DESCRIPTION: \n\n\nWe are not…Terror of Les Misérables\n\n\n 恐るるに足らず『噫無情』\n\n\n \n\n\n１１月17日（土）\n\n\n18:30 開場 19:00開演\n\n\n前2\,000 / 当2\,500円＋ドリンク代\n\n\n \n\n\n \n\n\n＜出演＞\n\n\nZiZi\n\n\nTRIBAL RED\n\n\nap10po(アップテンポ)\n\n\nLAST NITE
URL:https://beats.stars.ne.jp/schedule/we-are-not-terror-of-les-miserables-%e6%81%90%e3%82%8b%e3%82%8b%e3%81%ab%e8%b6%b3%e3%82%89%e3%81%9a%e3%80%8e%e5%99%ab%e7%84%a1%e6%83%85%e3%80%8f
END:VEVENT
BEGIN:VEVENT
DTSTART;VALUE=DATE:20181116
DTEND;VALUE=DATE:20181117
DTSTAMP:20260423T074109
CREATED:20181004T085605Z
LAST-MODIFIED:20181004T085605Z
UID:1113-1542326400-1542412799@beats.stars.ne.jp
SUMMARY:yonige pre 君のおへその形を忘れたツアー
DESCRIPTION:yonige
URL:https://beats.stars.ne.jp/schedule/yonige-pre-%e5%90%9b%e3%81%ae%e3%81%8a%e3%81%b8%e3%81%9d%e3%81%ae%e5%bd%a2%e3%82%92%e5%bf%98%e3%82%8c%e3%81%9f%e3%83%84%e3%82%a2%e3%83%bc
LOCATION:BEAT STATION\, 福岡市中央区渡辺通4-11-4\, 〒810-0004
END:VEVENT
BEGIN:VEVENT
DTSTART;VALUE=DATE:20181115
DTEND;VALUE=DATE:20181116
DTSTAMP:20260423T074109
CREATED:20181004T085139Z
LAST-MODIFIED:20181004T085139Z
UID:1111-1542240000-1542326399@beats.stars.ne.jp
SUMMARY:GRAPEVINE club circuit 2018
DESCRIPTION:GRAPEVINE
URL:https://beats.stars.ne.jp/schedule/grapevine-club-circuit-2018
LOCATION:BEAT STATION\, 福岡市中央区渡辺通4-11-4\, 〒810-0004
END:VEVENT
BEGIN:VEVENT
DTSTART;VALUE=DATE:20181113
DTEND;VALUE=DATE:20181114
DTSTAMP:20260423T074109
CREATED:20181004T084618Z
LAST-MODIFIED:20181004T084618Z
UID:1109-1542067200-1542153599@beats.stars.ne.jp
SUMMARY:concert2018
DESCRIPTION: CHAGE&ASKA 完全コピーバンド
URL:https://beats.stars.ne.jp/schedule/concert2018
LOCATION:BEAT STATION\, 福岡市中央区渡辺通4-11-4\, 〒810-0004
END:VEVENT
BEGIN:VEVENT
DTSTART;VALUE=DATE:20181112
DTEND;VALUE=DATE:20181113
DTSTAMP:20260423T074109
CREATED:20180917T091829Z
LAST-MODIFIED:20180917T092127Z
UID:1065-1541980800-1542067199@beats.stars.ne.jp
SUMMARY:Saucy Dog 【ワンダフルツアー 2018】
DESCRIPTION:Saucy Dog
URL:https://beats.stars.ne.jp/schedule/saucy-dog-%e3%80%90%e3%83%af%e3%83%b3%e3%83%80%e3%83%95%e3%83%ab%e3%83%84%e3%82%a2%e3%83%bc-2018%e3%80%91
LOCATION:BEAT STATION\, 福岡市中央区渡辺通4-11-4\, 〒810-0004
END:VEVENT
BEGIN:VEVENT
DTSTART;VALUE=DATE:20181111
DTEND;VALUE=DATE:20181112
DTSTAMP:20260423T074109
CREATED:20180704T080522Z
LAST-MODIFIED:20181122T105122Z
UID:873-1541894400-1541980799@beats.stars.ne.jp
SUMMARY:〜コン・バーチ！Release Tour〜 シチュエーション・コメディ season3
DESCRIPTION:フレンズ \n  \n\n 一般発売 8/19 10:00〜
URL:https://beats.stars.ne.jp/schedule/%e3%80%9c%e3%82%b3%e3%83%b3%e3%83%bb%e3%83%90%e3%83%bc%e3%83%81%ef%bc%81release-tour%e3%80%9c-%e3%82%b7%e3%83%81%e3%83%a5%e3%82%a8%e3%83%bc%e3%82%b7%e3%83%a7%e3%83%b3%e3%83%bb%e3%82%b3%e3%83%a1
LOCATION:BEAT STATION\, 福岡市中央区渡辺通4-11-4\, 〒810-0004
END:VEVENT
BEGIN:VEVENT
DTSTART;VALUE=DATE:20181110
DTEND;VALUE=DATE:20181111
DTSTAMP:20260423T074109
CREATED:20181004T083343Z
LAST-MODIFIED:20181004T083343Z
UID:1105-1541808000-1541894399@beats.stars.ne.jp
SUMMARY:九星隊初のワンマンライブ「九星隊 初陣乱舞」
DESCRIPTION:九星隊 (ナインスターズ) \n 
URL:https://beats.stars.ne.jp/schedule/%e4%b9%9d%e6%98%9f%e9%9a%8a%e5%88%9d%e3%81%ae%e3%83%af%e3%83%b3%e3%83%9e%e3%83%b3%e3%83%a9%e3%82%a4%e3%83%96%e3%80%8c%e4%b9%9d%e6%98%9f%e9%9a%8a-%e5%88%9d%e9%99%a3%e4%b9%b1%e8%88%9e%e3%80%8d
LOCATION:BEAT STATION\, 福岡市中央区渡辺通4-11-4\, 〒810-0004
END:VEVENT
BEGIN:VEVENT
DTSTART;VALUE=DATE:20181109
DTEND;VALUE=DATE:20181110
DTSTAMP:20260423T074109
CREATED:20181004T082534Z
LAST-MODIFIED:20181005T120155Z
UID:1103-1541721600-1541807999@beats.stars.ne.jp
SUMMARY:A to Z TOUR 2018
DESCRIPTION:AKLO
URL:https://beats.stars.ne.jp/schedule/a-to-z-tour-2018
LOCATION:BEAT STATION\, 福岡市中央区渡辺通4-11-4\, 〒810-0004
END:VEVENT
BEGIN:VEVENT
DTSTART;VALUE=DATE:20181107
DTEND;VALUE=DATE:20181108
DTSTAMP:20260423T074109
CREATED:20181029T134113Z
LAST-MODIFIED:20181122T105130Z
UID:1163-1541548800-1541635199@beats.stars.ne.jp
SUMMARY:Raindrops Keep Fallin' On My Head〜明日に向かって雨に唄えば〜
DESCRIPTION:Raindrops Keep Fallin’ On My Head〜明日に向かって雨に唄えば〜 \n＜出演＞\n GALAXY\n 大島正太\n rover time steal\n Yellow Hearted of Japan(大阪)\n 前：2\,000円、当2\,500円＋１ドリンク\n18:00：開場 \n18:30：開演
URL:https://beats.stars.ne.jp/schedule/raindrops-keep-fallin-on-my-head%e3%80%9c%e6%98%8e%e6%97%a5%e3%81%ab%e5%90%91%e3%81%8b%e3%81%a3%e3%81%a6%e9%9b%a8%e3%81%ab%e5%94%84%e3%81%88%e3%81%b0%e3%80%9c
END:VEVENT
BEGIN:VEVENT
DTSTART;VALUE=DATE:20181104
DTEND;VALUE=DATE:20181105
DTSTAMP:20260423T074109
CREATED:20180904T084341Z
LAST-MODIFIED:20181122T105136Z
UID:1052-1541289600-1541375999@beats.stars.ne.jp
SUMMARY:COJIRASE THE TRIP 全国6都市ツアー「Reboot」
DESCRIPTION:COJIRASE THE TRIP
URL:https://beats.stars.ne.jp/schedule/cojirase-the-trip-%e5%85%a8%e5%9b%bd6%e9%83%bd%e5%b8%82%e3%83%84%e3%82%a2%e3%83%bc%e3%80%8creboot%e3%80%8d
LOCATION:BEAT STATION\, 福岡市中央区渡辺通4-11-4\, 〒810-0004
END:VEVENT
BEGIN:VEVENT
DTSTART;VALUE=DATE:20181104
DTEND;VALUE=DATE:20181105
DTSTAMP:20260423T074109
CREATED:20180819T061012Z
LAST-MODIFIED:20181122T105141Z
UID:993-1541289600-1541375999@beats.stars.ne.jp
SUMMARY:Q'ulle 我武者羅ツアー「Q'ulleがQ'ulleであるために...」
DESCRIPTION:Q’ulle \n一般発売 9/6 15:00〜
URL:https://beats.stars.ne.jp/schedule/qulle-%e6%88%91%e6%ad%a6%e8%80%85%e7%be%85%e3%83%84%e3%82%a2%e3%83%bc%e3%80%8cqulle%e3%81%8cqulle%e3%81%a7%e3%81%82%e3%82%8b%e3%81%9f%e3%82%81%e3%81%ab-%e3%80%8d
LOCATION:BEAT STATION\, 福岡市中央区渡辺通4-11-4\, 〒810-0004
END:VEVENT
BEGIN:VEVENT
DTSTART;VALUE=DATE:20181101
DTEND;VALUE=DATE:20181102
DTSTAMP:20260423T074109
CREATED:20180919T110017Z
LAST-MODIFIED:20181122T105146Z
UID:1073-1541030400-1541116799@beats.stars.ne.jp
SUMMARY:mabanua tour 2018 "Blurred"
DESCRIPTION:mabanua
URL:https://beats.stars.ne.jp/schedule/mabanua-tour-2018-blurred
LOCATION:BEAT STATION\, 福岡市中央区渡辺通4-11-4\, 〒810-0004
END:VEVENT
BEGIN:VEVENT
DTSTART;VALUE=DATE:20181029
DTEND;VALUE=DATE:20181030
DTSTAMP:20260423T074109
CREATED:20181004T081340Z
LAST-MODIFIED:20181004T081340Z
UID:1101-1540771200-1540857599@beats.stars.ne.jp
SUMMARY:「MYNAME LIVE TOUR 2018 ～KISEKI～」
DESCRIPTION:MY NAME
URL:https://beats.stars.ne.jp/schedule/%e3%80%8cmyname-live-tour-2018-%ef%bd%9ekiseki%ef%bd%9e%e3%80%8d
LOCATION:BEAT STATION\, 福岡市中央区渡辺通4-11-4\, 〒810-0004
END:VEVENT
BEGIN:VEVENT
DTSTART;VALUE=DATE:20181028
DTEND;VALUE=DATE:20181029
DTSTAMP:20260423T074109
CREATED:20180707T115639Z
LAST-MODIFIED:20181122T105050Z
UID:881-1540684800-1540771199@beats.stars.ne.jp
SUMMARY:奇妙礼太郎ツアー 2018(仮)
DESCRIPTION:奇妙礼太郎 \n  \n\n チケット一般発売 9/1 10:00
URL:https://beats.stars.ne.jp/schedule/%e5%a5%87%e5%a6%99%e7%a4%bc%e5%a4%aa%e9%83%8e%e3%83%84%e3%82%a2%e3%83%bc-2018%e4%bb%ae
LOCATION:BEAT STATION\, 福岡市中央区渡辺通4-11-4\, 〒810-0004
END:VEVENT
BEGIN:VEVENT
DTSTART;VALUE=DATE:20181027
DTEND;VALUE=DATE:20181028
DTSTAMP:20260423T074109
CREATED:20180716T070035Z
LAST-MODIFIED:20181122T105152Z
UID:902-1540598400-1540684799@beats.stars.ne.jp
SUMMARY:MOROHA BEST 〜十年再録〜 FINAL SERIES　×　般若 ｢話半分｣リリースツアー〜武道館への道〜
DESCRIPTION:MOROHA \n \n般若
URL:https://beats.stars.ne.jp/schedule/moroha-best-%e3%80%9c%e5%8d%81%e5%b9%b4%e5%86%8d%e9%8c%b2%e3%80%9c-final-series%e3%80%80x%e3%80%80%e8%88%ac%e8%8b%a5-%ef%bd%a2%e8%a9%b1%e5%8d%8a%e5%88%86%ef%bd%a3%e3%83%aa%e3%83%aa%e3%83%bc
LOCATION:BEAT STATION\, 福岡市中央区渡辺通4-11-4\, 〒810-0004
END:VEVENT
BEGIN:VEVENT
DTSTART;VALUE=DATE:20181026
DTEND;VALUE=DATE:20181027
DTSTAMP:20260423T074109
CREATED:20180715T124454Z
LAST-MODIFIED:20180715T124454Z
UID:943-1540512000-1540598399@beats.stars.ne.jp
SUMMARY:Saucy Dog ワンダフルツアー 2018
DESCRIPTION:THANK YOU SOLD OUT \n  \nSaucy Dog \nGUEST \n東京カランコロン
URL:https://beats.stars.ne.jp/schedule/saucy-dog-%e3%83%af%e3%83%b3%e3%83%80%e3%83%95%e3%83%ab%e3%83%84%e3%82%a2%e3%83%bc-2018
LOCATION:BEAT STATION\, 福岡市中央区渡辺通4-11-4\, 〒810-0004
END:VEVENT
BEGIN:VEVENT
DTSTART;VALUE=DATE:20181021
DTEND;VALUE=DATE:20181022
DTSTAMP:20260423T074109
CREATED:20181005T104139Z
LAST-MODIFIED:20181122T105204Z
UID:1129-1540080000-1540166399@beats.stars.ne.jp
SUMMARY:Private Live & Session with Party Time!＜フレサミ！＞FRIENDLY SUMMIT
DESCRIPTION:フレサミ（フレンドリー・サミット、セッション・ライブ）、\n みんなで音出そうぜ！ピンでも、バンドでも、ユニットでも、その場で作れいきなりステージ。\n 誰でも参加出来ます、セッションライブ・イベント。 \n 当日の詳細。\n １０月２１日（日）\n 福岡ビートステーション、コミュニケーション・ラウンジ・フロア。（メインステージではなく、サブフロアで開催。）\n ＊開場１７：００、開演１７：３０を予定。\n ＊１４：００ぐらいから１７：００あたり内でセッション参加チームの打ち合わせのための時間を取っています。 \n\n＊バンド参加、弾き語り、なんでもござれデス。\n ＊基本的にはセッション曲を主催側では事前には決めておりません、集まってあれこれ言いながらの決定や、いきなりやろうを原則です。 \n＊自前バンドで参加される方や、あらかじめ、ご一緒されるメンツを募っての臨時結成は大歓迎です。その場合は自己集めでお願いします。 \n＊臨時メンバー募集かけるのも構いません。その場合はこのここのメッセ欄をしようされて大丈夫です、\n 以下のように記載すると良いかもです。\n ＜曲名：やりたし！メンツ募集＞\n 当方は〇〇希望なので、〇〇パートさんを募集します。 \n＜詳細＞\n １０月２１日（日）\n 福岡ビートステーション、コミュニケーション・ラウンジ・フロア。\n ＊開場１７：００、開演１７：３０を予定。\n ＊１４：００ぐらいから１７：００あたり内でセッション参加チームの打ち合わせのための時間を取っています。 \n一律入場料1\,500￥＋ドリンク代500円。 \n 演奏者は上記料金に機材使用料として500円を加算。 \n＊動ける人は１４：００ぐらいに出てきてメンバーと演奏の打ち合わせや軽く音合わせしておいたほうが良いかと。 \n＊ここで新しくセッションバンドが作成されたりもしてます。 \n＊いきなりステージが基本ですから、いつものような綿密なリハーサルはいたしません。 \n＊１４時〜１７時の、この時間はセッションや初めて組んでみましたチームの打ち合わせが優先です。いつものフルメンバーでのバンド参加組は事前に打ち合わせできるはずですから、空き時間ができたら音合わせできますが、基本的には後回しです。笑 \n＊原則として一回のステージは演奏数１〜３曲程度、持ち時間は１５〜２０分以内で進めていきましょう。間があれば同じメンバー、同じバンドで２回３回とステージに上がって構いません。 \n＊機材は自前を持って来られる方もいるでしょうが、なるべくあるもので使える分は使い回ししてくれると助かります。自前機材で用意に手間かかる分は開場前に準備しておいて頂けますようお願いします。 \n＊いきなりステージ！もウリですから、エレキとベース、アコギを１本ずつ自由に使えるものを用意しておきますが、みんなで使いますので極端ないじり方とかは遠慮してくださいね。ドラムも準備します。笑\n なので、出るたんびにやり変え大変なのでドラムセットのチューニングとかもよほど緩んでるとかじゃなければ出来るだけそのままでよろしくです。 \n＊出番はメンバーの集まれる時間帯や集まり具合、出し物内容等を検討して当日決めます。 \n＊あとは質問としてご連絡いただければ返答いたします。
URL:https://beats.stars.ne.jp/schedule/private-live-session-with-party-time%ef%bc%9c%e3%83%95%e3%83%ac%e3%82%b5%e3%83%9f%ef%bc%81%ef%bc%9efriendly-summit
LOCATION:BEAT STATION\, 福岡市中央区渡辺通4-11-4\, 〒810-0004
END:VEVENT
BEGIN:VEVENT
DTSTART;VALUE=DATE:20181021
DTEND;VALUE=DATE:20181022
DTSTAMP:20260423T074109
CREATED:20181018T134707Z
LAST-MODIFIED:20181122T105158Z
UID:1154-1540080000-1540166399@beats.stars.ne.jp
SUMMARY:フレサミ（フレンドリー・サミット、セッション・ライブ
DESCRIPTION:フレサミ（フレンドリー・サミット、セッション・ライブ）、\n当日の詳細を。\n１０月２１日（日）\n福岡ビートステーション。\n＊開場１７：００、開演１７：３０を予定。\n＊１４：００ぐらいから１７：００あたり内でセッション参加チームの打ち合わせのための時間を取っています。 \n＊バンド参加、弾き語り、なんでもござれデス。\n＊基本的にはセッション曲を主催側では事前には決めておりません、集まってあれこれ言いながらの決定や、いきなりやろうが原則です。 \n＊自前バンドで参加される方や、あらかじめ、ご一緒されるメンツを募っての臨時結成は大歓迎です。その場合は自己集めでお願いします。 \n＊臨時メンバー募集かけるのも構いません。その場合はこのここのメッセ欄をしようされて大丈夫です、\n以下のように記載すると良いかもです。\n＜曲名：やりたし！メンツ募集＞\n当方は〇〇希望なので、〇〇パートさんを募集します。 \n＜詳細＞\n１０月２１日（日）\n福岡ビートステーション、コミュニケーション・ラウンジ・フロア。\n＊開場１７：００、開演１７：３０を予定。\n＊１４：００ぐらいから１７：００あたり内でセッション参加チームの打ち合わせのための時間を取っています。 \n一律入場料1\,500￥＋ドリンク代500円。\nお客さんは総額2000円(通常料金ですね。)\n演奏者は上記料金に機材使用料500円が加算。計2500円 \n＊動ける人は１４：００ぐらいに出てきてメンバーと演奏の打ち合わせや軽く音合わせしておいたほうが良いかと。 \n＊ここで新しくセッションバンドが作成されたりもしてます。 \n＊基本的いつものブッキングのようなリハーサルはしませんので悪しからず。いきなりステージが基本です。 \n＊この時間はセッションや初めて組んでみましたチームの打ち合わせが優先です。いつものフルメンバーでのバンド参加組は事前に打ち合わせできるはずですから、空き時間ができたら音合わせできますが、基本的には後回しです。笑 \n＊原則として一回のステージは演奏数１〜３曲程度、持ち時間は１５〜２０分以内で進めていきましょう。間があれば同じメンバー、同じバンドで２回３回とステージに上がって構いません。 \n＊機材は自前を持って来られる方もいるでしょうが、なるべくあるもので使える分は使い回ししてくれると助かります。自前機材で用意に手間かかる分は開場前に準備しておいて頂けますようお願いします。 \n＊いきなりステージ！もウリですから、エレキとベース、アコギを１本ずつ自由に使えるように用意しておきます。みんなで使いますので極端ないじり方とかは遠慮してくださいね。ドラムも準備します。笑\nなので、出るたんびにやり変え大変なのでドラムセットのチューニングとかもよほど緩んでるとかじゃなければ出来るだけそのままでよろしくです。 \n＊出番はメンバーの集まれる時間帯や集まり具合、出し物内容等を検討して当日決めます。 \n＊あとは質問としてご連絡いただければ返答いたします。
URL:https://beats.stars.ne.jp/schedule/%e3%83%95%e3%83%ac%e3%82%b5%e3%83%9f%ef%bc%88%e3%83%95%e3%83%ac%e3%83%b3%e3%83%89%e3%83%aa%e3%83%bc%e3%83%bb%e3%82%b5%e3%83%9f%e3%83%83%e3%83%88%e3%80%81%e3%82%bb%e3%83%83%e3%82%b7%e3%83%a7%e3%83%b3
LOCATION:BEAT STATION\, 福岡市中央区渡辺通4-11-4\, 〒810-0004
END:VEVENT
BEGIN:VEVENT
DTSTART;VALUE=DATE:20181020
DTEND;VALUE=DATE:20181021
DTSTAMP:20260423T074109
CREATED:20181004T080921Z
LAST-MODIFIED:20181004T080921Z
UID:1099-1539993600-1540079999@beats.stars.ne.jp
SUMMARY:M@ru PRESENTS CROSS ROCKS Vol.28
DESCRIPTION:キャスト \n・Mr. Ohmaru Maker\n・NOCTURMAL BLOODLUST\n・WHITEZNAKE\n・81°\n・Law of Reflection\n・合成樹脂
URL:https://beats.stars.ne.jp/schedule/mru-presents-cross-rocks-vol-28
LOCATION:BEAT STATION\, 福岡市中央区渡辺通4-11-4\, 〒810-0004
END:VEVENT
BEGIN:VEVENT
DTSTART;VALUE=DATE:20181019
DTEND;VALUE=DATE:20181020
DTSTAMP:20260423T074109
CREATED:20180715T123314Z
LAST-MODIFIED:20181122T105209Z
UID:940-1539907200-1539993599@beats.stars.ne.jp
SUMMARY:JMS presents BODY and SOUL TOUR
DESCRIPTION:COUNTRY YARD \n \nCRYSTAL LAKE\n \nNAMBA69\n \nNOISE MAKER\n \nNorthern19\n \nSHADOWS\n \n\n※危険行為・迷惑行為の禁止\n※未就学児(6歳未満)のご入場をお断りさせていただきます。\n※枚数制限：先行期間中2枚、一般発売日以降4枚。 \n一般発売：8/3 午前10時～
URL:https://beats.stars.ne.jp/schedule/jms-presents-body-and-soul-tour
LOCATION:BEAT STATION\, 福岡市中央区渡辺通4-11-4\, 〒810-0004
END:VEVENT
BEGIN:VEVENT
DTSTART;VALUE=DATE:20181018
DTEND;VALUE=DATE:20181019
DTSTAMP:20260423T074109
CREATED:20180916T102317Z
LAST-MODIFIED:20180916T102317Z
UID:1063-1539820800-1539907199@beats.stars.ne.jp
SUMMARY:Move Ahead Tour 2018
DESCRIPTION:Fear\,and Loathing in LasVegas
URL:https://beats.stars.ne.jp/schedule/move-ahead-tour-2018
LOCATION:BEAT STATION\, 福岡市中央区渡辺通4-11-4\, 〒810-0004
END:VEVENT
END:VCALENDAR