BEGIN:VCALENDAR
VERSION:2.0
PRODID:-//福岡のライブハウス BEAT STATION - ECPv6.10.3//NONSGML v1.0//EN
CALSCALE:GREGORIAN
METHOD:PUBLISH
X-WR-CALNAME:福岡のライブハウス BEAT STATION
X-ORIGINAL-URL:https://beats.stars.ne.jp
X-WR-CALDESC:福岡のライブハウス BEAT STATION のイベント
REFRESH-INTERVAL;VALUE=DURATION:PT1H
X-Robots-Tag:noindex
X-PUBLISHED-TTL:PT1H
BEGIN:VTIMEZONE
TZID:Asia/Tokyo
BEGIN:STANDARD
TZOFFSETFROM:+0900
TZOFFSETTO:+0900
TZNAME:JST
DTSTART:20180101T000000
END:STANDARD
END:VTIMEZONE
BEGIN:VEVENT
DTSTART;VALUE=DATE:20181005
DTEND;VALUE=DATE:20181006
DTSTAMP:20260423T065025
CREATED:20180715T120433Z
LAST-MODIFIED:20180715T120628Z
UID:935-1538697600-1538783999@beats.stars.ne.jp
SUMMARY:グッドラックヘイワの10\,000ルーメン☆ツアー〜其の２〜
DESCRIPTION:グッドラックヘイワ  \nゲストミュージシャン\n 曽我大穂(flute\,pan)(cinema dub monks/仕立て屋のサーカス) \n映像\n山口崇司 \nリリースツアー「NICE TO SEE YOU AGAIN!」は全16公演中15公演がソールドアウト。現在もそのツアー中のグッドラックヘイワが次のワンマンツアーを発表。昨年、映像作家・アーティスト山口崇司とのコラボレーションで好評を得た映像ツアーの第2弾。ゲストプレイヤーにフルート・スティールパン奏者の曽我大(cinema dub monks/仕立て屋のサーカス)も参加する。1万ルーメンの高輝度プロジェクターと大画面スクリーンで演出するLIVE+VJの全6公演をお見逃しなく。\n  \n オフィシャル先行\n https://www.funity.jp/gticket/\n 受付期間：7/1(日)10:00～7/10(火)23:59\n ※先行・一般発売共にオフィシャルチケット「Gチケット」にて販売を行います。\n お申込みには「Gチケット会員」への会員登録（無料）が必要となります。\n 他詳細は上記リンクからご確認ください。\n ※Gチケットは先行手数料なし、発券・システム利用料のみ \n一般発売：8/04(土) \n  \n25歳以下1\,000円キャッシュバック(公演当日受付時要身分証提示) \n 保護者同伴につき小学生まで入場無料(同伴人数の制限はございません。\n 他のお客様のご迷惑にならない範囲でお願いします ) \n 
URL:https://beats.stars.ne.jp/schedule/%e3%82%b0%e3%83%83%e3%83%89%e3%83%a9%e3%83%83%e3%82%af%e3%83%98%e3%82%a4%e3%83%af%e3%81%ae10000%e3%83%ab%e3%83%bc%e3%83%a1%e3%83%b3%e2%98%86%e3%83%84%e3%82%a2%e3%83%bc%e3%80%9c%e5%85%b6%e3%81%ae
LOCATION:BEAT STATION\, 福岡市中央区渡辺通4-11-4\, 〒810-0004
END:VEVENT
BEGIN:VEVENT
DTSTART;VALUE=DATE:20180930
DTEND;VALUE=DATE:20181001
DTSTAMP:20260423T065025
CREATED:20180819T064426Z
LAST-MODIFIED:20180819T064426Z
UID:1004-1538265600-1538351999@beats.stars.ne.jp
SUMMARY:RENT THANKS!!
DESCRIPTION:
URL:https://beats.stars.ne.jp/schedule/rent-thanks-8
LOCATION:BEAT STATION\, 福岡市中央区渡辺通4-11-4\, 〒810-0004
END:VEVENT
BEGIN:VEVENT
DTSTART;VALUE=DATE:20180929
DTEND;VALUE=DATE:20180930
DTSTAMP:20260423T065025
CREATED:20180819T064208Z
LAST-MODIFIED:20180819T064208Z
UID:1002-1538179200-1538265599@beats.stars.ne.jp
SUMMARY:2018 NEVA GIVE UP Live Tour ～Road To Dream Step 1～ in 福岡
DESCRIPTION:NEVA GIVE UP
URL:https://beats.stars.ne.jp/schedule/2018-neva-give-up-live-tour-%ef%bd%9eroad-to-dream-step-1%ef%bd%9e-in-%e7%a6%8f%e5%b2%a1
LOCATION:BEAT STATION\, 福岡市中央区渡辺通4-11-4\, 〒810-0004
END:VEVENT
BEGIN:VEVENT
DTSTART;VALUE=DATE:20180928
DTEND;VALUE=DATE:20180929
DTSTAMP:20260423T065025
CREATED:20180607T121955Z
LAST-MODIFIED:20181122T105252Z
UID:797-1538092800-1538179199@beats.stars.ne.jp
SUMMARY:神聖かまってちゃん10周年っ！「33才の夏休みツアー」
DESCRIPTION:神聖かまってちゃん \n  \n一般発売 7/14 10:00〜
URL:https://beats.stars.ne.jp/schedule/%e7%a5%9e%e8%81%96%e3%81%8b%e3%81%be%e3%81%a3%e3%81%a6%e3%81%a1%e3%82%83%e3%82%9310%e5%91%a8%e5%b9%b4%e3%81%a3%ef%bc%81%e3%80%8c33%e6%89%8d%e3%81%ae%e5%a4%8f%e4%bc%91%e3%81%bf%e3%83%84%e3%82%a2
LOCATION:BEAT STATION\, 福岡市中央区渡辺通4-11-4\, 〒810-0004
END:VEVENT
BEGIN:VEVENT
DTSTART;VALUE=DATE:20180927
DTEND;VALUE=DATE:20180928
DTSTAMP:20260423T065025
CREATED:20180904T083526Z
LAST-MODIFIED:20180904T083526Z
UID:1049-1538006400-1538092799@beats.stars.ne.jp
SUMMARY:SHELTER CHILDREN × MAGIA presents PARADIGM SHIFT -青の章-
DESCRIPTION:10.8℃の世界線 \nノンフィクション \nぼんど餅 フン太朗(埼玉) \n 
URL:https://beats.stars.ne.jp/schedule/shelter-children-x-magia-presents-paradigm-shift-%e9%9d%92%e3%81%ae%e7%ab%a0
LOCATION:BEAT STATION\, 福岡市中央区渡辺通4-11-4\, 〒810-0004
END:VEVENT
BEGIN:VEVENT
DTSTART;VALUE=DATE:20180925
DTEND;VALUE=DATE:20180926
DTSTAMP:20260423T065025
CREATED:20180923T052205Z
LAST-MODIFIED:20180923T052205Z
UID:1076-1537833600-1537919999@beats.stars.ne.jp
SUMMARY:メロフロート ON THE ROAD2 リリースツアー
DESCRIPTION:メロフロート
URL:https://beats.stars.ne.jp/schedule/%e3%83%a1%e3%83%ad%e3%83%95%e3%83%ad%e3%83%bc%e3%83%88-on-the-road2-%e3%83%aa%e3%83%aa%e3%83%bc%e3%82%b9%e3%83%84%e3%82%a2%e3%83%bc
LOCATION:BEAT STATION\, 福岡市中央区渡辺通4-11-4\, 〒810-0004
END:VEVENT
BEGIN:VEVENT
DTSTART;VALUE=DATE:20180924
DTEND;VALUE=DATE:20180925
DTSTAMP:20260423T065025
CREATED:20180218T073624Z
LAST-MODIFIED:20180810T090144Z
UID:457-1537747200-1537833599@beats.stars.ne.jp
SUMMARY:鋼鉄のロック魂！９-ROCK SPIRIT of STEEL 9- There's Only One Way To Rock
DESCRIPTION:ブライアン・アダムス、ニール・ヤング、カート・コバーンが…..\n アコギ1本でステージに立ったからといって…..\n ロックじゃないって誰が言う？\n エルトン・ジョンやビリー・ジョエルがピアノ1台でステージに立ったからといって….\n ピアノ発表会だと誰が言う？\n ジャーニーやTOTO、エアロスミスがバラード歌ったって……\n どう聞いても子守唄には聞こえない。\n デヴィッド・ギルモアやキッスがアンプラグドでアコースティック・ライブやったって…..\n どう贔屓目に見てもいつものロック・コンサートにしか思えない。\n ですよ、弾き語りアコースティック・スタイルでもシーケンサーでのワンマンでもバンドでもアカペラでも、自分が好きなものは好きと言い切れる、寄り道や休憩はしても好きだから絶対曲げない、\n ずっと続けて来た…好きな音楽への思い入れと思い込み、続けて来た事が、続けていける事がロック！\n それが鋼鉄(ハガネ)のロック魂！　\n そんな気持ちを持った方達と楽しみたいイベントです。 \n ROCK SPIRIT of STEEL – THERE’S ONLY ONE WAY TO ROCK – 鋼鉄のロック魂！９  \n16:30 / 17:00\n2000 / 2500 +D \n＜２４確定＞\nSlapstick Cafe\nCROSS\nＷＲＥＣＫＯＮ\n黒十字舎(久留米)\nいち(東京)\naicora(佐賀)
URL:https://beats.stars.ne.jp/schedule/%e9%8b%bc%e9%89%84%e3%81%ae%e3%83%ad%e3%83%83%e3%82%af%e9%ad%82%ef%bc%81%ef%bc%99-rock-spirit-of-steel-9-theres-only-one-way-to-rock-3
END:VEVENT
BEGIN:VEVENT
DTSTART;VALUE=DATE:20180923
DTEND;VALUE=DATE:20180924
DTSTAMP:20260423T065025
CREATED:20180218T073401Z
LAST-MODIFIED:20181122T105303Z
UID:455-1537660800-1537747199@beats.stars.ne.jp
SUMMARY:鋼鉄のロック魂！９-ROCK SPIRIT of STEEL 9- There's Only One Way To Rock
DESCRIPTION:ブライアン・アダムス、ニール・ヤング、カート・コバーンが…..\n アコギ1本でステージに立ったからといって…..\n ロックじゃないって誰が言う？\n エルトン・ジョンやビリー・ジョエルがピアノ1台でステージに立ったからといって….\n ピアノ発表会だと誰が言う？\n ジャーニーやTOTO、エアロスミスがバラード歌ったって……\n どう聞いても子守唄には聞こえない。\n デヴィッド・ギルモアやキッスがアンプラグドでアコースティック・ライブやったって…..\n どう贔屓目に見てもいつものロック・コンサートにしか思えない。\n ですよ、弾き語りアコースティック・スタイルでもシーケンサーでのワンマンでもバンドでもアカペラでも、自分が好きなものは好きと言い切れる、寄り道や休憩はしても好きだから絶対曲げない、\n ずっと続けて来た…好きな音楽への思い入れと思い込み、続けて来た事が、続けていける事がロック！\n それが鋼鉄(ハガネ)のロック魂！　\n そんな気持ちを持った方達と楽しみたいイベントです。 \n ROCK SPIRIT of STEEL – THERE’S ONLY ONE WAY TO ROCK – 鋼鉄のロック魂！９  \n 2000 / 2500+D \n ＜２３確定＞\n ・K２\n ・CROWDIA(熊本)\n ・THE LIAR HONEYS(熊本)\n ・ハナシェイド\n ・GLAY5150\n ・宮本輝バンド\n ・アリス帝国
URL:https://beats.stars.ne.jp/schedule/%e9%8b%bc%e9%89%84%e3%81%ae%e3%83%ad%e3%83%83%e3%82%af%e9%ad%82%ef%bc%81%ef%bc%99-rock-spirit-of-steel-9-theres-only-one-way-to-rock-2
END:VEVENT
BEGIN:VEVENT
DTSTART;VALUE=DATE:20180922
DTEND;VALUE=DATE:20180923
DTSTAMP:20260423T065025
CREATED:20180819T063328Z
LAST-MODIFIED:20180819T063345Z
UID:999-1537574400-1537660799@beats.stars.ne.jp
SUMMARY:｢Sing! Meet up festival in 福岡 "CLaN "｣
DESCRIPTION:｢Sing! Meet up festival in 福岡 “CLaN “｣ \n  \n問い合わせ\n LINE@\n @mub0468p
URL:https://beats.stars.ne.jp/schedule/%ef%bd%a2sing-meet-up-festival-in-%e7%a6%8f%e5%b2%a1-clan-%ef%bd%a3
LOCATION:BEAT STATION\, 福岡市中央区渡辺通4-11-4\, 〒810-0004
END:VEVENT
BEGIN:VEVENT
DTSTART;VALUE=DATE:20180921
DTEND;VALUE=DATE:20180922
DTSTAMP:20260423T065025
CREATED:20180218T072820Z
LAST-MODIFIED:20181122T105308Z
UID:450-1537488000-1537574399@beats.stars.ne.jp
SUMMARY:鋼鉄のロック魂！９ -ROCK SPIRIT of STEEL 9-There's Only One Way To Rock
DESCRIPTION:ブライアン・アダムス、ニール・ヤング、カート・コバーンが…..\n アコギ1本でステージに立ったからといって…..\n ロックじゃないって誰が言う？\n エルトン・ジョンやビリー・ジョエルがピアノ1台でステージに立ったからといって….\n ピアノ発表会だと誰が言う？\n ジャーニーやTOTO、エアロスミスがバラード歌ったって……\n どう聞いても子守唄には聞こえない。\n デヴィッド・ギルモアやキッスがアンプラグドでアコースティック・ライブやったって…..\n どう贔屓目に見てもいつものロック・コンサートにしか思えない。\n ですよ、弾き語りアコースティック・スタイルでもシーケンサーでのワンマンでもバンドでもアカペラでも、自分が好きなものは好きと言い切れる、寄り道や休憩はしても好きだから絶対曲げない、\n ずっと続けて来た…好きな音楽への思い入れと思い込み、続けて来た事が、続けていける事がロック！\n それが鋼鉄(ハガネ)のロック魂！　\n そんな気持ちを持った方達と楽しみたいイベントです。 \n ROCK SPIRIT of STEEL – THERE’S ONLY ONE WAY TO ROCK – 鋼鉄のロック魂！９ \n 9/21(アンプラグド・ナイト)\n 18:30 / 19:00\n 2\,000 / 2\,500 +1D \n ＜確定＞\n HISATO\n joebeth(熊本)\n マイトガイ!!\n GLAXY\nさはら \n 
URL:https://beats.stars.ne.jp/schedule/%e9%8b%bc%e9%89%84%e3%81%ae%e3%83%ad%e3%83%83%e3%82%af%e9%ad%82%ef%bc%81%ef%bc%99-rock-spirit-of-steel-9-theres-only-one-way-to-rock
LOCATION:BEAT STATION\, 福岡市中央区渡辺通4-11-4\, 〒810-0004
END:VEVENT
BEGIN:VEVENT
DTSTART;VALUE=DATE:20180917
DTEND;VALUE=DATE:20180918
DTSTAMP:20260423T065025
CREATED:20180629T124138Z
LAST-MODIFIED:20180629T124138Z
UID:857-1537142400-1537228799@beats.stars.ne.jp
SUMMARY:clammbon モメントツアー2018
DESCRIPTION:clammbon
URL:https://beats.stars.ne.jp/schedule/clammbon-%e3%83%a2%e3%83%a1%e3%83%b3%e3%83%88%e3%83%84%e3%82%a2%e3%83%bc2018-2
LOCATION:BEAT STATION\, 福岡市中央区渡辺通4-11-4\, 〒810-0004
END:VEVENT
BEGIN:VEVENT
DTSTART;VALUE=DATE:20180916
DTEND;VALUE=DATE:20180917
DTSTAMP:20260423T065025
CREATED:20180629T123817Z
LAST-MODIFIED:20180629T123859Z
UID:855-1537056000-1537142399@beats.stars.ne.jp
SUMMARY:clammbon モメントツアー2018
DESCRIPTION:clammbon
URL:https://beats.stars.ne.jp/schedule/clammbon-%e3%83%a2%e3%83%a1%e3%83%b3%e3%83%88%e3%83%84%e3%82%a2%e3%83%bc2018
LOCATION:BEAT STATION\, 福岡市中央区渡辺通4-11-4\, 〒810-0004
END:VEVENT
BEGIN:VEVENT
DTSTART;VALUE=DATE:20180912
DTEND;VALUE=DATE:20180913
DTSTAMP:20260423T065025
CREATED:20180715T114749Z
LAST-MODIFIED:20180715T114825Z
UID:932-1536710400-1536796799@beats.stars.ne.jp
SUMMARY:RENT THANKS!!
DESCRIPTION:貸切
URL:https://beats.stars.ne.jp/schedule/rent
LOCATION:BEAT STATION\, 福岡市中央区渡辺通4-11-4\, 〒810-0004
END:VEVENT
BEGIN:VEVENT
DTSTART;VALUE=DATE:20180909
DTEND;VALUE=DATE:20180910
DTSTAMP:20260423T065025
CREATED:20180825T150053Z
LAST-MODIFIED:20181122T105314Z
UID:1010-1536451200-1536537599@beats.stars.ne.jp
SUMMARY:predia tour 2018
DESCRIPTION:predia
URL:https://beats.stars.ne.jp/schedule/predia-tour-2018
LOCATION:BEAT STATION\, 福岡市中央区渡辺通4-11-4\, 〒810-0004
END:VEVENT
BEGIN:VEVENT
DTSTART;VALUE=DATE:20180909
DTEND;VALUE=DATE:20180910
DTSTAMP:20260423T065025
CREATED:20180825T150029Z
LAST-MODIFIED:20181122T105319Z
UID:1007-1536451200-1536537599@beats.stars.ne.jp
SUMMARY:predia welcome party
DESCRIPTION:predia
URL:https://beats.stars.ne.jp/schedule/predia-welcome-party
LOCATION:BEAT STATION\, 福岡市中央区渡辺通4-11-4\, 〒810-0004
END:VEVENT
BEGIN:VEVENT
DTSTART;VALUE=DATE:20180908
DTEND;VALUE=DATE:20180909
DTSTAMP:20260423T065025
CREATED:20180626T071730Z
LAST-MODIFIED:20180626T071730Z
UID:851-1536364800-1536451199@beats.stars.ne.jp
SUMMARY:Let's EBiSSH! ～GO!!!～
DESCRIPTION:EBiSSH \n  \n一般発売：7/21 午前10時
URL:https://beats.stars.ne.jp/schedule/lets-ebissh-%ef%bd%9ego%ef%bd%9e
LOCATION:BEAT STATION\, 福岡市中央区渡辺通4-11-4\, 〒810-0004
END:VEVENT
BEGIN:VEVENT
DTSTART;VALUE=DATE:20180906
DTEND;VALUE=DATE:20180907
DTSTAMP:20260423T065025
CREATED:20180819T062747Z
LAST-MODIFIED:20180819T062747Z
UID:996-1536192000-1536278399@beats.stars.ne.jp
SUMMARY:RENT THANKS!!
DESCRIPTION:
URL:https://beats.stars.ne.jp/schedule/rent-thanks-7
LOCATION:BEAT STATION\, 福岡市中央区渡辺通4-11-4\, 〒810-0004
END:VEVENT
BEGIN:VEVENT
DTSTART;VALUE=DATE:20180901
DTEND;VALUE=DATE:20180902
DTSTAMP:20260423T065025
CREATED:20180723T091932Z
LAST-MODIFIED:20180723T091932Z
UID:958-1535760000-1535846399@beats.stars.ne.jp
SUMMARY:「KYUSHU GIRLS WING vol\,3〜夏の集大成2018」
DESCRIPTION: IsTaR\n九州女子翼\nQunQun\nくるーずCRUiSE!\nCherish\nパピマシェ\nパピロジェ\nYAMAKATSU\nREBIRTH\nLYRA \n予約/https://ssl.form-mailer.jp/fms/5915b6f4573138 \n※2018年7月19日19時~2018年9月1日8時まで予約受付 \n※上記チケットフォームのみでの取り扱いです。各グループでのお取り置きはありません。
URL:https://beats.stars.ne.jp/schedule/%e3%80%8ckyushu-girls-wing-vol3%e3%80%9c%e5%a4%8f%e3%81%ae%e9%9b%86%e5%a4%a7%e6%88%902018%e3%80%8d
LOCATION:BEAT STATION\, 福岡市中央区渡辺通4-11-4\, 〒810-0004
END:VEVENT
BEGIN:VEVENT
DTSTART;VALUE=DATE:20180830
DTEND;VALUE=DATE:20180831
DTSTAMP:20260423T065025
CREATED:20180527T092536Z
LAST-MODIFIED:20181122T105324Z
UID:756-1535587200-1535673599@beats.stars.ne.jp
SUMMARY:『草ケ谷遥海×サカタケント Live Tour 2018 Summer』
DESCRIPTION:『草ケ谷遥海×サカタケント Live Tour 2018 Summer』開催決定！ \nきっかけは今年2018年の「歌唱王」。この番組を見て興味を持ったサカタケントが、草ケ谷遥海ワンマンに行き、ステージパフォーマンスに感動する。お互いがオーディションを経て、「アーティスト」という追い続ける夢に意気投合して、ここに2組のコラボレーション・ツアーが決定される。コラボ・パフォーマンスにも大注目！？ \n  \n草ケ谷遥海 \n \n■草ケ谷遥海 プロフィール \n今年1月3日に『第5回全日本歌唱力選手権歌唱王』で、惜しくも優勝を逃したがその圧巻の歌声、圧倒的な表現力で視聴者をくぎ付けにした。ネット上でも絶賛の声が飛び交い、その実力を世に知らしめた。その後『行列のできる法律相談所 気になる人大集合スペシャル』にも大抜擢された。4月19日に行われたクラウドファンディングによるZepp DiverCity TOKYOでのフリーワンマンも成功した今見逃せないシンガー。 \n  \nサカタケント \n \n■サカタケント プロフィール \n2014年にオーディションから生まれた10人組エンタテインメント集団「10神ACTOR」。現在、福岡を拠点に九州で芝居、歌、ダンス、バラエティとマルチに活躍中。このグループの坂田隆一郎と山田健登によって結成された派生ユニットが「サカタケント」。シングル4枚、アルバム1枚をリリースしており、九州を飛び出しての初ツアーとなる。 \n  \n■チケット販売・日程 \n○草ケ谷遥海Twitter先行（抽選・受付期間） \n6月2日（土）15時～6月5日（火）23時30分 \n※詳細は受付期間内に草ケ谷遥海Twitterをご確認ください。 \n○サカタケント・10神ACTOR FC先行（抽選・受付期間） \n6月2日（土）15時～6月5日（火）23時30分 \n※詳細は受付期間内に10神ACTOR FCをご確認ください。 \n  \n○草ケ谷遥海HP先行（先着） \n6月16日（土）10時～6月24日（日）23時30分 \n○サカタケント・10神ACTOR HP先行（先着） \n6月16日（土）10時～6月24日（日）23時30分 \n  \n○PG先行（先着）6月25日（月）～ \n○一般発売（先着）7月7日（土）〜
URL:https://beats.stars.ne.jp/schedule/%e3%80%8e%e8%8d%89%e3%82%b1%e8%b0%b7%e9%81%a5%e6%b5%b7x%e3%82%b5%e3%82%ab%e3%82%bf%e3%82%b1%e3%83%b3%e3%83%88-live-tour-2018-summer%e3%80%8f
LOCATION:BEAT STATION\, 福岡市中央区渡辺通4-11-4\, 〒810-0004
END:VEVENT
BEGIN:VEVENT
DTSTART;VALUE=DATE:20180826
DTEND;VALUE=DATE:20180827
DTSTAMP:20260423T065025
CREATED:20180618T073735Z
LAST-MODIFIED:20181122T105331Z
UID:838-1535241600-1535327999@beats.stars.ne.jp
SUMMARY:mono palette.-summer tour2018-
DESCRIPTION:あげいん \n雪見 \nRim \n3部 \nBee \nいゔ
URL:https://beats.stars.ne.jp/schedule/mono-palette-summer-tour2018
LOCATION:BEAT STATION\, 福岡市中央区渡辺通4-11-4\, 〒810-0004
END:VEVENT
BEGIN:VEVENT
DTSTART;VALUE=DATE:20180825
DTEND;VALUE=DATE:20180826
DTSTAMP:20260423T065025
CREATED:20180501T090647Z
LAST-MODIFIED:20181122T105336Z
UID:712-1535155200-1535241599@beats.stars.ne.jp
SUMMARY:チキンアーメン〜うまさの秘訣はよくコネリー〜
DESCRIPTION:まだまだうだるほどの暑さがのしかかる日々、\n こんな時は食欲も減退するね。\n でもこれ食べて頑張ろうぜ！！！！ \n 8月25日（土）\n チキンアーメン〜うまさの秘訣はよくコネリー〜\n 17:30 / 18:00\n 2000 / 2500 +D \n ＜確定＞\n D.U.S.T \n LAVISH（熊本）\n DAMEDETH\n ＫＩＫＩ\n Nasty-Justy(公認。)\n きっちゅ！
URL:https://beats.stars.ne.jp/schedule/%e3%83%81%e3%82%ad%e3%83%b3%e3%82%a2%e3%83%bc%e3%83%a1%e3%83%b3%e3%80%9c%e3%81%86%e3%81%be%e3%81%95%e3%81%ae%e7%a7%98%e8%a8%a3%e3%81%af%e3%82%88%e3%81%8f%e3%82%b3%e3%83%8d%e3%83%aa%e3%83%bc%e3%80%9c
END:VEVENT
BEGIN:VEVENT
DTSTART;VALUE=DATE:20180824
DTEND;VALUE=DATE:20180825
DTSTAMP:20260423T065025
CREATED:20180618T063710Z
LAST-MODIFIED:20181122T105342Z
UID:821-1535068800-1535155199@beats.stars.ne.jp
SUMMARY:祭nine.夏フェス開催決定！ 「日本一縁起がいい夏フェス 2018 祭nine.のご利益！ご利益！」
DESCRIPTION:祭nine. 
URL:https://beats.stars.ne.jp/schedule/%e7%a5%adnine-%e5%a4%8f%e3%83%95%e3%82%a7%e3%82%b9%e9%96%8b%e5%82%ac%e6%b1%ba%e5%ae%9a%ef%bc%81-%e3%80%8c%e6%97%a5%e6%9c%ac%e4%b8%80%e7%b8%81%e8%b5%b7%e3%81%8c%e3%81%84%e3%81%84%e5%a4%8f%e3%83%95
LOCATION:BEAT STATION\, 福岡市中央区渡辺通4-11-4\, 〒810-0004
END:VEVENT
BEGIN:VEVENT
DTSTART;VALUE=DATE:20180819
DTEND;VALUE=DATE:20180820
DTSTAMP:20260423T065025
CREATED:20180715T105655Z
LAST-MODIFIED:20180820T103642Z
UID:926-1534636800-1534723199@beats.stars.ne.jp
SUMMARY:face to ace 浴衣祭 2018
DESCRIPTION:◎出演：face to ace\n              (ACE/G\,Vo\,浴衣 本田海月/Key\,G\,Vo\,浴衣) \n◎予約受付： 7月13日(金)20:00～ 以降8月18日(土)23:59まで以下のアドレスでメール予約受付致します。 reserved_tickets_hbbs-facetoace@yahoo.co.jp \n※件名は「8/19チケット予約」、本文にお名前(フルネーム)、会員番号、連絡先電話番号、予約枚数を明記して下さい。枚数の記載が無い場合、1枚として受付致します。 \n※予約はお一人様4枚までとさせていただきます。 FC優先での予約は会員に限ります。2枚以上ご予約される場合、2枚目以降の方が会員である必要はありません。 \n※予約受付完了のメール返信時に整理番号をお知らせ致します。当日は整理番号順のご入場となります。 \n※FC優先予約された方はご入場時に会員証のご提示をお願い致します。2枚以上ご予約の場合、予約された方が会員証をご提示下さい。会員証のご提示がない場合、最後尾からのご入場となりますので、会員証をご用意下さい。 \n※FC優先予約は、ご予約の時点で会員期限が切れていると予約が無効になります。会員期限をご確認の上ご予約下さい。 \n※会員証を紛失された方はお早めに再発行の申請をお願い致します。当日までに間に合わなければFCより届いたDMをご提示下さい。 お一人様4枚までとさせていただきます。 \n※携帯電話にてご予約のお客様は、 reserved_tickes_hbbs-factoace@yahoo.co.jpからの メールを受信出来るよう、予め設定をお願い致します。 \n◎予約チケット引換： 8月19日(日)15:00～（開場1時間前～） 福岡 BEAT STATION 受付にて \n◎その他、ご不明な点がございましたら、上記電話番号までお問い合わせ
URL:https://beats.stars.ne.jp/schedule/face-to-ace-%e6%b5%b4%e8%a1%a3%e7%a5%ad-2018
LOCATION:BEAT STATION\, 福岡市中央区渡辺通4-11-4\, 〒810-0004
END:VEVENT
BEGIN:VEVENT
DTSTART;VALUE=DATE:20180818
DTEND;VALUE=DATE:20180819
DTSTAMP:20260423T065025
CREATED:20180618T073035Z
LAST-MODIFIED:20180618T073035Z
UID:836-1534550400-1534636799@beats.stars.ne.jp
SUMMARY:楠田亜衣奈3rd LIVE TOUR～アイナンダ！
DESCRIPTION:楠田亜衣奈 \n  \n  \n \n \nチケット一般発売：7/14 午前10時～\n 
URL:https://beats.stars.ne.jp/schedule/%e6%a5%a0%e7%94%b0%e4%ba%9c%e8%a1%a3%e5%a5%883rd-live-tour%ef%bd%9e%e3%82%a2%e3%82%a4%e3%83%8a%e3%83%b3%e3%83%80%ef%bc%81
LOCATION:BEAT STATION\, 福岡市中央区渡辺通4-11-4\, 〒810-0004
END:VEVENT
BEGIN:VEVENT
DTSTART;VALUE=DATE:20180815
DTEND;VALUE=DATE:20180816
DTSTAMP:20260423T065025
CREATED:20180807T093651Z
LAST-MODIFIED:20180807T093651Z
UID:974-1534291200-1534377599@beats.stars.ne.jp
SUMMARY:WE NEXT TOUR
DESCRIPTION:LIL NIGO \nYUNG TYPE \nMARIA \nDJ TAKU \nBABY CYPURUS
URL:https://beats.stars.ne.jp/schedule/we-next-tour
LOCATION:BEAT STATION\, 福岡市中央区渡辺通4-11-4\, 〒810-0004
END:VEVENT
BEGIN:VEVENT
DTSTART;VALUE=DATE:20180814
DTEND;VALUE=DATE:20180815
DTSTAMP:20260423T065025
CREATED:20180715T101546Z
LAST-MODIFIED:20180807T094148Z
UID:919-1534204800-1534291199@beats.stars.ne.jp
SUMMARY:気まぐれ演奏会 vol.14
DESCRIPTION:PSB\n BANSHEE\n high side\n 後遺症\n umbrella\n TRIBAL RED\n 大串奈央
URL:https://beats.stars.ne.jp/schedule/%e6%b0%97%e3%81%be%e3%81%90%e3%82%8c%e6%bc%94%e5%a5%8f%e4%bc%9a-vol-14
LOCATION:BEAT STATION\, 福岡市中央区渡辺通4-11-4\, 〒810-0004
END:VEVENT
BEGIN:VEVENT
DTSTART;VALUE=DATE:20180813
DTEND;VALUE=DATE:20180814
DTSTAMP:20260423T065025
CREATED:20180618T071307Z
LAST-MODIFIED:20180820T103634Z
UID:834-1534118400-1534204799@beats.stars.ne.jp
SUMMARY:ファッションショー CHAOS 2018
DESCRIPTION:■SPECIAL FASHION SHOW\n サントニブンノイチ\n Kizui U \n■FASHION TEAM\n alt\n aqualuna\n CameLion\n AIR \n■DJ\n 志波\n chemicalxxx
URL:https://beats.stars.ne.jp/schedule/%e3%83%95%e3%82%a1%e3%83%83%e3%82%b7%e3%83%a7%e3%83%b3%e3%82%b7%e3%83%a7%e3%83%bc-chaos-2018
LOCATION:BEAT STATION\, 福岡市中央区渡辺通4-11-4\, 〒810-0004
END:VEVENT
BEGIN:VEVENT
DTSTART;VALUE=DATE:20180812
DTEND;VALUE=DATE:20180813
DTSTAMP:20260423T065025
CREATED:20180618T070846Z
LAST-MODIFIED:20180618T070846Z
UID:832-1534032000-1534118399@beats.stars.ne.jp
SUMMARY:「Naozumi Takahashi A’LIVE 2018 AMOROUS TOUR」
DESCRIPTION:高橋直純
URL:https://beats.stars.ne.jp/schedule/%e3%80%8cnaozumi-takahashi-alive-2018-amorous-tour%e3%80%8d
LOCATION:BEAT STATION\, 福岡市中央区渡辺通4-11-4\, 〒810-0004
END:VEVENT
BEGIN:VEVENT
DTSTART;VALUE=DATE:20180810
DTEND;VALUE=DATE:20180811
DTSTAMP:20260423T065025
CREATED:20180715T100318Z
LAST-MODIFIED:20180715T100318Z
UID:916-1533859200-1533945599@beats.stars.ne.jp
SUMMARY:CRACKHOUSE presents"FUCKIN KUSH NIGHT" StreetShop "CRACK HOUSE" 3rd Anniversary Party
DESCRIPTION:-2Days CAST-\nLastScreamDayz\nKLAXION\nUNDERCREW\nDj 420Jr\n.\n-BAND-\nLenz\nEVILHYPE\nThe Deal to Headz\n.\n-GUEST DJ-\nRYUJI(Defcult)\n.\n-DJ-\nZilch\nNxOxB(DreadnoughT)\n.\n-LIVE PAINT-\nPLUGMAN\nShinchan\nWOK22\nTeru\n.\n-SHOP BOOTH-\nCRACKHOUSE\n.\n-PRINT BOOTH-\nBROMAHOUSE\n. \n-CRACKHOUSE WEB ADV TICKET- \nhttp://crackhouse.shop-pro.jp/?pid=129945434
URL:https://beats.stars.ne.jp/schedule/crackhouse-presentsfuckin-kush-night-streetshop-crack-house-3rd-anniversary-party
LOCATION:BEAT STATION\, 福岡市中央区渡辺通4-11-4\, 〒810-0004
END:VEVENT
BEGIN:VEVENT
DTSTART;VALUE=DATE:20180804
DTEND;VALUE=DATE:20180805
DTSTAMP:20260423T065025
CREATED:20180618T065954Z
LAST-MODIFIED:20180820T103626Z
UID:829-1533340800-1533427199@beats.stars.ne.jp
SUMMARY:ニコこれツアー 「ニコこれ-ゲーム実況者ミュージックこれくしょん-」 -福岡編-
DESCRIPTION:■出演：\n 【MC】倭寇\n SIGUMA/M.K.R/カフェイン/はんじょう/とりっぴぃ/愛の戦士/なな湖/タラチオ \n ※2部のみ\n Gt.元:内山/Ba.ぴょん/Dr.ふく丸 \n 【チケット購入URL】\n 1部\n https://www.confetti-web.com/detail.php?tid=46232& \n 2部\n https://www.confetti-web.com/detail.php?tid=46240&
URL:https://beats.stars.ne.jp/schedule/%e3%83%8b%e3%82%b3%e3%81%93%e3%82%8c%e3%83%84%e3%82%a2%e3%83%bc-%e3%80%8c%e3%83%8b%e3%82%b3%e3%81%93%e3%82%8c-%e3%82%b2%e3%83%bc%e3%83%a0%e5%ae%9f%e6%b3%81%e8%80%85%e3%83%9f%e3%83%a5%e3%83%bc%e3%82%b8
LOCATION:BEAT STATION\, 福岡市中央区渡辺通4-11-4\, 〒810-0004
END:VEVENT
END:VCALENDAR