BEGIN:VCALENDAR
VERSION:2.0
PRODID:-//福岡のライブハウス BEAT STATION - ECPv6.10.3//NONSGML v1.0//EN
CALSCALE:GREGORIAN
METHOD:PUBLISH
X-WR-CALNAME:福岡のライブハウス BEAT STATION
X-ORIGINAL-URL:https://beats.stars.ne.jp
X-WR-CALDESC:福岡のライブハウス BEAT STATION のイベント
REFRESH-INTERVAL;VALUE=DURATION:PT1H
X-Robots-Tag:noindex
X-PUBLISHED-TTL:PT1H
BEGIN:VTIMEZONE
TZID:Asia/Tokyo
BEGIN:STANDARD
TZOFFSETFROM:+0900
TZOFFSETTO:+0900
TZNAME:JST
DTSTART:20180101T000000
END:STANDARD
END:VTIMEZONE
BEGIN:VEVENT
DTSTART;VALUE=DATE:20180630
DTEND;VALUE=DATE:20180701
DTSTAMP:20260423T065008
CREATED:20180501T075043Z
LAST-MODIFIED:20180501T075451Z
UID:706-1530316800-1530403199@beats.stars.ne.jp
SUMMARY:「原点回帰～なんばHatchへの道～」
DESCRIPTION: the Raid.  \n  \n  \n【問】 theraid_2@yahoo.co.jp 
URL:https://beats.stars.ne.jp/schedule/%e3%80%8c%e5%8e%9f%e7%82%b9%e5%9b%9e%e5%b8%b0%ef%bd%9e%e3%81%aa%e3%82%93%e3%81%b0hatch%e3%81%b8%e3%81%ae%e9%81%93%ef%bd%9e%e3%80%8d
LOCATION:BEAT STATION\, 福岡市中央区渡辺通4-11-4\, 〒810-0004
END:VEVENT
BEGIN:VEVENT
DTSTART;VALUE=DATE:20180629
DTEND;VALUE=DATE:20180630
DTSTAMP:20260423T065008
CREATED:20180404T095927Z
LAST-MODIFIED:20180715T093308Z
UID:652-1530230400-1530316799@beats.stars.ne.jp
SUMMARY:EASTWEST LIVE SHOW!
DESCRIPTION:Attractions×PAELLAS \nAttractions \n \n  \nPAELLAS
URL:https://beats.stars.ne.jp/schedule/eastwest-live-show
LOCATION:BEAT STATION\, 福岡市中央区渡辺通4-11-4\, 〒810-0004
END:VEVENT
BEGIN:VEVENT
DTSTART;VALUE=DATE:20180628
DTEND;VALUE=DATE:20180629
DTSTAMP:20260423T065008
CREATED:20180531T120808Z
LAST-MODIFIED:20180715T093301Z
UID:782-1530144000-1530230399@beats.stars.ne.jp
SUMMARY:【PARADIGM SHIFTー黒の章ー】
DESCRIPTION:10.8℃の世界線 \nMiLiARDO \nワンダーラブ
URL:https://beats.stars.ne.jp/schedule/%e3%80%90paradigm-shift%e3%83%bc%e9%bb%92%e3%81%ae%e7%ab%a0%e3%83%bc%e3%80%91
LOCATION:BEAT STATION\, 福岡市中央区渡辺通4-11-4\, 〒810-0004
END:VEVENT
BEGIN:VEVENT
DTSTART;VALUE=DATE:20180625
DTEND;VALUE=DATE:20180626
DTSTAMP:20260423T065008
CREATED:20180501T074759Z
LAST-MODIFIED:20180624T074727Z
UID:704-1529884800-1529971199@beats.stars.ne.jp
SUMMARY:さユり 2マンツアー【月と越境】
DESCRIPTION:さユり \nGUEST : 後日発表 \n  \n  \n一般発売 5/26 10:00から
URL:https://beats.stars.ne.jp/schedule/%e3%81%95%e3%83%a6%e3%82%8a-2%e4%b8%87%e3%83%84%e3%82%a2%e3%83%bc-%e3%80%90%e6%9c%88%e3%81%a8%e8%b6%8a%e5%a2%83%e3%80%91
LOCATION:BEAT STATION\, 福岡市中央区渡辺通4-11-4\, 〒810-0004
END:VEVENT
BEGIN:VEVENT
DTSTART;VALUE=DATE:20180624
DTEND;VALUE=DATE:20180625
DTSTAMP:20260423T065008
CREATED:20180228T074045Z
LAST-MODIFIED:20180715T093255Z
UID:503-1529798400-1529884799@beats.stars.ne.jp
SUMMARY:ASPARAGUS presents BKTS TOUR 2018
DESCRIPTION:出演\n ASPARAGUS\n the band apart\n COMEBACK MY DAUGHTERS\n LOSTAGE \nASPARAGUSが不定期で主催するイベント、それがBKTS「馬骨STYLE(バコツスタイル)」!!! \n このイベントはASPARAGUSがジェラシーしちゃうくらいカッコいいなと思う大好きなBANDと一緒にLIVEをしたい！という理由だけのイベントです。2005年東京にて記念すべく第一回目を開催。\n 東京一夜限りのランデブーじゃあまりにも寂しすぎるという理由だけで2007年には東京・名古屋・大阪の3カ所にてTOUR形式で行う。\n さらに2009年には東京・名古屋・大阪に加え、札幌・仙台・福岡が追加され6カ所で行う。\n その後2012年に3年振りに前回と同じ会場で行う。そしてこの度はなんと6年振りの開催となります。\n 人は誰もどっかの馬の骨。しかしその馬の骨達の骨密度はこのTOURで軽く120%を超えるだろう。
URL:https://beats.stars.ne.jp/schedule/asparagus-presents-bkts-tour-2018
LOCATION:BEAT STATION\, 福岡市中央区渡辺通4-11-4\, 〒810-0004
END:VEVENT
BEGIN:VEVENT
DTSTART;VALUE=DATE:20180623
DTEND;VALUE=DATE:20180624
DTSTAMP:20260423T065008
CREATED:20180501T074255Z
LAST-MODIFIED:20180501T080107Z
UID:702-1529712000-1529798399@beats.stars.ne.jp
SUMMARY:LACCO TOWER 2マンツアー2018 五人囃子の駆け落ち騒ぎ～至福岡～「独り嘆くは柘榴の別れ」
DESCRIPTION:LACCO TOWER \n\nGUEST\nTHE BACK HORN
URL:https://beats.stars.ne.jp/schedule/lacco-tower-2%e3%83%9e%e3%83%b3%e3%83%84%e3%82%a2%e3%83%bc2018-%e4%ba%94%e4%ba%ba%e5%9b%83%e5%ad%90%e3%81%ae%e9%a7%86%e3%81%91%e8%90%bd%e3%81%a1%e9%a8%92%e3%81%8e%ef%bd%9e%e8%87%b3%e7%a6%8f%e5%b2%a1
LOCATION:BEAT STATION\, 福岡市中央区渡辺通4-11-4\, 〒810-0004
END:VEVENT
BEGIN:VEVENT
DTSTART;VALUE=DATE:20180622
DTEND;VALUE=DATE:20180623
DTSTAMP:20260423T065008
CREATED:20180323T093229Z
LAST-MODIFIED:20180715T093248Z
UID:616-1529625600-1529711999@beats.stars.ne.jp
SUMMARY:エイリアンサーカス 2018
DESCRIPTION:BRADIO  \n \nguest \n鶴 
URL:https://beats.stars.ne.jp/schedule/%e3%82%a8%e3%82%a4%e3%83%aa%e3%82%a2%e3%83%b3%e3%82%b5%e3%83%bc%e3%82%ab%e3%82%b9-2018
LOCATION:BEAT STATION\, 福岡市中央区渡辺通4-11-4\, 〒810-0004
END:VEVENT
BEGIN:VEVENT
DTSTART;VALUE=DATE:20180617
DTEND;VALUE=DATE:20180618
DTSTAMP:20260423T065008
CREATED:20180221T115812Z
LAST-MODIFIED:20180618T064830Z
UID:477-1529193600-1529279999@beats.stars.ne.jp
SUMMARY:FULLMOON LIVE TOUR 2018 〜Flyways〜
DESCRIPTION:moumoon \n 
URL:https://beats.stars.ne.jp/schedule/fullmoon-live-tour-2018-%e3%80%9cflyways%e3%80%9c
LOCATION:BEAT STATION\, 福岡市中央区渡辺通4-11-4\, 〒810-0004
END:VEVENT
BEGIN:VEVENT
DTSTART;VALUE=DATE:20180615
DTEND;VALUE=DATE:20180616
DTSTAMP:20260423T065008
CREATED:20180501T073952Z
LAST-MODIFIED:20180501T073952Z
UID:700-1529020800-1529107199@beats.stars.ne.jp
SUMMARY:ビッケブランカ ULALA TOUR 2018
DESCRIPTION:ビッケブランカ
URL:https://beats.stars.ne.jp/schedule/%e3%83%93%e3%83%83%e3%82%b1%e3%83%96%e3%83%a9%e3%83%b3%e3%82%ab-ulala-tour-2018
LOCATION:BEAT STATION\, 福岡市中央区渡辺通4-11-4\, 〒810-0004
END:VEVENT
BEGIN:VEVENT
DTSTART;VALUE=DATE:20180610
DTEND;VALUE=DATE:20180611
DTSTAMP:20260423T065008
CREATED:20180604T105914Z
LAST-MODIFIED:20180604T105927Z
UID:787-1528588800-1528675199@beats.stars.ne.jp
SUMMARY:【GOLDEN-JazzDanceContest-】
DESCRIPTION:<九州ジャズダンサーへ送る> \nジャズダンス限定のダンスコンテスト開催のお知らせです。 \n九州の感性は絶対に音楽性・技術どれをとっても全国に引けをとらないと本気で思います！！\n そこで！ジャズダンス限定のダンスコンテストを開催する事になりました。 \nたくさんのエントリーお待ちしております。\n 絶対にエントリーして、見に来て損はありません。 \nどんな素敵なダンサーに出会えるか！？\n 楽しみで仕方がありません！！ \n是非とも6/10に向けてスタートしませんか？ \n ADV:2.500yen(+1D)\n DAY:3.000yen(+1D)\n Entry:3.000yen(+1D)/1名 \nEntry:10:00\n Open:12:00\n START:13:00( Kids )\n START:15:00( Free )
URL:https://beats.stars.ne.jp/schedule/%e3%80%90golden-jazzdancecontest-%e3%80%91
LOCATION:BEAT STATION\, 福岡市中央区渡辺通4-11-4\, 〒810-0004
END:VEVENT
BEGIN:VEVENT
DTSTART;VALUE=DATE:20180609
DTEND;VALUE=DATE:20180610
DTSTAMP:20260423T065008
CREATED:20180531T120036Z
LAST-MODIFIED:20180531T120036Z
UID:780-1528502400-1528588799@beats.stars.ne.jp
SUMMARY:『June Bride 2018』
DESCRIPTION:BRIDEAR \n昨年よりはじまったBRIDEARの地元福岡でのスペシャルライブ。\n新メンバー美彩季〈G〉のお披露目とニューアルバム『HELIX』からも新曲をたっぷり披露します。\nどんなライブになるか？こうご期待！
URL:https://beats.stars.ne.jp/schedule/%e3%80%8ejune-bride-2018%e3%80%8f
LOCATION:BEAT STATION\, 福岡市中央区渡辺通4-11-4\, 〒810-0004
END:VEVENT
BEGIN:VEVENT
DTSTART;VALUE=DATE:20180608
DTEND;VALUE=DATE:20180609
DTSTAMP:20260423T065008
CREATED:20180514T083859Z
LAST-MODIFIED:20180611T085936Z
UID:735-1528416000-1528502399@beats.stars.ne.jp
SUMMARY:【アイドルLive 「青春☆ワンダーランド」×FM福岡 「SHUNの音楽は言葉を伝う為に」 公開収録】
DESCRIPTION: 出演 \nQunQun \nくるーず～CRUiSE!～ \n九州女子翼 \nONE SCENE \nリミテッド \nO/A 恒松りゆ（from 青SHUN学園）　 \nMC■SHUN
URL:https://beats.stars.ne.jp/schedule/%e3%80%90%e3%82%a2%e3%82%a4%e3%83%89%e3%83%ablive-%e3%80%8c%e9%9d%92%e6%98%a5%e2%98%86%e3%83%af%e3%83%b3%e3%83%80%e3%83%bc%e3%83%a9%e3%83%b3%e3%83%89%e3%80%8dxfm%e7%a6%8f%e5%b2%a1-%e3%80%8cshun
LOCATION:BEAT STATION\, 福岡市中央区渡辺通4-11-4\, 〒810-0004
END:VEVENT
BEGIN:VEVENT
DTSTART;VALUE=DATE:20180607
DTEND;VALUE=DATE:20180608
DTSTAMP:20260423T065008
CREATED:20180228T103212Z
LAST-MODIFIED:20180611T085926Z
UID:516-1528329600-1528415999@beats.stars.ne.jp
SUMMARY:■MONOEYES「Mexican Standoff Tour 2018」
DESCRIPTION:MONOEYES \n \n  \nキュウソネコカミ \n \n  \n  \n一般発売：3月24日 土曜日　18:00~
URL:https://beats.stars.ne.jp/schedule/%e2%96%a0monoeyes-%e5%af%be%e3%83%90%e3%83%b3%e3%83%84%e3%82%a2%e3%83%bc%e3%80%8cmexican-standoff-tour-2018%e3%80%8d%e6%b1%ba%e5%ae%9a%ef%bc%81
LOCATION:BEAT STATION\, 福岡市中央区渡辺通4-11-4\, 〒810-0004
END:VEVENT
BEGIN:VEVENT
DTSTART;VALUE=DATE:20180606
DTEND;VALUE=DATE:20180607
DTSTAMP:20260423T065008
CREATED:20180228T102709Z
LAST-MODIFIED:20180611T085920Z
UID:510-1528243200-1528329599@beats.stars.ne.jp
SUMMARY:■MONOEYES 「Mexican Standoff Tour 2018」
DESCRIPTION:MONOEYES \n \n  \nキュウソネコカミ \n \n  \n  \n一般発売：3月24日 土曜日　18:00~
URL:https://beats.stars.ne.jp/schedule/%e5%af%be%e3%83%90%e3%83%b3%e3%83%84%e3%82%a2%e3%83%bc%e3%80%8cmexican-standoff-tour-2018%e3%80%8d%e6%b1%ba%e5%ae%9a%ef%bc%81
LOCATION:BEAT STATION\, 福岡市中央区渡辺通4-11-4\, 〒810-0004
END:VEVENT
BEGIN:VEVENT
DTSTART;VALUE=DATE:20180603
DTEND;VALUE=DATE:20180604
DTSTAMP:20260423T065008
CREATED:20180228T070149Z
LAST-MODIFIED:20180611T085914Z
UID:499-1527984000-1528070399@beats.stars.ne.jp
SUMMARY:D.A.N.Tour 2018“DELTA”
DESCRIPTION:D.A.N. \nアーティストHP↓↓こちら \nD.A.N. HP \n 
URL:https://beats.stars.ne.jp/schedule/d-a-n-tour-2018delta
LOCATION:BEAT STATION\, 福岡市中央区渡辺通4-11-4\, 〒810-0004
END:VEVENT
BEGIN:VEVENT
DTSTART;VALUE=DATE:20180602
DTEND;VALUE=DATE:20180603
DTSTAMP:20260423T065008
CREATED:20180129T061853Z
LAST-MODIFIED:20180611T085907Z
UID:255-1527897600-1527983999@beats.stars.ne.jp
SUMMARY:“dresscodes plays the dresscodes”
DESCRIPTION:ドレスコーズ \n 
URL:https://beats.stars.ne.jp/schedule/the-dresscodes-tour-2018
LOCATION:BEAT STATION\, 福岡市中央区渡辺通4-11-4\, 〒810-0004
END:VEVENT
BEGIN:VEVENT
DTSTART;VALUE=DATE:20180601
DTEND;VALUE=DATE:20180602
DTSTAMP:20260423T065008
CREATED:20180408T093310Z
LAST-MODIFIED:20180408T093310Z
UID:671-1527811200-1527897599@beats.stars.ne.jp
SUMMARY:Jun Togawa Live in Fukuoka 2018
DESCRIPTION:戸川純（Vo)、中原信雄（B)、ライオン・メリィKey)、矢壁アツノブ(Dr)、石塚 “BERA” 伯広(G) 、山口慎一(Key） \nDJ：掟ポルシェ \n\n\n\n\n\n 
URL:https://beats.stars.ne.jp/schedule/jun-togawa-live-in-fukuoka-2018
LOCATION:BEAT STATION\, 福岡市中央区渡辺通4-11-4\, 〒810-0004
END:VEVENT
BEGIN:VEVENT
DTSTART;VALUE=DATE:20180531
DTEND;VALUE=DATE:20180601
DTSTAMP:20260423T065008
CREATED:20180215T020243Z
LAST-MODIFIED:20180611T085900Z
UID:384-1527724800-1527811199@beats.stars.ne.jp
SUMMARY:前野健太 ニューアルバム「サクラ」発売記念ツアー 〜開花宣言〜
DESCRIPTION:前野健太バンド (伊賀航、石橋英子、ジム・オルーク、ジョー・ダリア) \nGuest Act: ハンバートハンバート \n前野健太、待ちに待った4年半ぶりのニューアルバム「サクラ」発売記念ツアー ~開花宣言~が開催決定! 音楽誌では10年代のベスト・アルバムに選ばれる名作を残し、フジロック、サマーソニックなど大型ロックフェスに出演する など音楽家としての歩みを進めてきたシンガーソングライター前野健太。近年は文筆、映画主演、舞台役者など音楽以外の分 野でも脚光を浴びるマエケンが4年半ぶりのオリジナル・アルバム「サクラ」を4月25日にリリース。間違いなく、前野健太 の最高傑作であり、“昔からあったような、新しい音楽”。ここにある詩とサウンドが、これまでの歌謡曲ではない、新時代の 歌を掴もうとしています。 そして、待ちに待った最新作リリースを記念した全国ツアーが決定!新たな前野健太バンド(伊賀航、石橋英子、ジム・オ ルーク、ジョー・タリア)を結成し、サクラ前線を駆け抜け歌の花を咲かせます。
URL:https://beats.stars.ne.jp/schedule/%e5%89%8d%e9%87%8e%e5%81%a5%e5%a4%aa-%e3%83%8b%e3%83%a5%e3%83%bc%e3%82%a2%e3%83%ab%e3%83%90%e3%83%a0%e3%80%8c%e3%82%b5%e3%82%af%e3%83%a9%e3%80%8d%e7%99%ba%e5%a3%b2%e8%a8%98%e5%bf%b5%e3%83%84%e3%82%a2
LOCATION:BEAT STATION\, 福岡市中央区渡辺通4-11-4\, 〒810-0004
END:VEVENT
BEGIN:VEVENT
DTSTART;VALUE=DATE:20180527
DTEND;VALUE=DATE:20180528
DTSTAMP:20260423T065008
CREATED:20180314T090037Z
LAST-MODIFIED:20180531T115033Z
UID:581-1527379200-1527465599@beats.stars.ne.jp
SUMMARY:“POLY LIFE MULTI SOUL” 発売記念全国ワンマンツアー
DESCRIPTION:cero
URL:https://beats.stars.ne.jp/schedule/poly-life-multi-soul-%e7%99%ba%e5%a3%b2%e8%a8%98%e5%bf%b5%e5%85%a8%e5%9b%bd%e3%83%af%e3%83%b3%e3%83%9e%e3%83%b3%e3%83%84%e3%82%a2%e3%83%bc
LOCATION:BEAT STATION\, 福岡市中央区渡辺通4-11-4\, 〒810-0004
END:VEVENT
BEGIN:VEVENT
DTSTART;VALUE=DATE:20180526
DTEND;VALUE=DATE:20180527
DTSTAMP:20260423T065008
CREATED:20180304T083810Z
LAST-MODIFIED:20180531T115025Z
UID:563-1527292800-1527379199@beats.stars.ne.jp
SUMMARY:Be Comming it! 〜ビーカミ！〜REBIRTH Ver.２
DESCRIPTION:コピバン、トリビュートバンドの祭典、ビーカミ！\n ２０１８年度のサーキット・オブ・ハウスショウ！ \n コピバン・ライブの最大イベントであるコピバン・バトル＜ビーカマニア！＞へ通じるロード・オブ・サーキット・ライブ！\n さて、今回はどんなかっこいいコピバンに出会えるのか？\n 楽しみです。 \n\n 5月26日（土）\n Be Comming it! 〜ビーカミ！〜REBIRTH Ver.２ \n ＜出演＞\n KiKi\n Lied Reviver\n DAMEDETH\n アリス帝国
URL:https://beats.stars.ne.jp/schedule/be-comming-it-%e3%80%9c%e3%83%93%e3%83%bc%e3%82%ab%e3%83%9f%ef%bc%81%e3%80%9crebirth-ver-%ef%bc%92
LOCATION:BEAT STATION\, 福岡市中央区渡辺通4-11-4\, 〒810-0004
END:VEVENT
BEGIN:VEVENT
DTSTART;VALUE=DATE:20180520
DTEND;VALUE=DATE:20180521
DTSTAMP:20260423T065008
CREATED:20180324T115053Z
LAST-MODIFIED:20180531T115020Z
UID:621-1526774400-1526860799@beats.stars.ne.jp
SUMMARY:OTO no MOTO with G on Bikini Islands. ~音の素･ｳｲｽﾞG！ｵﾝ･ﾋﾞｷﾆ諸島~
DESCRIPTION:OTO no MOTO with G on Bikini Islands.\n ~音の素･ｳｲｽﾞG！ｵﾝ･ﾋﾞｷﾆ諸島~ \n ＜出演＞\n ●KISS SCENE\n ●PSB\n ●TAKATO with GGPOP\n●WOLG\n …etc.
URL:https://beats.stars.ne.jp/schedule/oto-no-moto-with-g-on-bikini-islands-%e9%9f%b3%e3%81%ae%e7%b4%a0%ef%bd%a5%ef%bd%b3%ef%bd%b2%ef%bd%bd%ef%be%9eg%ef%bc%81%ef%bd%b5%ef%be%9d%ef%bd%a5%ef%be%8b%ef%be%9e%ef%bd%b7%ef%be%86%e8%ab%b8
END:VEVENT
BEGIN:VEVENT
DTSTART;VALUE=DATE:20180519
DTEND;VALUE=DATE:20180520
DTSTAMP:20260423T065008
CREATED:20180118T053459Z
LAST-MODIFIED:20180531T115013Z
UID:121-1526688000-1526774399@beats.stars.ne.jp
SUMMARY:TOUR 2018 「the Sun」
DESCRIPTION:Brian the sun
URL:https://beats.stars.ne.jp/schedule/tour-2018-%e3%80%8cthe-sun%e3%80%8d
LOCATION:BEAT STATION\, 福岡市中央区渡辺通4-11-4\, 〒810-0004
END:VEVENT
BEGIN:VEVENT
DTSTART;VALUE=DATE:20180518
DTEND;VALUE=DATE:20180519
DTSTAMP:20260423T065008
CREATED:20180501T073751Z
LAST-MODIFIED:20180501T073751Z
UID:698-1526601600-1526687999@beats.stars.ne.jp
SUMMARY:20周年記念リクエストツアー
DESCRIPTION:the band apart
URL:https://beats.stars.ne.jp/schedule/20%e5%91%a8%e5%b9%b4%e8%a8%98%e5%bf%b5%e3%83%aa%e3%82%af%e3%82%a8%e3%82%b9%e3%83%88%e3%83%84%e3%82%a2%e3%83%bc
LOCATION:BEAT STATION\, 福岡市中央区渡辺通4-11-4\, 〒810-0004
END:VEVENT
BEGIN:VEVENT
DTSTART;VALUE=DATE:20180513
DTEND;VALUE=DATE:20180514
DTSTAMP:20260423T065008
CREATED:20180228T065231Z
LAST-MODIFIED:20180531T115005Z
UID:495-1526169600-1526255999@beats.stars.ne.jp
SUMMARY:Spring Tour 2018
DESCRIPTION:ロッカジャポニカ \nアーティストHP↓↓から \nロッカジャポニカHP \n  \n※3歳以上有料 \n※お一人様各公演４枚まで申し込み可 \n※整理番号付き \n※女性観覧エリア・お子様観覧エリアを設置予定です。 \n※酒類の持込禁止/酒気帯での入場不可。発見した場合、即退場。 \n※禁止行為をオフィシャルサイトでご確認頂き、あらかじめご了承のチケットをお買い求め下さい。
URL:https://beats.stars.ne.jp/schedule/spring-tour-2018
LOCATION:BEAT STATION\, 福岡市中央区渡辺通4-11-4\, 〒810-0004
END:VEVENT
BEGIN:VEVENT
DTSTART;VALUE=DATE:20180506
DTEND;VALUE=DATE:20180507
DTSTAMP:20260423T065008
CREATED:20180312T064531Z
LAST-MODIFIED:20180531T115000Z
UID:588-1525564800-1525651199@beats.stars.ne.jp
SUMMARY:板野友美 LIVE TOUR 2018 〜Just as I am〜
DESCRIPTION:板野 友美 \n  \n一般発売 4/7 10:00
URL:https://beats.stars.ne.jp/schedule/%e6%9d%bf%e9%87%8e%e5%8f%8b%e7%be%8e-live-tour-2018-%e3%80%9cjust-as-i-am%e3%80%9c
LOCATION:BEAT STATION\, 福岡市中央区渡辺通4-11-4\, 〒810-0004
END:VEVENT
BEGIN:VEVENT
DTSTART;VALUE=DATE:20180505
DTEND;VALUE=DATE:20180506
DTSTAMP:20260423T065008
CREATED:20180406T054419Z
LAST-MODIFIED:20180531T114954Z
UID:663-1525478400-1525564799@beats.stars.ne.jp
SUMMARY:OILWORKS TECHNICS FUKUOKA 2018 “5lack  x Olive Oil [5O2] Release Special！！！” supported by COCALERO
DESCRIPTION: \n[Main Act]\nOlive Oil with 5lack (5O2 Special Dj Set) + VJ Popy Oil\n \n[Cast]\nK-BOMB\nLISACHRIS\n\n \n前作アルバム『5O』から5年。\n誰もが願ったあの2人が遂に再会を果たし、トラック、ラップ共に圧倒的にレベルが上がった最新作 5lack & Olive Oil 第2弾『5O2』のリリーススペシャル！本公演限定プレイ！！\n\n \n[WORK SHOP]\nマルヒロ (長崎 / 波佐見) ”好きなシールを貼って、飾り皿を作ろう～” \nPOPY OILのデザインを貼って楽しめる飾り皿のワークショップ。\n \ninfo\nOILWORKS.JP & 高田音楽製作事務所\n \n \n \n \nCD詳細\nartist : 5lack x Olive Oil\ntitle : ５O２\nlabel : 高田音楽制作事務所 & OILWORKS\nprice : 2\,300 円  [2\,484 円 税込]\n \n \nPROFILE  \n■5lack a.k.a 娯楽 (またはs.l.a.c.k.)。 \n日本東京出身のラッパーであり、それと同時にトラックメイカーでもある。前作、アルバム『夢から覚め。』の高評価、高セールスを記録。そして、2015.11.29から地上波で放送されている、NTTドコモによる2020年東京オリンピックのキャンペーンCM “Style ’20 “への起用や、ロックバンド・RADWIMPSの野田洋次郎によるソロプロジェクト・illionの先行シングル & アルバムにラッパーとしてフィーチャリングされるなど記憶に新しい。東京、福岡、その他数カ所に拠点を持ち、現在も日本国内を中心に5lackの音楽は広がり続けている。彼を知らずに日本のHIPHOPは語りきれない。   \n \n■OLIVE OIL 　 \n南の楽園を夢見る男　クリエイター集団OILWORKS プロデューサー / リミキサー /DJ  ワールドワイドでありながらアンダーグラウンドシーンと密接に結びつく感覚は唯一無二。\n \n \n出演CAST PROFILE  \n■K-BOMB\n最も黒い男。レペゼン BLACK SMOKER RECORDS。\n \n■LISACHRIS(リサクリス） \n3月1日生まれのプロデューサー/DJ。 NYのクイーンズで生まれ、ロンドン、東京で育つ。 一聴して誰のものか分かる印象的な楽曲を多数手掛ける音楽プロデューサーとして、DJでは国内外のクラブ、ハイブランドからストリートカルチャー、様々なパーティーやショーにブッキングされている。YENTOWN TOKYOに加入、2017年に脱退後、Piscesとして宮本彩菜との表現活動も行っている。2018年４月に待望の作品『ARIAKE』EPをリリースする。\n \n \n■WORK SHOP\nマルヒロ\n昭和32年露天商に始まったマルヒロは、長崎県の工芸品「波佐見焼」の食器やインテリア雑貨を企画している、陶磁器メーカーです。 デザインした商品を各工程の職人さんへお願いする “プロデューサー”のような役割と、出来上がった商品を流通させる“商社”の役割をしています!  土から始まり、一つの商品になるまでたくさんの人々が関わる波佐見焼は、400年以上に渡り受け継がれ、この先もずっと続いていくように、楽しい産地の会社でありたいと思っています。\n \n \n[Ticket Information]\n・OILWORKS ONLINE STORE  http://www.oilworks-store.com\n・Don’t Find shop 092-405-0809 (枚数限定)\n※無くなり次第終了
URL:https://beats.stars.ne.jp/schedule/oilworks-technics-fukuoka-2018-5lack-x-olive-oil-5o2-release-special%ef%bc%81%ef%bc%81%ef%bc%81-supported-by-cocalero
LOCATION:BEAT STATION\, 福岡市中央区渡辺通4-11-4\, 〒810-0004
END:VEVENT
BEGIN:VEVENT
DTSTART;VALUE=DATE:20180504
DTEND;VALUE=DATE:20180505
DTSTAMP:20260423T065008
CREATED:20180118T052748Z
LAST-MODIFIED:20180531T114948Z
UID:119-1525392000-1525478399@beats.stars.ne.jp
SUMMARY:僕たちがブルゼッケンハチハチです TOUR 2018
DESCRIPTION:BULL ZEICHEN 88 \n一般発売 2/18 10:00
URL:https://beats.stars.ne.jp/schedule/%e5%83%95%e3%81%9f%e3%81%a1%e3%81%8c%e3%83%96%e3%83%ab%e3%82%bc%e3%83%83%e3%82%b1%e3%83%b3%e3%83%8f%e3%83%81%e3%83%8f%e3%83%81%e3%81%a7%e3%81%99-tour-2018
LOCATION:BEAT STATION\, 福岡市中央区渡辺通4-11-4\, 〒810-0004
END:VEVENT
BEGIN:VEVENT
DTSTART;VALUE=DATE:20180503
DTEND;VALUE=DATE:20180504
DTSTAMP:20260423T065008
CREATED:20180118T052540Z
LAST-MODIFIED:20180118T052540Z
UID:117-1525305600-1525391999@beats.stars.ne.jp
SUMMARY:たこ虹全国ツアー2018「CLUB RAINBOW」
DESCRIPTION:たこやきレインボー
URL:https://beats.stars.ne.jp/schedule/%e3%81%9f%e3%81%93%e8%99%b9%e5%85%a8%e5%9b%bd%e3%83%84%e3%82%a2%e3%83%bc2018%e3%80%8cclub-rainbow%e3%80%8d
LOCATION:BEAT STATION\, 福岡市中央区渡辺通4-11-4\, 〒810-0004
END:VEVENT
BEGIN:VEVENT
DTSTART;VALUE=DATE:20180430
DTEND;VALUE=DATE:20180501
DTSTAMP:20260423T065008
CREATED:20180228T063806Z
LAST-MODIFIED:20180228T063806Z
UID:493-1525046400-1525132799@beats.stars.ne.jp
SUMMARY:みやかわくん Live Tour 2018
DESCRIPTION:みやかわくん \nアーティストHPは↓↓から \nみやかわくんHP \n  \n3/3 10:00〜 一般発売開始
URL:https://beats.stars.ne.jp/schedule/%e3%81%bf%e3%82%84%e3%81%8b%e3%82%8f%e3%81%8f%e3%82%93-live-tour-2018
LOCATION:BEAT STATION\, 福岡市中央区渡辺通4-11-4\, 〒810-0004
END:VEVENT
BEGIN:VEVENT
DTSTART;VALUE=DATE:20180429
DTEND;VALUE=DATE:20180430
DTSTAMP:20260423T065008
CREATED:20180304T083214Z
LAST-MODIFIED:20180531T114941Z
UID:560-1524960000-1525046399@beats.stars.ne.jp
SUMMARY:Be Comming it! 〜ビーカミ！〜REBIRTH Ver.1- GW Limited. -
DESCRIPTION:コピバン、トリビュートバンドの祭典、ビーカミ！\n ２０１８年度のサーキット・オブ・ハウスショウ！ \n コピバン・ライブの最大イベントであるコピバン・バトル＜ビーカマニア！＞へ通じるロード・オブ・サーキット・ライブ！\n さて、今回はどんなかっこいいコピバンに出会えるのか？\n 楽しみです。 \n\n ４月２９日（日）\n Be Comming it! 〜ビーカミ！〜REBIRTH Ver.1- GW Limited. – \n ＜出演＞\n ・アリス帝国\n ・The Daily men\n ・Heavy Metal Hippies(熊本)\n ・TRIBAL RED\n ・THE YEAHYEAH MONKEY\n ・The Secret Mon☆s\n ・Actor Checkers(久留米)
URL:https://beats.stars.ne.jp/schedule/be-comming-it-%e3%80%9c%e3%83%93%e3%83%bc%e3%82%ab%e3%83%9f%ef%bc%81%e3%80%9crebirth-ver-1-gw-limited
LOCATION:BEAT STATION\, 福岡市中央区渡辺通4-11-4\, 〒810-0004
END:VEVENT
END:VCALENDAR